BEGIN:VCALENDAR
VERSION:2.0
PRODID:-//Excel Church - ECPv6.15.20//NONSGML v1.0//EN
CALSCALE:GREGORIAN
METHOD:PUBLISH
X-ORIGINAL-URL:https://excelfl.org
X-WR-CALDESC:Events for Excel Church
REFRESH-INTERVAL;VALUE=DURATION:PT1H
X-Robots-Tag:noindex
X-PUBLISHED-TTL:PT1H
BEGIN:VTIMEZONE
TZID:America/New_York
BEGIN:DAYLIGHT
TZOFFSETFROM:-0500
TZOFFSETTO:-0400
TZNAME:EDT
DTSTART:20180311T070000
END:DAYLIGHT
BEGIN:STANDARD
TZOFFSETFROM:-0400
TZOFFSETTO:-0500
TZNAME:EST
DTSTART:20181104T060000
END:STANDARD
BEGIN:DAYLIGHT
TZOFFSETFROM:-0500
TZOFFSETTO:-0400
TZNAME:EDT
DTSTART:20190310T070000
END:DAYLIGHT
BEGIN:STANDARD
TZOFFSETFROM:-0400
TZOFFSETTO:-0500
TZNAME:EST
DTSTART:20191103T060000
END:STANDARD
BEGIN:DAYLIGHT
TZOFFSETFROM:-0500
TZOFFSETTO:-0400
TZNAME:EDT
DTSTART:20200308T070000
END:DAYLIGHT
BEGIN:STANDARD
TZOFFSETFROM:-0400
TZOFFSETTO:-0500
TZNAME:EST
DTSTART:20201101T060000
END:STANDARD
END:VTIMEZONE
BEGIN:VEVENT
DTSTART;TZID=America/New_York:20191124T080000
DTEND;TZID=America/New_York:20191124T100000
DTSTAMP:20260423T201335
CREATED:20190127T025711Z
LAST-MODIFIED:20190414T100418Z
UID:10000615-1574582400-1574589600@excelfl.org
SUMMARY:New Member Growth Track - 4 Essentials to EXCEL in God Part 2 - Ambassador & Servant of Jesus Christ
DESCRIPTION:Our New Member Growth Track is designed to help you connect with your church\, discover your God given strengths\, EXCEL in God\, and EXCEL Life. The Growth Track is made up of the following four steps: \nStep 1 – New Members Orientation (1st Sundays\, 8:00 am – 10:00 am) \nStep 2 – Discover Your Strengths (2nd Sundays\, 8:00 am – 9:30 am) \nStep 3 – 4 Essentials to EXCEL in God  Part 1 – Believer & Disciple (3rd Sundays\, 8:00 am – 10:00 am) \nStep 4 – 4 Essentials to EXCEL in God  Part 2 – Ambassador & Servant (4th Sundays\, 8:00 am – 10:00 am) \nPlease note that you do not have to begin at Step 1.  Sign up now to get started at the upcoming class. \nSign Up Now!
URL:https://excelfl.org/event/new-member-growth-track-4-essentials-to-excel-in-god-part-2-ambassador-servant/2019-11-24/
LOCATION:Excel Church\, 3563 Philips Highway\, Jacksonville\, FL\, 32207\, United States
CATEGORIES:Events,Growth Track
ATTACH;FMTTYPE=image/jpeg:https://excelfl.org/wp-content/uploads/2019/02/NewMemberGrowthTrackWebad-1.jpg
GEO:30.2907109;-81.634021
X-APPLE-STRUCTURED-LOCATION;VALUE=URI;X-ADDRESS=Excel Church 3563 Philips Highway Jacksonville FL 32207 United States;X-APPLE-RADIUS=500;X-TITLE=3563 Philips Highway:geo:-81.634021,30.2907109
END:VEVENT
BEGIN:VEVENT
DTSTART;TZID=America/New_York:20191027T080000
DTEND;TZID=America/New_York:20191027T100000
DTSTAMP:20260423T201335
CREATED:20190127T025711Z
LAST-MODIFIED:20190414T100418Z
UID:10000614-1572163200-1572170400@excelfl.org
SUMMARY:New Member Growth Track - 4 Essentials to EXCEL in God Part 2 - Ambassador & Servant of Jesus Christ
DESCRIPTION:Our New Member Growth Track is designed to help you connect with your church\, discover your God given strengths\, EXCEL in God\, and EXCEL Life. The Growth Track is made up of the following four steps: \nStep 1 – New Members Orientation (1st Sundays\, 8:00 am – 10:00 am) \nStep 2 – Discover Your Strengths (2nd Sundays\, 8:00 am – 9:30 am) \nStep 3 – 4 Essentials to EXCEL in God  Part 1 – Believer & Disciple (3rd Sundays\, 8:00 am – 10:00 am) \nStep 4 – 4 Essentials to EXCEL in God  Part 2 – Ambassador & Servant (4th Sundays\, 8:00 am – 10:00 am) \nPlease note that you do not have to begin at Step 1.  Sign up now to get started at the upcoming class. \nSign Up Now!
URL:https://excelfl.org/event/new-member-growth-track-4-essentials-to-excel-in-god-part-2-ambassador-servant/2019-10-27/
LOCATION:Excel Church\, 3563 Philips Highway\, Jacksonville\, FL\, 32207\, United States
CATEGORIES:Events,Growth Track
ATTACH;FMTTYPE=image/jpeg:https://excelfl.org/wp-content/uploads/2019/02/NewMemberGrowthTrackWebad-1.jpg
GEO:30.2907109;-81.634021
X-APPLE-STRUCTURED-LOCATION;VALUE=URI;X-ADDRESS=Excel Church 3563 Philips Highway Jacksonville FL 32207 United States;X-APPLE-RADIUS=500;X-TITLE=3563 Philips Highway:geo:-81.634021,30.2907109
END:VEVENT
BEGIN:VEVENT
DTSTART;TZID=America/New_York:20190922T080000
DTEND;TZID=America/New_York:20190922T100000
DTSTAMP:20260423T201335
CREATED:20190127T025711Z
LAST-MODIFIED:20190414T100418Z
UID:10000613-1569139200-1569146400@excelfl.org
SUMMARY:New Member Growth Track - 4 Essentials to EXCEL in God Part 2 - Ambassador & Servant of Jesus Christ
DESCRIPTION:Our New Member Growth Track is designed to help you connect with your church\, discover your God given strengths\, EXCEL in God\, and EXCEL Life. The Growth Track is made up of the following four steps: \nStep 1 – New Members Orientation (1st Sundays\, 8:00 am – 10:00 am) \nStep 2 – Discover Your Strengths (2nd Sundays\, 8:00 am – 9:30 am) \nStep 3 – 4 Essentials to EXCEL in God  Part 1 – Believer & Disciple (3rd Sundays\, 8:00 am – 10:00 am) \nStep 4 – 4 Essentials to EXCEL in God  Part 2 – Ambassador & Servant (4th Sundays\, 8:00 am – 10:00 am) \nPlease note that you do not have to begin at Step 1.  Sign up now to get started at the upcoming class. \nSign Up Now!
URL:https://excelfl.org/event/new-member-growth-track-4-essentials-to-excel-in-god-part-2-ambassador-servant/2019-09-22/
LOCATION:Excel Church\, 3563 Philips Highway\, Jacksonville\, FL\, 32207\, United States
CATEGORIES:Events,Growth Track
ATTACH;FMTTYPE=image/jpeg:https://excelfl.org/wp-content/uploads/2019/02/NewMemberGrowthTrackWebad-1.jpg
GEO:30.2907109;-81.634021
X-APPLE-STRUCTURED-LOCATION;VALUE=URI;X-ADDRESS=Excel Church 3563 Philips Highway Jacksonville FL 32207 United States;X-APPLE-RADIUS=500;X-TITLE=3563 Philips Highway:geo:-81.634021,30.2907109
END:VEVENT
BEGIN:VEVENT
DTSTART;TZID=America/New_York:20190825T080000
DTEND;TZID=America/New_York:20190825T100000
DTSTAMP:20260423T201335
CREATED:20190127T025711Z
LAST-MODIFIED:20190414T100418Z
UID:10000612-1566720000-1566727200@excelfl.org
SUMMARY:New Member Growth Track - 4 Essentials to EXCEL in God Part 2 - Ambassador & Servant of Jesus Christ
DESCRIPTION:Our New Member Growth Track is designed to help you connect with your church\, discover your God given strengths\, EXCEL in God\, and EXCEL Life. The Growth Track is made up of the following four steps: \nStep 1 – New Members Orientation (1st Sundays\, 8:00 am – 10:00 am) \nStep 2 – Discover Your Strengths (2nd Sundays\, 8:00 am – 9:30 am) \nStep 3 – 4 Essentials to EXCEL in God  Part 1 – Believer & Disciple (3rd Sundays\, 8:00 am – 10:00 am) \nStep 4 – 4 Essentials to EXCEL in God  Part 2 – Ambassador & Servant (4th Sundays\, 8:00 am – 10:00 am) \nPlease note that you do not have to begin at Step 1.  Sign up now to get started at the upcoming class. \nSign Up Now!
URL:https://excelfl.org/event/new-member-growth-track-4-essentials-to-excel-in-god-part-2-ambassador-servant/2019-08-25/
LOCATION:Excel Church\, 3563 Philips Highway\, Jacksonville\, FL\, 32207\, United States
CATEGORIES:Events,Growth Track
ATTACH;FMTTYPE=image/jpeg:https://excelfl.org/wp-content/uploads/2019/02/NewMemberGrowthTrackWebad-1.jpg
GEO:30.2907109;-81.634021
X-APPLE-STRUCTURED-LOCATION;VALUE=URI;X-ADDRESS=Excel Church 3563 Philips Highway Jacksonville FL 32207 United States;X-APPLE-RADIUS=500;X-TITLE=3563 Philips Highway:geo:-81.634021,30.2907109
END:VEVENT
BEGIN:VEVENT
DTSTART;TZID=America/New_York:20190728T080000
DTEND;TZID=America/New_York:20190728T100000
DTSTAMP:20260423T201335
CREATED:20190127T025711Z
LAST-MODIFIED:20190414T100418Z
UID:10000611-1564300800-1564308000@excelfl.org
SUMMARY:New Member Growth Track - 4 Essentials to EXCEL in God Part 2 - Ambassador & Servant of Jesus Christ
DESCRIPTION:Our New Member Growth Track is designed to help you connect with your church\, discover your God given strengths\, EXCEL in God\, and EXCEL Life. The Growth Track is made up of the following four steps: \nStep 1 – New Members Orientation (1st Sundays\, 8:00 am – 10:00 am) \nStep 2 – Discover Your Strengths (2nd Sundays\, 8:00 am – 9:30 am) \nStep 3 – 4 Essentials to EXCEL in God  Part 1 – Believer & Disciple (3rd Sundays\, 8:00 am – 10:00 am) \nStep 4 – 4 Essentials to EXCEL in God  Part 2 – Ambassador & Servant (4th Sundays\, 8:00 am – 10:00 am) \nPlease note that you do not have to begin at Step 1.  Sign up now to get started at the upcoming class. \nSign Up Now!
URL:https://excelfl.org/event/new-member-growth-track-4-essentials-to-excel-in-god-part-2-ambassador-servant/2019-07-28/
LOCATION:Excel Church\, 3563 Philips Highway\, Jacksonville\, FL\, 32207\, United States
CATEGORIES:Events,Growth Track
ATTACH;FMTTYPE=image/jpeg:https://excelfl.org/wp-content/uploads/2019/02/NewMemberGrowthTrackWebad-1.jpg
GEO:30.2907109;-81.634021
X-APPLE-STRUCTURED-LOCATION;VALUE=URI;X-ADDRESS=Excel Church 3563 Philips Highway Jacksonville FL 32207 United States;X-APPLE-RADIUS=500;X-TITLE=3563 Philips Highway:geo:-81.634021,30.2907109
END:VEVENT
BEGIN:VEVENT
DTSTART;TZID=America/New_York:20190623T080000
DTEND;TZID=America/New_York:20190623T100000
DTSTAMP:20260423T201335
CREATED:20190127T025711Z
LAST-MODIFIED:20190414T100418Z
UID:10000610-1561276800-1561284000@excelfl.org
SUMMARY:New Member Growth Track - 4 Essentials to EXCEL in God Part 2 - Ambassador & Servant of Jesus Christ
DESCRIPTION:Our New Member Growth Track is designed to help you connect with your church\, discover your God given strengths\, EXCEL in God\, and EXCEL Life. The Growth Track is made up of the following four steps: \nStep 1 – New Members Orientation (1st Sundays\, 8:00 am – 10:00 am) \nStep 2 – Discover Your Strengths (2nd Sundays\, 8:00 am – 9:30 am) \nStep 3 – 4 Essentials to EXCEL in God  Part 1 – Believer & Disciple (3rd Sundays\, 8:00 am – 10:00 am) \nStep 4 – 4 Essentials to EXCEL in God  Part 2 – Ambassador & Servant (4th Sundays\, 8:00 am – 10:00 am) \nPlease note that you do not have to begin at Step 1.  Sign up now to get started at the upcoming class. \nSign Up Now!
URL:https://excelfl.org/event/new-member-growth-track-4-essentials-to-excel-in-god-part-2-ambassador-servant/2019-06-23/
LOCATION:Excel Church\, 3563 Philips Highway\, Jacksonville\, FL\, 32207\, United States
CATEGORIES:Events,Growth Track
ATTACH;FMTTYPE=image/jpeg:https://excelfl.org/wp-content/uploads/2019/02/NewMemberGrowthTrackWebad-1.jpg
GEO:30.2907109;-81.634021
X-APPLE-STRUCTURED-LOCATION;VALUE=URI;X-ADDRESS=Excel Church 3563 Philips Highway Jacksonville FL 32207 United States;X-APPLE-RADIUS=500;X-TITLE=3563 Philips Highway:geo:-81.634021,30.2907109
END:VEVENT
BEGIN:VEVENT
DTSTART;TZID=America/New_York:20190526T080000
DTEND;TZID=America/New_York:20190526T100000
DTSTAMP:20260423T201335
CREATED:20190127T025711Z
LAST-MODIFIED:20190414T100418Z
UID:10000609-1558857600-1558864800@excelfl.org
SUMMARY:New Member Growth Track - 4 Essentials to EXCEL in God Part 2 - Ambassador & Servant of Jesus Christ
DESCRIPTION:Our New Member Growth Track is designed to help you connect with your church\, discover your God given strengths\, EXCEL in God\, and EXCEL Life. The Growth Track is made up of the following four steps: \nStep 1 – New Members Orientation (1st Sundays\, 8:00 am – 10:00 am) \nStep 2 – Discover Your Strengths (2nd Sundays\, 8:00 am – 9:30 am) \nStep 3 – 4 Essentials to EXCEL in God  Part 1 – Believer & Disciple (3rd Sundays\, 8:00 am – 10:00 am) \nStep 4 – 4 Essentials to EXCEL in God  Part 2 – Ambassador & Servant (4th Sundays\, 8:00 am – 10:00 am) \nPlease note that you do not have to begin at Step 1.  Sign up now to get started at the upcoming class. \nSign Up Now!
URL:https://excelfl.org/event/new-member-growth-track-4-essentials-to-excel-in-god-part-2-ambassador-servant/2019-05-26/
LOCATION:Excel Church\, 3563 Philips Highway\, Jacksonville\, FL\, 32207\, United States
CATEGORIES:Events,Growth Track
ATTACH;FMTTYPE=image/jpeg:https://excelfl.org/wp-content/uploads/2019/02/NewMemberGrowthTrackWebad-1.jpg
GEO:30.2907109;-81.634021
X-APPLE-STRUCTURED-LOCATION;VALUE=URI;X-ADDRESS=Excel Church 3563 Philips Highway Jacksonville FL 32207 United States;X-APPLE-RADIUS=500;X-TITLE=3563 Philips Highway:geo:-81.634021,30.2907109
END:VEVENT
BEGIN:VEVENT
DTSTART;TZID=America/New_York:20190428T080000
DTEND;TZID=America/New_York:20190428T100000
DTSTAMP:20260423T201335
CREATED:20190127T025711Z
LAST-MODIFIED:20190414T100418Z
UID:10000608-1556438400-1556445600@excelfl.org
SUMMARY:New Member Growth Track - 4 Essentials to EXCEL in God Part 2 - Ambassador & Servant of Jesus Christ
DESCRIPTION:Our New Member Growth Track is designed to help you connect with your church\, discover your God given strengths\, EXCEL in God\, and EXCEL Life. The Growth Track is made up of the following four steps: \nStep 1 – New Members Orientation (1st Sundays\, 8:00 am – 10:00 am) \nStep 2 – Discover Your Strengths (2nd Sundays\, 8:00 am – 9:30 am) \nStep 3 – 4 Essentials to EXCEL in God  Part 1 – Believer & Disciple (3rd Sundays\, 8:00 am – 10:00 am) \nStep 4 – 4 Essentials to EXCEL in God  Part 2 – Ambassador & Servant (4th Sundays\, 8:00 am – 10:00 am) \nPlease note that you do not have to begin at Step 1.  Sign up now to get started at the upcoming class. \nSign Up Now!
URL:https://excelfl.org/event/new-member-growth-track-4-essentials-to-excel-in-god-part-2-ambassador-servant/2019-04-28/
LOCATION:Excel Church\, 3563 Philips Highway\, Jacksonville\, FL\, 32207\, United States
CATEGORIES:Events,Growth Track
ATTACH;FMTTYPE=image/jpeg:https://excelfl.org/wp-content/uploads/2019/02/NewMemberGrowthTrackWebad-1.jpg
GEO:30.2907109;-81.634021
X-APPLE-STRUCTURED-LOCATION;VALUE=URI;X-ADDRESS=Excel Church 3563 Philips Highway Jacksonville FL 32207 United States;X-APPLE-RADIUS=500;X-TITLE=3563 Philips Highway:geo:-81.634021,30.2907109
END:VEVENT
BEGIN:VEVENT
DTSTART;TZID=America/New_York:20190324T080000
DTEND;TZID=America/New_York:20190324T100000
DTSTAMP:20260423T201335
CREATED:20190127T025711Z
LAST-MODIFIED:20190414T100418Z
UID:10000607-1553414400-1553421600@excelfl.org
SUMMARY:New Member Growth Track - 4 Essentials to EXCEL in God Part 2 - Ambassador & Servant of Jesus Christ
DESCRIPTION:Our New Member Growth Track is designed to help you connect with your church\, discover your God given strengths\, EXCEL in God\, and EXCEL Life. The Growth Track is made up of the following four steps: \nStep 1 – New Members Orientation (1st Sundays\, 8:00 am – 10:00 am) \nStep 2 – Discover Your Strengths (2nd Sundays\, 8:00 am – 9:30 am) \nStep 3 – 4 Essentials to EXCEL in God  Part 1 – Believer & Disciple (3rd Sundays\, 8:00 am – 10:00 am) \nStep 4 – 4 Essentials to EXCEL in God  Part 2 – Ambassador & Servant (4th Sundays\, 8:00 am – 10:00 am) \nPlease note that you do not have to begin at Step 1.  Sign up now to get started at the upcoming class. \nSign Up Now!
URL:https://excelfl.org/event/new-member-growth-track-4-essentials-to-excel-in-god-part-2-ambassador-servant/2019-03-24/
LOCATION:Excel Church\, 3563 Philips Highway\, Jacksonville\, FL\, 32207\, United States
CATEGORIES:Events,Growth Track
ATTACH;FMTTYPE=image/jpeg:https://excelfl.org/wp-content/uploads/2019/02/NewMemberGrowthTrackWebad-1.jpg
GEO:30.2907109;-81.634021
X-APPLE-STRUCTURED-LOCATION;VALUE=URI;X-ADDRESS=Excel Church 3563 Philips Highway Jacksonville FL 32207 United States;X-APPLE-RADIUS=500;X-TITLE=3563 Philips Highway:geo:-81.634021,30.2907109
END:VEVENT
BEGIN:VEVENT
DTSTART;TZID=America/New_York:20190224T080000
DTEND;TZID=America/New_York:20190224T100000
DTSTAMP:20260423T201335
CREATED:20190127T025711Z
LAST-MODIFIED:20190414T100418Z
UID:10000606-1550995200-1551002400@excelfl.org
SUMMARY:New Member Growth Track - 4 Essentials to EXCEL in God Part 2 - Ambassador & Servant of Jesus Christ
DESCRIPTION:Our New Member Growth Track is designed to help you connect with your church\, discover your God given strengths\, EXCEL in God\, and EXCEL Life. The Growth Track is made up of the following four steps: \nStep 1 – New Members Orientation (1st Sundays\, 8:00 am – 10:00 am) \nStep 2 – Discover Your Strengths (2nd Sundays\, 8:00 am – 9:30 am) \nStep 3 – 4 Essentials to EXCEL in God  Part 1 – Believer & Disciple (3rd Sundays\, 8:00 am – 10:00 am) \nStep 4 – 4 Essentials to EXCEL in God  Part 2 – Ambassador & Servant (4th Sundays\, 8:00 am – 10:00 am) \nPlease note that you do not have to begin at Step 1.  Sign up now to get started at the upcoming class. \nSign Up Now!
URL:https://excelfl.org/event/new-member-growth-track-4-essentials-to-excel-in-god-part-2-ambassador-servant/2019-02-24/
LOCATION:Excel Church\, 3563 Philips Highway\, Jacksonville\, FL\, 32207\, United States
CATEGORIES:Events,Growth Track
ATTACH;FMTTYPE=image/jpeg:https://excelfl.org/wp-content/uploads/2019/02/NewMemberGrowthTrackWebad-1.jpg
GEO:30.2907109;-81.634021
X-APPLE-STRUCTURED-LOCATION;VALUE=URI;X-ADDRESS=Excel Church 3563 Philips Highway Jacksonville FL 32207 United States;X-APPLE-RADIUS=500;X-TITLE=3563 Philips Highway:geo:-81.634021,30.2907109
END:VEVENT
END:VCALENDAR