BEGIN:VCALENDAR
VERSION:2.0
PRODID:-//Excel Church - ECPv6.15.20//NONSGML v1.0//EN
CALSCALE:GREGORIAN
METHOD:PUBLISH
X-WR-CALNAME:Excel Church
X-ORIGINAL-URL:https://excelfl.org
X-WR-CALDESC:Events for Excel Church
REFRESH-INTERVAL;VALUE=DURATION:PT1H
X-Robots-Tag:noindex
X-PUBLISHED-TTL:PT1H
BEGIN:VTIMEZONE
TZID:America/New_York
BEGIN:DAYLIGHT
TZOFFSETFROM:-0500
TZOFFSETTO:-0400
TZNAME:EDT
DTSTART:20170312T070000
END:DAYLIGHT
BEGIN:STANDARD
TZOFFSETFROM:-0400
TZOFFSETTO:-0500
TZNAME:EST
DTSTART:20171105T060000
END:STANDARD
BEGIN:DAYLIGHT
TZOFFSETFROM:-0500
TZOFFSETTO:-0400
TZNAME:EDT
DTSTART:20180311T070000
END:DAYLIGHT
BEGIN:STANDARD
TZOFFSETFROM:-0400
TZOFFSETTO:-0500
TZNAME:EST
DTSTART:20181104T060000
END:STANDARD
BEGIN:DAYLIGHT
TZOFFSETFROM:-0500
TZOFFSETTO:-0400
TZNAME:EDT
DTSTART:20190310T070000
END:DAYLIGHT
BEGIN:STANDARD
TZOFFSETFROM:-0400
TZOFFSETTO:-0500
TZNAME:EST
DTSTART:20191103T060000
END:STANDARD
END:VTIMEZONE
BEGIN:VEVENT
DTSTART;TZID=America/New_York:20180510T190000
DTEND;TZID=America/New_York:20180510T210000
DTSTAMP:20260423T141355
CREATED:20180422T002911Z
LAST-MODIFIED:20180507T114942Z
UID:10000469-1525978800-1525986000@excelfl.org
SUMMARY:Bereavement Class
DESCRIPTION:Losing someone you love IS difficult. Whether recent or years past\, the loss of your loved one has an impact ON YOU. You don’t have to be strong alone. Join us at Excel Church on Thursday nights at 7pm from May 3rd through May 24th. Our free BEREAVEMENT class IS designed to help you cope AND LIVE A LIFE FULL OF JOY AND HOPE. Adults only please. No childcare IS provided. Sign up online at www.excelfl.org.\n\nRegister Here
URL:https://excelfl.org/event/bereavement-class/2018-05-10/
LOCATION:Excel Church\, 3563 Philips Highway\, Jacksonville\, FL\, 32207\, United States
CATEGORIES:Events,Meeting
ATTACH;FMTTYPE=image/jpeg:https://excelfl.org/wp-content/uploads/2018/04/720x406BerevementWebad.jpg
GEO:30.2907109;-81.634021
X-APPLE-STRUCTURED-LOCATION;VALUE=URI;X-ADDRESS=Excel Church 3563 Philips Highway Jacksonville FL 32207 United States;X-APPLE-RADIUS=500;X-TITLE=3563 Philips Highway:geo:-81.634021,30.2907109
END:VEVENT
BEGIN:VEVENT
DTSTART;TZID=America/New_York:20180503T190000
DTEND;TZID=America/New_York:20180503T210000
DTSTAMP:20260423T141355
CREATED:20180422T002911Z
LAST-MODIFIED:20180507T114942Z
UID:10000468-1525374000-1525381200@excelfl.org
SUMMARY:Bereavement Class
DESCRIPTION:Losing someone you love IS difficult. Whether recent or years past\, the loss of your loved one has an impact ON YOU. You don’t have to be strong alone. Join us at Excel Church on Thursday nights at 7pm from May 3rd through May 24th. Our free BEREAVEMENT class IS designed to help you cope AND LIVE A LIFE FULL OF JOY AND HOPE. Adults only please. No childcare IS provided. Sign up online at www.excelfl.org.\n\nRegister Here
URL:https://excelfl.org/event/bereavement-class/2018-05-03/
LOCATION:Excel Church\, 3563 Philips Highway\, Jacksonville\, FL\, 32207\, United States
CATEGORIES:Events,Meeting
ATTACH;FMTTYPE=image/jpeg:https://excelfl.org/wp-content/uploads/2018/04/720x406BerevementWebad.jpg
GEO:30.2907109;-81.634021
X-APPLE-STRUCTURED-LOCATION;VALUE=URI;X-ADDRESS=Excel Church 3563 Philips Highway Jacksonville FL 32207 United States;X-APPLE-RADIUS=500;X-TITLE=3563 Philips Highway:geo:-81.634021,30.2907109
END:VEVENT
BEGIN:VEVENT
DTSTART;TZID=America/New_York:20180407T100000
DTEND;TZID=America/New_York:20180407T230000
DTSTAMP:20260423T141355
CREATED:20180121T123004Z
LAST-MODIFIED:20180406T134410Z
UID:10000481-1523095200-1523142000@excelfl.org
SUMMARY:Department Leaders Meeting
DESCRIPTION:Attention Excel Department Leaders! On Saturday\, April 7th at 10am\, Pastors will be meeting with us for a powerful time of direction and impartation as we continue to excel in this new year. You are anointed to engage\, encourage\, enrich\, empower and excel. So\, if you are a department leader\, mark your calendars and get ready to grow and excel in God\, in life and in this ministry! \nThis is a closed meeting for Department Leaders Only
URL:https://excelfl.org/event/department-leaders-meeting/
LOCATION:Excel Church\, 3563 Philips Highway\, Jacksonville\, FL\, 32207\, United States
CATEGORIES:Events,Meeting
ATTACH;FMTTYPE=image/jpeg:https://excelfl.org/wp-content/uploads/2018/03/720x406AprilDepartmentMeetingWebad.jpg
GEO:30.2907109;-81.634021
X-APPLE-STRUCTURED-LOCATION;VALUE=URI;X-ADDRESS=Excel Church 3563 Philips Highway Jacksonville FL 32207 United States;X-APPLE-RADIUS=500;X-TITLE=3563 Philips Highway:geo:-81.634021,30.2907109
END:VEVENT
END:VCALENDAR