BEGIN:VCALENDAR
VERSION:2.0
PRODID:-//Excel Church - ECPv6.15.20//NONSGML v1.0//EN
CALSCALE:GREGORIAN
METHOD:PUBLISH
X-ORIGINAL-URL:https://excelfl.org
X-WR-CALDESC:Events for Excel Church
REFRESH-INTERVAL;VALUE=DURATION:PT1H
X-Robots-Tag:noindex
X-PUBLISHED-TTL:PT1H
BEGIN:VTIMEZONE
TZID:America/New_York
BEGIN:DAYLIGHT
TZOFFSETFROM:-0500
TZOFFSETTO:-0400
TZNAME:EDT
DTSTART:20210314T070000
END:DAYLIGHT
BEGIN:STANDARD
TZOFFSETFROM:-0400
TZOFFSETTO:-0500
TZNAME:EST
DTSTART:20211107T060000
END:STANDARD
BEGIN:DAYLIGHT
TZOFFSETFROM:-0500
TZOFFSETTO:-0400
TZNAME:EDT
DTSTART:20220313T070000
END:DAYLIGHT
BEGIN:STANDARD
TZOFFSETFROM:-0400
TZOFFSETTO:-0500
TZNAME:EST
DTSTART:20221106T060000
END:STANDARD
BEGIN:DAYLIGHT
TZOFFSETFROM:-0500
TZOFFSETTO:-0400
TZNAME:EDT
DTSTART:20230312T070000
END:DAYLIGHT
BEGIN:STANDARD
TZOFFSETFROM:-0400
TZOFFSETTO:-0500
TZNAME:EST
DTSTART:20231105T060000
END:STANDARD
END:VTIMEZONE
BEGIN:VEVENT
DTSTART;TZID=America/New_York:20220814T100000
DTEND;TZID=America/New_York:20220814T103000
DTSTAMP:20260425T214216
CREATED:20220723T121414Z
LAST-MODIFIED:20220723T121414Z
UID:10001011-1660471200-1660473000@excelfl.org
SUMMARY:School and Career Prayer
DESCRIPTION:The new school year is starting soon and EXCEL Church believes in starting it with prayer. We will be praying for the following: \n\nStudents of all ages\nTeachers and employees in the field of education\nOur EXCEL Kids and EXCEL D612 Youth volunteers\nThose starting college\, an internship\, a career\, or joining the military\n\nPastors Derrick and Zelphia invite you to join us during our Sunday Service on August 14th at 10:00 am to receive a special prayer of blessing.
URL:https://excelfl.org/event/school-and-career-prayer-2/
LOCATION:Excel Church\, 3563 Philips Highway\, Jacksonville\, FL\, 32207\, United States
CATEGORIES:Events
ATTACH;FMTTYPE=image/jpeg:https://excelfl.org/wp-content/uploads/2022/07/School-and-Career-Prayer-Web.jpg
ORGANIZER;CN="EXCEL Church":MAILTO:events@excelfl.org
GEO:30.2907109;-81.634021
X-APPLE-STRUCTURED-LOCATION;VALUE=URI;X-ADDRESS=Excel Church 3563 Philips Highway Jacksonville FL 32207 United States;X-APPLE-RADIUS=500;X-TITLE=3563 Philips Highway:geo:-81.634021,30.2907109
END:VEVENT
END:VCALENDAR