BEGIN:VCALENDAR
VERSION:2.0
PRODID:-//Excel Church - ECPv6.15.20//NONSGML v1.0//EN
CALSCALE:GREGORIAN
METHOD:PUBLISH
X-WR-CALNAME:Excel Church
X-ORIGINAL-URL:https://excelfl.org
X-WR-CALDESC:Events for Excel Church
REFRESH-INTERVAL;VALUE=DURATION:PT1H
X-Robots-Tag:noindex
X-PUBLISHED-TTL:PT1H
BEGIN:VTIMEZONE
TZID:America/New_York
BEGIN:DAYLIGHT
TZOFFSETFROM:-0500
TZOFFSETTO:-0400
TZNAME:EDT
DTSTART:20210314T070000
END:DAYLIGHT
BEGIN:STANDARD
TZOFFSETFROM:-0400
TZOFFSETTO:-0500
TZNAME:EST
DTSTART:20211107T060000
END:STANDARD
BEGIN:DAYLIGHT
TZOFFSETFROM:-0500
TZOFFSETTO:-0400
TZNAME:EDT
DTSTART:20220313T070000
END:DAYLIGHT
BEGIN:STANDARD
TZOFFSETFROM:-0400
TZOFFSETTO:-0500
TZNAME:EST
DTSTART:20221106T060000
END:STANDARD
BEGIN:DAYLIGHT
TZOFFSETFROM:-0500
TZOFFSETTO:-0400
TZNAME:EDT
DTSTART:20230312T070000
END:DAYLIGHT
BEGIN:STANDARD
TZOFFSETFROM:-0400
TZOFFSETTO:-0500
TZNAME:EST
DTSTART:20231105T060000
END:STANDARD
END:VTIMEZONE
BEGIN:VEVENT
DTSTART;TZID=America/New_York:20220911T100000
DTEND;TZID=America/New_York:20220911T113000
DTSTAMP:20260425T201210
CREATED:20220811T135934Z
LAST-MODIFIED:20220811T150004Z
UID:10001012-1662890400-1662895800@excelfl.org
SUMMARY:Jersey Sunday 2022
DESCRIPTION:Jersey Sunday 2022 kicks off Sunday\, September 11th at 10 AM!  \n\n\nCome to church rockin’ your favorite Jersey\, be enriched by the Word and enjoy post-service activities including; food trucks\, games\, and fellowship!  \n\n\nJERSEY SUNDAY CHALLENGE!!!  \n\n\n\n Ain’t no challenge like an EXCEL challenge! \nPost a picture on Facebook showcasing your best team spirit using the hashtag #JS22!\nWe have cash prizes for the first\, second\, and third place winners!   \nAll submissions are due by Wednesday\, September 7th! \nDon’t miss your opportunity to win! \n\n\n\nShow up and show out for Jersey Sunday 2022! We’ll see you there! 
URL:https://excelfl.org/event/jersey-sunday-2022/
LOCATION:Excel Church\, 3563 Philips Highway\, Jacksonville\, FL\, 32207\, United States
CATEGORIES:Events
ATTACH;FMTTYPE=image/jpeg:https://excelfl.org/wp-content/uploads/2022/08/Event-Page-Graphic.jpg
ORGANIZER;CN="EXCEL Church":MAILTO:events@excelfl.org
GEO:30.2907109;-81.634021
X-APPLE-STRUCTURED-LOCATION;VALUE=URI;X-ADDRESS=Excel Church 3563 Philips Highway Jacksonville FL 32207 United States;X-APPLE-RADIUS=500;X-TITLE=3563 Philips Highway:geo:-81.634021,30.2907109
END:VEVENT
BEGIN:VEVENT
DTSTART;TZID=America/New_York:20220912T190000
DTEND;TZID=America/New_York:20220912T193000
DTSTAMP:20260425T201210
CREATED:20211226T164743Z
LAST-MODIFIED:20220830T182015Z
UID:10000618-1663009200-1663011000@excelfl.org
SUMMARY:Prayer Call
DESCRIPTION:We are super excited to have you join us on the prayer line tonight.  It will be a powerful time in The Lord! \nWe will host these prayer calls on the first Monday of each month from 7:00 pm- 7:30 pm. \nWe are in the midst of trying times concerning the corona virus. We will pray corporately to push back against this virus and its effects. We will pray for all who have been hit directly or indirectly. Our Father has given us the power and authority to speak to every situation that is contrary to His Word and His promises.  See call information below: \n\n\n\nDays: First Monday of each month\nTime: 7:00 pm -7:30 pm\nTelephone #: 862-799-9958\n\nTo join us on the call via the Free Conference Call App: \n\nYou will need to download the App. Please see link below.\nClick Join a meeting\nOnline Meeting ID: excelchurchfl\nClick Call In or Call in using WIFI or Data\nAdd your Name and Email address\nClick Let’s go\nYou will then be on the line\nPlease be sure to mute your phone\n\n      
URL:https://excelfl.org/event/prayer-call-2-2022-09-05/
LOCATION:Excel Church\, 3563 Philips Highway\, Jacksonville\, FL\, 32207\, United States
CATEGORIES:Events
ATTACH;FMTTYPE=image/png:https://excelfl.org/wp-content/uploads/2021/12/Prayer-Call-03-01.png
ORGANIZER;CN="EXCEL Church":MAILTO:events@excelfl.org
GEO:30.2907109;-81.634021
X-APPLE-STRUCTURED-LOCATION;VALUE=URI;X-ADDRESS=Excel Church 3563 Philips Highway Jacksonville FL 32207 United States;X-APPLE-RADIUS=500;X-TITLE=3563 Philips Highway:geo:-81.634021,30.2907109
END:VEVENT
BEGIN:VEVENT
DTSTART;TZID=America/New_York:20220917T100000
DTEND;TZID=America/New_York:20220917T120000
DTSTAMP:20260425T201210
CREATED:20220828T154103Z
LAST-MODIFIED:20220828T154103Z
UID:10001013-1663408800-1663416000@excelfl.org
SUMMARY:Music Ministry Audition
DESCRIPTION:Our EXCEL Music Ministry will be holding auditions on Saturday\, September 17th at 10:00 am. \nWe are looking for vocalists to join our ensemble. \nTo register\, click here. \n 
URL:https://excelfl.org/event/music-ministry-audition/
LOCATION:Excel Church\, 3563 Philips Highway\, Jacksonville\, FL\, 32207\, United States
CATEGORIES:Events
ATTACH;FMTTYPE=image/jpeg:https://excelfl.org/wp-content/uploads/2022/08/Music-Ministry-Auditions-Slide-1.jpg
ORGANIZER;CN="EXCEL Church":MAILTO:events@excelfl.org
GEO:30.2907109;-81.634021
X-APPLE-STRUCTURED-LOCATION;VALUE=URI;X-ADDRESS=Excel Church 3563 Philips Highway Jacksonville FL 32207 United States;X-APPLE-RADIUS=500;X-TITLE=3563 Philips Highway:geo:-81.634021,30.2907109
END:VEVENT
END:VCALENDAR