BEGIN:VCALENDAR
VERSION:2.0
PRODID:-//Excel Church - ECPv6.15.20//NONSGML v1.0//EN
CALSCALE:GREGORIAN
METHOD:PUBLISH
X-ORIGINAL-URL:https://excelfl.org
X-WR-CALDESC:Events for Excel Church
REFRESH-INTERVAL;VALUE=DURATION:PT1H
X-Robots-Tag:noindex
X-PUBLISHED-TTL:PT1H
BEGIN:VTIMEZONE
TZID:America/New_York
BEGIN:DAYLIGHT
TZOFFSETFROM:-0500
TZOFFSETTO:-0400
TZNAME:EDT
DTSTART:20210314T070000
END:DAYLIGHT
BEGIN:STANDARD
TZOFFSETFROM:-0400
TZOFFSETTO:-0500
TZNAME:EST
DTSTART:20211107T060000
END:STANDARD
BEGIN:DAYLIGHT
TZOFFSETFROM:-0500
TZOFFSETTO:-0400
TZNAME:EDT
DTSTART:20220313T070000
END:DAYLIGHT
BEGIN:STANDARD
TZOFFSETFROM:-0400
TZOFFSETTO:-0500
TZNAME:EST
DTSTART:20221106T060000
END:STANDARD
BEGIN:DAYLIGHT
TZOFFSETFROM:-0500
TZOFFSETTO:-0400
TZNAME:EDT
DTSTART:20230312T070000
END:DAYLIGHT
BEGIN:STANDARD
TZOFFSETFROM:-0400
TZOFFSETTO:-0500
TZNAME:EST
DTSTART:20231105T060000
END:STANDARD
END:VTIMEZONE
BEGIN:VEVENT
DTSTART;TZID=America/New_York:20221214T190000
DTEND;TZID=America/New_York:20221214T201500
DTSTAMP:20260425T153148
CREATED:20201119T203241Z
LAST-MODIFIED:20221201T205059Z
UID:10000734-1671044400-1671048900@excelfl.org
SUMMARY:Calling Down the Heavens
DESCRIPTION:EXCEL family and friends\, you are invited to a night of prayer on Wednesday\, December 14th at 7:00 pm.\n \nAs it says in Jeremiah 29:12\, as we call upon God and pray to Him\, He will hear us! The Lord is always listening\, and prayer is our direct line to Him. We are believing for miracles and breakthroughs as we partner with our Heavenly Father to “call down the Heavens.” \n \nTo join us via livestream at 7:00 pm\, click here.\n\nWe want to join together corporately and add our faith concerning what you are believing God for so be sure to submit your prayer request.
URL:https://excelfl.org/event/calling-down-the-heavens-2/
LOCATION:Excel Church\, 3563 Philips Highway\, Jacksonville\, FL\, 32207\, United States
CATEGORIES:Events
ATTACH;FMTTYPE=image/jpeg:https://excelfl.org/wp-content/uploads/2020/11/Calling-Down-The-Heavens-Web.jpg
ORGANIZER;CN="EXCEL Church":MAILTO:events@excelfl.org
GEO:30.2907109;-81.634021
X-APPLE-STRUCTURED-LOCATION;VALUE=URI;X-ADDRESS=Excel Church 3563 Philips Highway Jacksonville FL 32207 United States;X-APPLE-RADIUS=500;X-TITLE=3563 Philips Highway:geo:-81.634021,30.2907109
END:VEVENT
BEGIN:VEVENT
DTSTART;TZID=America/New_York:20221225T100000
DTEND;TZID=America/New_York:20221225T113000
DTSTAMP:20260425T153148
CREATED:20210628T195354Z
LAST-MODIFIED:20221204T113802Z
UID:10001005-1671962400-1671967800@excelfl.org
SUMMARY:Christmas Service - CHURCH AT HOME
DESCRIPTION:We will have Church at Home on Christmas Day\, Sunday\, December 25th.   \nReceive an encouraging word and a prayer of blessing while enjoying time with your loved ones and friends.   \n Please note that this service will be online only!  \n  \nTo join us online click here.
URL:https://excelfl.org/event/sunday-service-38-2021-08-01-2021-08-22-2022-12-25/
LOCATION:Excel Church\, 3563 Philips Highway\, Jacksonville\, FL\, 32207\, United States
CATEGORIES:Service
ATTACH;FMTTYPE=image/jpeg:https://excelfl.org/wp-content/uploads/2021/06/Church-At-Home-Slide.jpg
ORGANIZER;CN="EXCEL Church":MAILTO:events@excelfl.org
GEO:30.2907109;-81.634021
X-APPLE-STRUCTURED-LOCATION;VALUE=URI;X-ADDRESS=Excel Church 3563 Philips Highway Jacksonville FL 32207 United States;X-APPLE-RADIUS=500;X-TITLE=3563 Philips Highway:geo:-81.634021,30.2907109
END:VEVENT
END:VCALENDAR