BEGIN:VCALENDAR
VERSION:2.0
PRODID:-//Excel Church - ECPv6.15.20//NONSGML v1.0//EN
CALSCALE:GREGORIAN
METHOD:PUBLISH
X-WR-CALNAME:Excel Church
X-ORIGINAL-URL:https://excelfl.org
X-WR-CALDESC:Events for Excel Church
REFRESH-INTERVAL;VALUE=DURATION:PT1H
X-Robots-Tag:noindex
X-PUBLISHED-TTL:PT1H
BEGIN:VTIMEZONE
TZID:America/New_York
BEGIN:DAYLIGHT
TZOFFSETFROM:-0500
TZOFFSETTO:-0400
TZNAME:EDT
DTSTART:20220313T070000
END:DAYLIGHT
BEGIN:STANDARD
TZOFFSETFROM:-0400
TZOFFSETTO:-0500
TZNAME:EST
DTSTART:20221106T060000
END:STANDARD
BEGIN:DAYLIGHT
TZOFFSETFROM:-0500
TZOFFSETTO:-0400
TZNAME:EDT
DTSTART:20230312T070000
END:DAYLIGHT
BEGIN:STANDARD
TZOFFSETFROM:-0400
TZOFFSETTO:-0500
TZNAME:EST
DTSTART:20231105T060000
END:STANDARD
BEGIN:DAYLIGHT
TZOFFSETFROM:-0500
TZOFFSETTO:-0400
TZNAME:EDT
DTSTART:20240310T070000
END:DAYLIGHT
BEGIN:STANDARD
TZOFFSETFROM:-0400
TZOFFSETTO:-0500
TZNAME:EST
DTSTART:20241103T060000
END:STANDARD
END:VTIMEZONE
BEGIN:VEVENT
DTSTART;TZID=America/New_York:20230501T190000
DTEND;TZID=America/New_York:20230501T193000
DTSTAMP:20260425T074642
CREATED:20211226T164743Z
LAST-MODIFIED:20230728T193525Z
UID:10000620-1682967600-1682969400@excelfl.org
SUMMARY:Prayer Call
DESCRIPTION:We are super excited to have you join us on the prayer line.  It will be a powerful time in The Lord! \nWe will host these prayer calls on the first Monday of each month from 7:00 pm- 7:30 pm. \nOur Father has given us the power and authority to speak to every situation that is contrary to His Word and His promises.  See call information below: \n\n\n\nDays: First Monday of each month\nTime: 7:00 pm -7:30 pm\nTelephone #: 862-799-9958\n\nTo join us on the call via the Free Conference Call App: \n\nYou will need to download the App. Please see link below.\nClick Join a meeting\nOnline Meeting ID: excelchurchfl\nClick Call In or Call in using WIFI or Data\nAdd your Name and Email address\nClick Let’s go\nYou will then be on the line\nPlease be sure to mute your phone\n\n      
URL:https://excelfl.org/event/prayer-call-2-2023-04-03/2023-05-01/
LOCATION:Prayer Call\, 862-799-9958\, FL
CATEGORIES:Events
ATTACH;FMTTYPE=image/jpeg:https://excelfl.org/wp-content/uploads/2021/12/Prayer-Call-Slide-23-Update.jpg
ORGANIZER;CN="EXCEL Church":MAILTO:events@excelfl.org
GEO:27.6648274;-81.5157535
X-APPLE-STRUCTURED-LOCATION;VALUE=URI;X-ADDRESS=Prayer Call 862-799-9958 FL;X-APPLE-RADIUS=500;X-TITLE=862-799-9958:geo:-81.5157535,27.6648274
END:VEVENT
BEGIN:VEVENT
DTSTART;TZID=America/New_York:20230507T090000
DTEND;TZID=America/New_York:20230507T100000
DTSTAMP:20260425T074642
CREATED:20190127T024845Z
LAST-MODIFIED:20230309T205305Z
UID:10000033-1683450000-1683453600@excelfl.org
SUMMARY:eTeams - Membership 101
DESCRIPTION:eTeams is designed to help you connect with your church\, discover your God given strengths\, EXCEL in God\, and EXCEL Life.  eTeams is made up of the following two steps\, offered once a month\, be sure to start at class 1: \nClass 1 Membership 101 (1st Sunday\, 9:00 am – 10:00 am) \nClass 2 Teams 201 (3rd Sunday\, 9:00 am – 10:00 am)* \n*Please be advised you must complete the Spiritual Strengths Assessment prior to coming to Teams 201.  Click Here to complete the Assessment. \nPlease note that you must begin at Class 1.  Sign up now to get started at the upcoming class. \nSign Up Now!
URL:https://excelfl.org/event/eteams-2023-05-14/
LOCATION:Excel Church Overflow Room\, 3563 Philips Highway\, Building C\, Jacksonville\, FL\, 32207\, United States
CATEGORIES:Events,Growth Track
ATTACH;FMTTYPE=image/png:https://excelfl.org/wp-content/uploads/2019/01/Screen-Shot-2022-01-16-at-8.09.45-AM.png
GEO:30.2907109;-81.634021
X-APPLE-STRUCTURED-LOCATION;VALUE=URI;X-ADDRESS=Excel Church Overflow Room 3563 Philips Highway Building C Jacksonville FL 32207 United States;X-APPLE-RADIUS=500;X-TITLE=3563 Philips Highway\, Building C:geo:-81.634021,30.2907109
END:VEVENT
BEGIN:VEVENT
DTSTART;TZID=America/New_York:20230514T100000
DTEND;TZID=America/New_York:20230514T113000
DTSTAMP:20260425T074642
CREATED:20230318T152443Z
LAST-MODIFIED:20230401T113237Z
UID:10001029-1684058400-1684063800@excelfl.org
SUMMARY:Sunday Service
DESCRIPTION:Mother’s Day is Sunday\, May 14th.    \nService begins at 10AM.  \nBe sure invite the moms in your life to come and receive an uplifting\, encouraging message from the Word of God.\n \nYou can also join us online at excelfl.org/live
URL:https://excelfl.org/event/mothers-day/
LOCATION:Excel Church\, 3563 Philips Highway\, Jacksonville\, FL\, 32207\, United States
CATEGORIES:Events
ATTACH;FMTTYPE=image/jpeg:https://excelfl.org/wp-content/uploads/2023/04/5604898E-3190-45A5-969E-C1813E28978A.jpeg
GEO:30.2907109;-81.634021
X-APPLE-STRUCTURED-LOCATION;VALUE=URI;X-ADDRESS=Excel Church 3563 Philips Highway Jacksonville FL 32207 United States;X-APPLE-RADIUS=500;X-TITLE=3563 Philips Highway:geo:-81.634021,30.2907109
END:VEVENT
BEGIN:VEVENT
DTSTART;TZID=America/New_York:20230521T090000
DTEND;TZID=America/New_York:20230521T100000
DTSTAMP:20260425T074642
CREATED:20190127T025106Z
LAST-MODIFIED:20230309T205347Z
UID:10000588-1684659600-1684663200@excelfl.org
SUMMARY:eTeams - Teams 201
DESCRIPTION:eTeams is designed to help you connect with your church\, discover your God given strengths\, EXCEL in God\, and EXCEL Life.  eTeams is made up of the following two steps\, offered once a month\, be sure to start at class 1: \nClass 1 Membership 101 (1st Sunday\, 9:00 am – 10:00 am) \nClass 2 Teams 201 (3rd Sunday\, 9:00 am – 10:00 am)* \n*Please be advised you must complete the Spiritual Strengths Assessment prior to coming to Teams 201.  Click Here to complete the Assessment. \nPlease note that you must begin at Class 1.  Sign up now to get started at the upcoming class. \nSign Up Now!
URL:https://excelfl.org/event/eteams-2-2023-05-21/
LOCATION:Excel Church Overflow Room\, 3563 Philips Highway\, Building C\, Jacksonville\, FL\, 32207\, United States
CATEGORIES:Events,Growth Track
ATTACH;FMTTYPE=image/png:https://excelfl.org/wp-content/uploads/2019/01/Screen-Shot-2022-01-16-at-8.15.25-AM.png
GEO:30.2907109;-81.634021
X-APPLE-STRUCTURED-LOCATION;VALUE=URI;X-ADDRESS=Excel Church Overflow Room 3563 Philips Highway Building C Jacksonville FL 32207 United States;X-APPLE-RADIUS=500;X-TITLE=3563 Philips Highway\, Building C:geo:-81.634021,30.2907109
END:VEVENT
END:VCALENDAR