BEGIN:VCALENDAR
VERSION:2.0
PRODID:-//Excel Church - ECPv6.15.20//NONSGML v1.0//EN
CALSCALE:GREGORIAN
METHOD:PUBLISH
X-WR-CALNAME:Excel Church
X-ORIGINAL-URL:https://excelfl.org
X-WR-CALDESC:Events for Excel Church
REFRESH-INTERVAL;VALUE=DURATION:PT1H
X-Robots-Tag:noindex
X-PUBLISHED-TTL:PT1H
BEGIN:VTIMEZONE
TZID:America/New_York
BEGIN:DAYLIGHT
TZOFFSETFROM:-0500
TZOFFSETTO:-0400
TZNAME:EDT
DTSTART:20230312T070000
END:DAYLIGHT
BEGIN:STANDARD
TZOFFSETFROM:-0400
TZOFFSETTO:-0500
TZNAME:EST
DTSTART:20231105T060000
END:STANDARD
BEGIN:DAYLIGHT
TZOFFSETFROM:-0500
TZOFFSETTO:-0400
TZNAME:EDT
DTSTART:20240310T070000
END:DAYLIGHT
BEGIN:STANDARD
TZOFFSETFROM:-0400
TZOFFSETTO:-0500
TZNAME:EST
DTSTART:20241103T060000
END:STANDARD
BEGIN:DAYLIGHT
TZOFFSETFROM:-0500
TZOFFSETTO:-0400
TZNAME:EDT
DTSTART:20250309T070000
END:DAYLIGHT
BEGIN:STANDARD
TZOFFSETFROM:-0400
TZOFFSETTO:-0500
TZNAME:EST
DTSTART:20251102T060000
END:STANDARD
END:VTIMEZONE
BEGIN:VEVENT
DTSTART;TZID=America/New_York:20240505T090000
DTEND;TZID=America/New_York:20240505T100000
DTSTAMP:20260424T121037
CREATED:20190127T024845Z
LAST-MODIFIED:20240328T152043Z
UID:10000068-1714899600-1714903200@excelfl.org
SUMMARY:eTeams - Membership 101
DESCRIPTION:eTeams is designed to help you connect with your church\, discover your God given strengths\, EXCEL in God\, and EXCEL Life.  eTeams is made up of the following two steps\, offered once a month\, be sure to start at class 1: \nClass 1 Membership 101 (1st Sunday\, 9:00 am – 10:00 am) \nClass 2 Teams 201 (3rd Sunday\, 9:00 am – 10:00 am) \nPlease note that you must begin at Class 1.  Sign up now to get started at the upcoming class. \nSign Up Now!
URL:https://excelfl.org/event/eteams-2024-05-12/
LOCATION:Excel Church Overflow Room\, 3563 Philips Highway\, Building C\, Jacksonville\, FL\, 32207\, United States
CATEGORIES:Events,Growth Track
ATTACH;FMTTYPE=image/png:https://excelfl.org/wp-content/uploads/2019/01/Screen-Shot-2022-01-16-at-8.09.45-AM.png
GEO:30.2907109;-81.634021
X-APPLE-STRUCTURED-LOCATION;VALUE=URI;X-ADDRESS=Excel Church Overflow Room 3563 Philips Highway Building C Jacksonville FL 32207 United States;X-APPLE-RADIUS=500;X-TITLE=3563 Philips Highway\, Building C:geo:-81.634021,30.2907109
END:VEVENT
BEGIN:VEVENT
DTSTART;TZID=America/New_York:20240505T100000
DTEND;TZID=America/New_York:20240505T113000
DTSTAMP:20260424T121037
CREATED:20231202T165133Z
LAST-MODIFIED:20231202T165432Z
UID:10001054-1714903200-1714908600@excelfl.org
SUMMARY:Sunday Service
DESCRIPTION:Join us for our Sunday Service @ 10:00 am each week.  At EXCEL Church we believe you should EXCEL in God and EXCEL in Life.  Come EXCEL with us. \n\nWe have our eKids Ministry for children from 3 months old through 5th grade. To find out more about what we have for your kids click here.\nWe have our eYouth Ministry for youth from 6th grade through 12th grade. To find out more about what we have available for your youth click here.\nIf you will be visiting for the first time let us know you are coming by clicking here.\nFinally\, our services are also streamed live.  Click here to watch during service times.
URL:https://excelfl.org/event/sunday-service/2024-05-05/
LOCATION:Excel Church\, 3563 Philips Highway\, Jacksonville\, FL\, 32207\, United States
CATEGORIES:Service
ATTACH;FMTTYPE=image/png:https://excelfl.org/wp-content/uploads/2023/03/MicrosoftTeams-image-3-2.png
ORGANIZER;CN="EXCEL Church":MAILTO:events@excelfl.org
GEO:30.2907109;-81.634021
X-APPLE-STRUCTURED-LOCATION;VALUE=URI;X-ADDRESS=Excel Church 3563 Philips Highway Jacksonville FL 32207 United States;X-APPLE-RADIUS=500;X-TITLE=3563 Philips Highway:geo:-81.634021,30.2907109
END:VEVENT
BEGIN:VEVENT
DTSTART;TZID=America/New_York:20240512T100000
DTEND;TZID=America/New_York:20240512T113000
DTSTAMP:20260424T121037
CREATED:20231202T165133Z
LAST-MODIFIED:20240315T161623Z
UID:10001198-1715508000-1715513400@excelfl.org
SUMMARY:Sunday Service
DESCRIPTION:Mother’s Day is Sunday\, May 12th. \nBe sure to invite the moms in your life to come and receive an uplifting\, encouraging message from the Word of God.  At EXCEL Church we believe you should EXCEL in God and EXCEL in Life.  Come EXCEL with us. \n\nWe have our eKids Ministry for children from 3 months old through 5th grade. To find out more about what we have for your kids click here.\nWe have our eYouth Ministry for youth from 6th grade through 12th grade. To find out more about what we have available for your youth click here.\nIf you will be visiting for the first time let us know you are coming by clicking here.\nFinally\, our services are also streamed live.  Click here to watch during service times.
URL:https://excelfl.org/event/sunday-service-2024-05-12/
LOCATION:Excel Church\, 3563 Philips Highway\, Jacksonville\, FL\, 32207\, United States
CATEGORIES:Service
ATTACH;FMTTYPE=image/jpeg:https://excelfl.org/wp-content/uploads/2023/12/Mothers-Day-24.jpg
ORGANIZER;CN="EXCEL Church":MAILTO:events@excelfl.org
GEO:30.2907109;-81.634021
X-APPLE-STRUCTURED-LOCATION;VALUE=URI;X-ADDRESS=Excel Church 3563 Philips Highway Jacksonville FL 32207 United States;X-APPLE-RADIUS=500;X-TITLE=3563 Philips Highway:geo:-81.634021,30.2907109
END:VEVENT
BEGIN:VEVENT
DTSTART;TZID=America/New_York:20240517T190000
DTEND;TZID=America/New_York:20240517T213000
DTSTAMP:20260424T121037
CREATED:20230406T133326Z
LAST-MODIFIED:20240517T204032Z
UID:10001030-1715972400-1715981400@excelfl.org
SUMMARY:Zingo (Waitlist)
DESCRIPTION:ZINGO Ladies Night at EXCEL! \nPLEASE NOTE WAITLIST IS CLOSED. \nLadies! Zingo is back! Friday\, May 17th at 7PM right here at EXCEL Church! \nIt’s time to be bold\, beautiful\, and bright for our Tie-dye themed event. \nCome join us for a night of food\, fun\, and of course playing Bingo/ well…. Zingo! \nThis event is open to all ladies out of High School and up! \nSecure your spot today and invite your lady friends! \nRegistration information: \n\n$15 to register and receive 1 Zingo card to play with.\n$20 to register and receive 2 Zingo cards to play with.\n$25 to register and receive 3 Zingo cards to play with.\n\nWe’re Going To Have A “ZINGO” Good Time! \nWaitlist is Closed
URL:https://excelfl.org/event/zingo-2/
LOCATION:Excel Church\, 3563 Philips Highway\, Jacksonville\, FL\, 32207\, United States
CATEGORIES:Events
ATTACH;FMTTYPE=image/jpeg:https://excelfl.org/wp-content/uploads/2022/04/Zingo-24-Web_CC.jpg
ORGANIZER;CN="EXCEL Church":MAILTO:events@excelfl.org
GEO:30.2907109;-81.634021
X-APPLE-STRUCTURED-LOCATION;VALUE=URI;X-ADDRESS=Excel Church 3563 Philips Highway Jacksonville FL 32207 United States;X-APPLE-RADIUS=500;X-TITLE=3563 Philips Highway:geo:-81.634021,30.2907109
END:VEVENT
BEGIN:VEVENT
DTSTART;TZID=America/New_York:20240519T090000
DTEND;TZID=America/New_York:20240519T100000
DTSTAMP:20260424T121037
CREATED:20190127T025106Z
LAST-MODIFIED:20240223T161424Z
UID:10000082-1716109200-1716112800@excelfl.org
SUMMARY:eTeams - Teams 201
DESCRIPTION:eTeams is designed to help you connect with your church\, discover your God given strengths\, EXCEL in God\, and EXCEL Life.  eTeams is made up of the following two steps\, offered once a month\, be sure to start at class 1: \nClass 1 Membership 101 (2nd Sunday\, 9:00 am – 10:00 am) \nClass 2 Teams 201 (3rd Sunday\, 9:00 am – 10:00 am) \nPlease note that you must begin at Class 1.  Sign up now to get started at the upcoming class. \nSign Up Now!
URL:https://excelfl.org/event/eteams-2/2024-05-19/
LOCATION:Excel Church Overflow Room\, 3563 Philips Highway\, Building C\, Jacksonville\, FL\, 32207\, United States
CATEGORIES:Events,Growth Track
ATTACH;FMTTYPE=image/png:https://excelfl.org/wp-content/uploads/2019/01/Screen-Shot-2022-01-16-at-8.15.25-AM.png
GEO:30.2907109;-81.634021
X-APPLE-STRUCTURED-LOCATION;VALUE=URI;X-ADDRESS=Excel Church Overflow Room 3563 Philips Highway Building C Jacksonville FL 32207 United States;X-APPLE-RADIUS=500;X-TITLE=3563 Philips Highway\, Building C:geo:-81.634021,30.2907109
END:VEVENT
BEGIN:VEVENT
DTSTART;TZID=America/New_York:20240519T100000
DTEND;TZID=America/New_York:20240519T113000
DTSTAMP:20260424T121037
CREATED:20231202T165133Z
LAST-MODIFIED:20231202T165432Z
UID:10001055-1716112800-1716118200@excelfl.org
SUMMARY:Sunday Service
DESCRIPTION:Join us for our Sunday Service @ 10:00 am each week.  At EXCEL Church we believe you should EXCEL in God and EXCEL in Life.  Come EXCEL with us. \n\nWe have our eKids Ministry for children from 3 months old through 5th grade. To find out more about what we have for your kids click here.\nWe have our eYouth Ministry for youth from 6th grade through 12th grade. To find out more about what we have available for your youth click here.\nIf you will be visiting for the first time let us know you are coming by clicking here.\nFinally\, our services are also streamed live.  Click here to watch during service times.
URL:https://excelfl.org/event/sunday-service/2024-05-19/
LOCATION:Excel Church\, 3563 Philips Highway\, Jacksonville\, FL\, 32207\, United States
CATEGORIES:Service
ATTACH;FMTTYPE=image/png:https://excelfl.org/wp-content/uploads/2023/03/MicrosoftTeams-image-3-2.png
ORGANIZER;CN="EXCEL Church":MAILTO:events@excelfl.org
GEO:30.2907109;-81.634021
X-APPLE-STRUCTURED-LOCATION;VALUE=URI;X-ADDRESS=Excel Church 3563 Philips Highway Jacksonville FL 32207 United States;X-APPLE-RADIUS=500;X-TITLE=3563 Philips Highway:geo:-81.634021,30.2907109
END:VEVENT
BEGIN:VEVENT
DTSTART;TZID=America/New_York:20240526T100000
DTEND;TZID=America/New_York:20240526T113000
DTSTAMP:20260424T121037
CREATED:20231202T165133Z
LAST-MODIFIED:20231202T165432Z
UID:10001056-1716717600-1716723000@excelfl.org
SUMMARY:Sunday Service
DESCRIPTION:Join us for our Sunday Service @ 10:00 am each week.  At EXCEL Church we believe you should EXCEL in God and EXCEL in Life.  Come EXCEL with us. \n\nWe have our eKids Ministry for children from 3 months old through 5th grade. To find out more about what we have for your kids click here.\nWe have our eYouth Ministry for youth from 6th grade through 12th grade. To find out more about what we have available for your youth click here.\nIf you will be visiting for the first time let us know you are coming by clicking here.\nFinally\, our services are also streamed live.  Click here to watch during service times.
URL:https://excelfl.org/event/sunday-service/2024-05-26/
LOCATION:Excel Church\, 3563 Philips Highway\, Jacksonville\, FL\, 32207\, United States
CATEGORIES:Service
ATTACH;FMTTYPE=image/png:https://excelfl.org/wp-content/uploads/2023/03/MicrosoftTeams-image-3-2.png
ORGANIZER;CN="EXCEL Church":MAILTO:events@excelfl.org
GEO:30.2907109;-81.634021
X-APPLE-STRUCTURED-LOCATION;VALUE=URI;X-ADDRESS=Excel Church 3563 Philips Highway Jacksonville FL 32207 United States;X-APPLE-RADIUS=500;X-TITLE=3563 Philips Highway:geo:-81.634021,30.2907109
END:VEVENT
END:VCALENDAR