BEGIN:VCALENDAR
VERSION:2.0
PRODID:-//Excel Church - ECPv6.15.20//NONSGML v1.0//EN
CALSCALE:GREGORIAN
METHOD:PUBLISH
X-ORIGINAL-URL:https://excelfl.org
X-WR-CALDESC:Events for Excel Church
REFRESH-INTERVAL;VALUE=DURATION:PT1H
X-Robots-Tag:noindex
X-PUBLISHED-TTL:PT1H
BEGIN:VTIMEZONE
TZID:America/New_York
BEGIN:DAYLIGHT
TZOFFSETFROM:-0500
TZOFFSETTO:-0400
TZNAME:EDT
DTSTART:20240310T070000
END:DAYLIGHT
BEGIN:STANDARD
TZOFFSETFROM:-0400
TZOFFSETTO:-0500
TZNAME:EST
DTSTART:20241103T060000
END:STANDARD
BEGIN:DAYLIGHT
TZOFFSETFROM:-0500
TZOFFSETTO:-0400
TZNAME:EDT
DTSTART:20250309T070000
END:DAYLIGHT
BEGIN:STANDARD
TZOFFSETFROM:-0400
TZOFFSETTO:-0500
TZNAME:EST
DTSTART:20251102T060000
END:STANDARD
BEGIN:DAYLIGHT
TZOFFSETFROM:-0500
TZOFFSETTO:-0400
TZNAME:EDT
DTSTART:20260308T070000
END:DAYLIGHT
BEGIN:STANDARD
TZOFFSETFROM:-0400
TZOFFSETTO:-0500
TZNAME:EST
DTSTART:20261101T060000
END:STANDARD
END:VTIMEZONE
BEGIN:VEVENT
DTSTART;TZID=America/New_York:20250907T083000
DTEND;TZID=America/New_York:20250907T113000
DTSTAMP:20260423T122614
CREATED:20250811T172011Z
LAST-MODIFIED:20250819T171153Z
UID:10002084-1757233800-1757244600@excelfl.org
SUMMARY:Jersey Sunday
DESCRIPTION:Jersey Sunday – Get Ready for an Unforgettable Experience at EXCEL! \nJoin us for an action-packed day of Fellowship\, Food\, and Football! \n8:30 AM – Food Trucks: \n\nThe Fried Egg\nCoffee Cabin \n\n10 AM – Catch a Powerful Word!  \nDon’t miss your chance to receive a transformative Word from God!  \nGrab your favorite team’s jersey\, and set your alarms early for September 7th—because this Jersey Sunday is going to be epic!  \n 
URL:https://excelfl.org/event/jersey-sunday-7/
LOCATION:Excel Church\, 3563 Philips Highway\, Jacksonville\, FL\, 32207\, United States
CATEGORIES:Events
ATTACH;FMTTYPE=image/jpeg:https://excelfl.org/wp-content/uploads/2025/08/JSWebCC.jpg
ORGANIZER;CN="EXCEL Church":MAILTO:events@excelfl.org
GEO:30.2907109;-81.634021
X-APPLE-STRUCTURED-LOCATION;VALUE=URI;X-ADDRESS=Excel Church 3563 Philips Highway Jacksonville FL 32207 United States;X-APPLE-RADIUS=500;X-TITLE=3563 Philips Highway:geo:-81.634021,30.2907109
END:VEVENT
BEGIN:VEVENT
DTSTART;TZID=America/New_York:20250907T100000
DTEND;TZID=America/New_York:20250907T113000
DTSTAMP:20260423T122614
CREATED:20231202T165133Z
LAST-MODIFIED:20231202T165432Z
UID:10001122-1757239200-1757244600@excelfl.org
SUMMARY:Sunday Service
DESCRIPTION:Join us for our Sunday Service @ 10:00 am each week.  At EXCEL Church we believe you should EXCEL in God and EXCEL in Life.  Come EXCEL with us. \n\nWe have our eKids Ministry for children from 3 months old through 5th grade. To find out more about what we have for your kids click here.\nWe have our eYouth Ministry for youth from 6th grade through 12th grade. To find out more about what we have available for your youth click here.\nIf you will be visiting for the first time let us know you are coming by clicking here.\nFinally\, our services are also streamed live.  Click here to watch during service times.
URL:https://excelfl.org/event/sunday-service/2025-09-07/
LOCATION:Excel Church\, 3563 Philips Highway\, Jacksonville\, FL\, 32207\, United States
CATEGORIES:Service
ATTACH;FMTTYPE=image/png:https://excelfl.org/wp-content/uploads/2023/03/MicrosoftTeams-image-3-2.png
ORGANIZER;CN="EXCEL Church":MAILTO:events@excelfl.org
GEO:30.2907109;-81.634021
X-APPLE-STRUCTURED-LOCATION;VALUE=URI;X-ADDRESS=Excel Church 3563 Philips Highway Jacksonville FL 32207 United States;X-APPLE-RADIUS=500;X-TITLE=3563 Philips Highway:geo:-81.634021,30.2907109
END:VEVENT
BEGIN:VEVENT
DTSTART;TZID=America/New_York:20250914T100000
DTEND;TZID=America/New_York:20250914T113000
DTSTAMP:20260423T122614
CREATED:20231202T165133Z
LAST-MODIFIED:20231202T165432Z
UID:10001123-1757844000-1757849400@excelfl.org
SUMMARY:Sunday Service
DESCRIPTION:Join us for our Sunday Service @ 10:00 am each week.  At EXCEL Church we believe you should EXCEL in God and EXCEL in Life.  Come EXCEL with us. \n\nWe have our eKids Ministry for children from 3 months old through 5th grade. To find out more about what we have for your kids click here.\nWe have our eYouth Ministry for youth from 6th grade through 12th grade. To find out more about what we have available for your youth click here.\nIf you will be visiting for the first time let us know you are coming by clicking here.\nFinally\, our services are also streamed live.  Click here to watch during service times.
URL:https://excelfl.org/event/sunday-service/2025-09-14/
LOCATION:Excel Church\, 3563 Philips Highway\, Jacksonville\, FL\, 32207\, United States
CATEGORIES:Service
ATTACH;FMTTYPE=image/png:https://excelfl.org/wp-content/uploads/2023/03/MicrosoftTeams-image-3-2.png
ORGANIZER;CN="EXCEL Church":MAILTO:events@excelfl.org
GEO:30.2907109;-81.634021
X-APPLE-STRUCTURED-LOCATION;VALUE=URI;X-ADDRESS=Excel Church 3563 Philips Highway Jacksonville FL 32207 United States;X-APPLE-RADIUS=500;X-TITLE=3563 Philips Highway:geo:-81.634021,30.2907109
END:VEVENT
BEGIN:VEVENT
DTSTART;TZID=America/New_York:20250921T100000
DTEND;TZID=America/New_York:20250921T113000
DTSTAMP:20260423T122614
CREATED:20231202T165133Z
LAST-MODIFIED:20231202T165432Z
UID:10001124-1758448800-1758454200@excelfl.org
SUMMARY:Sunday Service
DESCRIPTION:Join us for our Sunday Service @ 10:00 am each week.  At EXCEL Church we believe you should EXCEL in God and EXCEL in Life.  Come EXCEL with us. \n\nWe have our eKids Ministry for children from 3 months old through 5th grade. To find out more about what we have for your kids click here.\nWe have our eYouth Ministry for youth from 6th grade through 12th grade. To find out more about what we have available for your youth click here.\nIf you will be visiting for the first time let us know you are coming by clicking here.\nFinally\, our services are also streamed live.  Click here to watch during service times.
URL:https://excelfl.org/event/sunday-service/2025-09-21/
LOCATION:Excel Church\, 3563 Philips Highway\, Jacksonville\, FL\, 32207\, United States
CATEGORIES:Service
ATTACH;FMTTYPE=image/png:https://excelfl.org/wp-content/uploads/2023/03/MicrosoftTeams-image-3-2.png
ORGANIZER;CN="EXCEL Church":MAILTO:events@excelfl.org
GEO:30.2907109;-81.634021
X-APPLE-STRUCTURED-LOCATION;VALUE=URI;X-ADDRESS=Excel Church 3563 Philips Highway Jacksonville FL 32207 United States;X-APPLE-RADIUS=500;X-TITLE=3563 Philips Highway:geo:-81.634021,30.2907109
END:VEVENT
BEGIN:VEVENT
DTSTART;TZID=America/New_York:20250921T100000
DTEND;TZID=America/New_York:20250921T120000
DTSTAMP:20260423T122614
CREATED:20250916T222327Z
LAST-MODIFIED:20251007T153454Z
UID:10002087-1758448800-1758456000@excelfl.org
SUMMARY:Candy Competition
DESCRIPTION:It’s time for sweet rivalry as we collect individually wrapped candy to make this year’s Trunk-n-Treat even more fun for the kids! \nThe competition begins Sunday\, September 21st! \nHow to Join the Fun: \n\nBring Your Candy: Drop off your candy donations in the collection bins located in the church atrium. Be sure to place your candy in the appropriate bin labeled either Men or Women.\n\n\nBefore and after services\nDuring office hours: Tuesday – Friday\, 9 AM – 4 PM\n\n\nCapture the Moment: Snap a photo with your candy donation and share it on social media with #EXCELCANDY.\n\nWill the women rise to the challenge and take the crown this year? Or will the men keep their title? The race is on\, and every piece counts! \nCompetition Ends October 19th! \nGet ready to make this October the sweetest yet. May the best team win!
URL:https://excelfl.org/event/candy-competition/2025-09-21/
LOCATION:Excel Church\, 3563 Philips Highway\, Jacksonville\, FL\, 32207\, United States
CATEGORIES:Events
ATTACH;FMTTYPE=image/jpeg:https://excelfl.org/wp-content/uploads/2025/09/MVWCC_WebCC.jpg
ORGANIZER;CN="EXCEL Church":MAILTO:events@excelfl.org
GEO:30.2907109;-81.634021
X-APPLE-STRUCTURED-LOCATION;VALUE=URI;X-ADDRESS=Excel Church 3563 Philips Highway Jacksonville FL 32207 United States;X-APPLE-RADIUS=500;X-TITLE=3563 Philips Highway:geo:-81.634021,30.2907109
END:VEVENT
BEGIN:VEVENT
DTSTART;TZID=America/New_York:20250928T100000
DTEND;TZID=America/New_York:20250928T113000
DTSTAMP:20260423T122614
CREATED:20231202T165133Z
LAST-MODIFIED:20231202T165432Z
UID:10001125-1759053600-1759059000@excelfl.org
SUMMARY:Sunday Service
DESCRIPTION:Join us for our Sunday Service @ 10:00 am each week.  At EXCEL Church we believe you should EXCEL in God and EXCEL in Life.  Come EXCEL with us. \n\nWe have our eKids Ministry for children from 3 months old through 5th grade. To find out more about what we have for your kids click here.\nWe have our eYouth Ministry for youth from 6th grade through 12th grade. To find out more about what we have available for your youth click here.\nIf you will be visiting for the first time let us know you are coming by clicking here.\nFinally\, our services are also streamed live.  Click here to watch during service times.
URL:https://excelfl.org/event/sunday-service/2025-09-28/
LOCATION:Excel Church\, 3563 Philips Highway\, Jacksonville\, FL\, 32207\, United States
CATEGORIES:Service
ATTACH;FMTTYPE=image/png:https://excelfl.org/wp-content/uploads/2023/03/MicrosoftTeams-image-3-2.png
ORGANIZER;CN="EXCEL Church":MAILTO:events@excelfl.org
GEO:30.2907109;-81.634021
X-APPLE-STRUCTURED-LOCATION;VALUE=URI;X-ADDRESS=Excel Church 3563 Philips Highway Jacksonville FL 32207 United States;X-APPLE-RADIUS=500;X-TITLE=3563 Philips Highway:geo:-81.634021,30.2907109
END:VEVENT
BEGIN:VEVENT
DTSTART;TZID=America/New_York:20250928T100000
DTEND;TZID=America/New_York:20250928T120000
DTSTAMP:20260423T122614
CREATED:20250916T222327Z
LAST-MODIFIED:20251007T153454Z
UID:10002088-1759053600-1759060800@excelfl.org
SUMMARY:Candy Competition
DESCRIPTION:It’s time for sweet rivalry as we collect individually wrapped candy to make this year’s Trunk-n-Treat even more fun for the kids! \nThe competition begins Sunday\, September 21st! \nHow to Join the Fun: \n\nBring Your Candy: Drop off your candy donations in the collection bins located in the church atrium. Be sure to place your candy in the appropriate bin labeled either Men or Women.\n\n\nBefore and after services\nDuring office hours: Tuesday – Friday\, 9 AM – 4 PM\n\n\nCapture the Moment: Snap a photo with your candy donation and share it on social media with #EXCELCANDY.\n\nWill the women rise to the challenge and take the crown this year? Or will the men keep their title? The race is on\, and every piece counts! \nCompetition Ends October 19th! \nGet ready to make this October the sweetest yet. May the best team win!
URL:https://excelfl.org/event/candy-competition/2025-09-28/
LOCATION:Excel Church\, 3563 Philips Highway\, Jacksonville\, FL\, 32207\, United States
CATEGORIES:Events
ATTACH;FMTTYPE=image/jpeg:https://excelfl.org/wp-content/uploads/2025/09/MVWCC_WebCC.jpg
ORGANIZER;CN="EXCEL Church":MAILTO:events@excelfl.org
GEO:30.2907109;-81.634021
X-APPLE-STRUCTURED-LOCATION;VALUE=URI;X-ADDRESS=Excel Church 3563 Philips Highway Jacksonville FL 32207 United States;X-APPLE-RADIUS=500;X-TITLE=3563 Philips Highway:geo:-81.634021,30.2907109
END:VEVENT
END:VCALENDAR