BEGIN:VCALENDAR
VERSION:2.0
PRODID:-//Excel Church - ECPv6.15.20//NONSGML v1.0//EN
CALSCALE:GREGORIAN
METHOD:PUBLISH
X-WR-CALNAME:Excel Church
X-ORIGINAL-URL:https://excelfl.org
X-WR-CALDESC:Events for Excel Church
REFRESH-INTERVAL;VALUE=DURATION:PT1H
X-Robots-Tag:noindex
X-PUBLISHED-TTL:PT1H
BEGIN:VTIMEZONE
TZID:America/New_York
BEGIN:DAYLIGHT
TZOFFSETFROM:-0500
TZOFFSETTO:-0400
TZNAME:EDT
DTSTART:20240310T070000
END:DAYLIGHT
BEGIN:STANDARD
TZOFFSETFROM:-0400
TZOFFSETTO:-0500
TZNAME:EST
DTSTART:20241103T060000
END:STANDARD
BEGIN:DAYLIGHT
TZOFFSETFROM:-0500
TZOFFSETTO:-0400
TZNAME:EDT
DTSTART:20250309T070000
END:DAYLIGHT
BEGIN:STANDARD
TZOFFSETFROM:-0400
TZOFFSETTO:-0500
TZNAME:EST
DTSTART:20251102T060000
END:STANDARD
BEGIN:DAYLIGHT
TZOFFSETFROM:-0500
TZOFFSETTO:-0400
TZNAME:EDT
DTSTART:20260308T070000
END:DAYLIGHT
BEGIN:STANDARD
TZOFFSETFROM:-0400
TZOFFSETTO:-0500
TZNAME:EST
DTSTART:20261101T060000
END:STANDARD
BEGIN:DAYLIGHT
TZOFFSETFROM:-0500
TZOFFSETTO:-0400
TZNAME:EDT
DTSTART:20270314T070000
END:DAYLIGHT
BEGIN:STANDARD
TZOFFSETFROM:-0400
TZOFFSETTO:-0500
TZNAME:EST
DTSTART:20271107T060000
END:STANDARD
END:VTIMEZONE
BEGIN:VEVENT
DTSTART;TZID=America/New_York:20251207T100000
DTEND;TZID=America/New_York:20251207T113000
DTSTAMP:20260423T075608
CREATED:20231202T165133Z
LAST-MODIFIED:20231202T165432Z
UID:10001135-1765101600-1765107000@excelfl.org
SUMMARY:Sunday Service
DESCRIPTION:Join us for our Sunday Service @ 10:00 am each week.  At EXCEL Church we believe you should EXCEL in God and EXCEL in Life.  Come EXCEL with us. \n\nWe have our eKids Ministry for children from 3 months old through 5th grade. To find out more about what we have for your kids click here.\nWe have our eYouth Ministry for youth from 6th grade through 12th grade. To find out more about what we have available for your youth click here.\nIf you will be visiting for the first time let us know you are coming by clicking here.\nFinally\, our services are also streamed live.  Click here to watch during service times.
URL:https://excelfl.org/event/sunday-service/2025-12-07/
LOCATION:Excel Church\, 3563 Philips Highway\, Jacksonville\, FL\, 32207\, United States
CATEGORIES:Service
ATTACH;FMTTYPE=image/png:https://excelfl.org/wp-content/uploads/2023/03/MicrosoftTeams-image-3-2.png
ORGANIZER;CN="EXCEL Church":MAILTO:events@excelfl.org
GEO:30.2907109;-81.634021
X-APPLE-STRUCTURED-LOCATION;VALUE=URI;X-ADDRESS=Excel Church 3563 Philips Highway Jacksonville FL 32207 United States;X-APPLE-RADIUS=500;X-TITLE=3563 Philips Highway:geo:-81.634021,30.2907109
END:VEVENT
BEGIN:VEVENT
DTSTART;VALUE=DATE:20251208
DTEND;VALUE=DATE:20251209
DTSTAMP:20260423T075608
CREATED:20251203T170653Z
LAST-MODIFIED:20251203T170653Z
UID:10002155-1765152000-1765238399@excelfl.org
SUMMARY:Pastor Zelphia's Birthday
DESCRIPTION:Pastor Zelphia’s birthday is on Monday\, December 8th! \nLet’s launch her into her new year\, showing love by sending cards and financial gifts through the following ways: \n\nCash App – $ZelphiaRaines\nMail – P.O. Box 56264 JAX\, FL\, 32241\n\nIf you would like to drop off a physical card for her Sunday\, December 7th\, there will be a birthday kiosk in the atrium. \nAlso\, don’t forget to take a moment to help flood her social media with prayers\, love\, and blessings: https://www.facebook.com/zelphia.raines
URL:https://excelfl.org/event/pastor-zelphias-birthday-2/
LOCATION:Excel Church\, 3563 Philips Highway\, Jacksonville\, FL\, 32207\, United States
CATEGORIES:Events
ATTACH;FMTTYPE=image/jpeg:https://excelfl.org/wp-content/uploads/2025/12/PZBDAY_Slide-1.jpg
GEO:30.2907109;-81.634021
X-APPLE-STRUCTURED-LOCATION;VALUE=URI;X-ADDRESS=Excel Church 3563 Philips Highway Jacksonville FL 32207 United States;X-APPLE-RADIUS=500;X-TITLE=3563 Philips Highway:geo:-81.634021,30.2907109
END:VEVENT
BEGIN:VEVENT
DTSTART;TZID=America/New_York:20251214T100000
DTEND;TZID=America/New_York:20251214T113000
DTSTAMP:20260423T075608
CREATED:20231202T165133Z
LAST-MODIFIED:20231202T165432Z
UID:10001136-1765706400-1765711800@excelfl.org
SUMMARY:Sunday Service
DESCRIPTION:Join us for our Sunday Service @ 10:00 am each week.  At EXCEL Church we believe you should EXCEL in God and EXCEL in Life.  Come EXCEL with us. \n\nWe have our eKids Ministry for children from 3 months old through 5th grade. To find out more about what we have for your kids click here.\nWe have our eYouth Ministry for youth from 6th grade through 12th grade. To find out more about what we have available for your youth click here.\nIf you will be visiting for the first time let us know you are coming by clicking here.\nFinally\, our services are also streamed live.  Click here to watch during service times.
URL:https://excelfl.org/event/sunday-service/2025-12-14/
LOCATION:Excel Church\, 3563 Philips Highway\, Jacksonville\, FL\, 32207\, United States
CATEGORIES:Service
ATTACH;FMTTYPE=image/png:https://excelfl.org/wp-content/uploads/2023/03/MicrosoftTeams-image-3-2.png
ORGANIZER;CN="EXCEL Church":MAILTO:events@excelfl.org
GEO:30.2907109;-81.634021
X-APPLE-STRUCTURED-LOCATION;VALUE=URI;X-ADDRESS=Excel Church 3563 Philips Highway Jacksonville FL 32207 United States;X-APPLE-RADIUS=500;X-TITLE=3563 Philips Highway:geo:-81.634021,30.2907109
END:VEVENT
BEGIN:VEVENT
DTSTART;TZID=America/New_York:20251221T080000
DTEND;TZID=America/New_York:20251221T170000
DTSTAMP:20260423T075608
CREATED:20251026T010934Z
LAST-MODIFIED:20251026T010934Z
UID:10002153-1766304000-1766336400@excelfl.org
SUMMARY:Ugly Sweater Sunday
DESCRIPTION:Cooler weather is around the corner so get ready to deck the halls of EXCEL in your Ugly Sweater! \nJoin us for a festive and fun Ugly Sweater Sunday on December 21st at our 10 AM service. \nDust off your favorite holiday sweater because this is your chance to wear your ugliest Christmas sweater! \nDon’t miss this chance to celebrate the season and be encouraged by the Word with your church family. \nSee you there!
URL:https://excelfl.org/event/ugly-sweater-sunday/
LOCATION:Excel Church\, 3563 Philips Highway\, Jacksonville\, FL\, 32207\, United States
CATEGORIES:Events
ATTACH;FMTTYPE=image/jpeg:https://excelfl.org/wp-content/uploads/2025/10/USS_CC.jpg
ORGANIZER;CN="EXCEL Church":MAILTO:events@excelfl.org
GEO:30.2907109;-81.634021
X-APPLE-STRUCTURED-LOCATION;VALUE=URI;X-ADDRESS=Excel Church 3563 Philips Highway Jacksonville FL 32207 United States;X-APPLE-RADIUS=500;X-TITLE=3563 Philips Highway:geo:-81.634021,30.2907109
END:VEVENT
BEGIN:VEVENT
DTSTART;TZID=America/New_York:20251221T100000
DTEND;TZID=America/New_York:20251221T113000
DTSTAMP:20260423T075608
CREATED:20231202T165133Z
LAST-MODIFIED:20231202T165432Z
UID:10001137-1766311200-1766316600@excelfl.org
SUMMARY:Sunday Service
DESCRIPTION:Join us for our Sunday Service @ 10:00 am each week.  At EXCEL Church we believe you should EXCEL in God and EXCEL in Life.  Come EXCEL with us. \n\nWe have our eKids Ministry for children from 3 months old through 5th grade. To find out more about what we have for your kids click here.\nWe have our eYouth Ministry for youth from 6th grade through 12th grade. To find out more about what we have available for your youth click here.\nIf you will be visiting for the first time let us know you are coming by clicking here.\nFinally\, our services are also streamed live.  Click here to watch during service times.
URL:https://excelfl.org/event/sunday-service/2025-12-21/
LOCATION:Excel Church\, 3563 Philips Highway\, Jacksonville\, FL\, 32207\, United States
CATEGORIES:Service
ATTACH;FMTTYPE=image/png:https://excelfl.org/wp-content/uploads/2023/03/MicrosoftTeams-image-3-2.png
ORGANIZER;CN="EXCEL Church":MAILTO:events@excelfl.org
GEO:30.2907109;-81.634021
X-APPLE-STRUCTURED-LOCATION;VALUE=URI;X-ADDRESS=Excel Church 3563 Philips Highway Jacksonville FL 32207 United States;X-APPLE-RADIUS=500;X-TITLE=3563 Philips Highway:geo:-81.634021,30.2907109
END:VEVENT
BEGIN:VEVENT
DTSTART;VALUE=DATE:20251223
DTEND;VALUE=DATE:20260105
DTSTAMP:20260423T075608
CREATED:20251026T011228Z
LAST-MODIFIED:20251208T161948Z
UID:10002154-1766448000-1767571199@excelfl.org
SUMMARY:Christmas/New Year Office Closure
DESCRIPTION:In observance of the Christmas and New Year’s holidays\, our office will be closed on Tuesday\, December 23rd and will reopen on Monday\, January 4th. \nWe can’t wait to celebrate all that God will do when we return in the new year!
URL:https://excelfl.org/event/christmas-new-year-office-closure/
LOCATION:Excel Church\, 3563 Philips Highway\, Jacksonville\, FL\, 32207\, United States
CATEGORIES:Events
ATTACH;FMTTYPE=image/jpeg:https://excelfl.org/wp-content/uploads/2025/10/Christmas_New-Year-Office-Closure-2-1.jpg
ORGANIZER;CN="EXCEL Church":MAILTO:events@excelfl.org
GEO:30.2907109;-81.634021
X-APPLE-STRUCTURED-LOCATION;VALUE=URI;X-ADDRESS=Excel Church 3563 Philips Highway Jacksonville FL 32207 United States;X-APPLE-RADIUS=500;X-TITLE=3563 Philips Highway:geo:-81.634021,30.2907109
END:VEVENT
BEGIN:VEVENT
DTSTART;TZID=America/New_York:20251228T100000
DTEND;TZID=America/New_York:20251228T113000
DTSTAMP:20260423T075608
CREATED:20231202T165133Z
LAST-MODIFIED:20231202T165432Z
UID:10001138-1766916000-1766921400@excelfl.org
SUMMARY:Sunday Service
DESCRIPTION:Join us for our Sunday Service @ 10:00 am each week.  At EXCEL Church we believe you should EXCEL in God and EXCEL in Life.  Come EXCEL with us. \n\nWe have our eKids Ministry for children from 3 months old through 5th grade. To find out more about what we have for your kids click here.\nWe have our eYouth Ministry for youth from 6th grade through 12th grade. To find out more about what we have available for your youth click here.\nIf you will be visiting for the first time let us know you are coming by clicking here.\nFinally\, our services are also streamed live.  Click here to watch during service times.
URL:https://excelfl.org/event/sunday-service/2025-12-28/
LOCATION:Excel Church\, 3563 Philips Highway\, Jacksonville\, FL\, 32207\, United States
CATEGORIES:Service
ATTACH;FMTTYPE=image/png:https://excelfl.org/wp-content/uploads/2023/03/MicrosoftTeams-image-3-2.png
ORGANIZER;CN="EXCEL Church":MAILTO:events@excelfl.org
GEO:30.2907109;-81.634021
X-APPLE-STRUCTURED-LOCATION;VALUE=URI;X-ADDRESS=Excel Church 3563 Philips Highway Jacksonville FL 32207 United States;X-APPLE-RADIUS=500;X-TITLE=3563 Philips Highway:geo:-81.634021,30.2907109
END:VEVENT
END:VCALENDAR