BEGIN:VCALENDAR
VERSION:2.0
PRODID:-//Excel Church - ECPv6.15.20//NONSGML v1.0//EN
CALSCALE:GREGORIAN
METHOD:PUBLISH
X-WR-CALNAME:Excel Church
X-ORIGINAL-URL:https://excelfl.org
X-WR-CALDESC:Events for Excel Church
REFRESH-INTERVAL;VALUE=DURATION:PT1H
X-Robots-Tag:noindex
X-PUBLISHED-TTL:PT1H
BEGIN:VTIMEZONE
TZID:America/New_York
BEGIN:DAYLIGHT
TZOFFSETFROM:-0500
TZOFFSETTO:-0400
TZNAME:EDT
DTSTART:20240310T070000
END:DAYLIGHT
BEGIN:STANDARD
TZOFFSETFROM:-0400
TZOFFSETTO:-0500
TZNAME:EST
DTSTART:20241103T060000
END:STANDARD
BEGIN:DAYLIGHT
TZOFFSETFROM:-0500
TZOFFSETTO:-0400
TZNAME:EDT
DTSTART:20250309T070000
END:DAYLIGHT
BEGIN:STANDARD
TZOFFSETFROM:-0400
TZOFFSETTO:-0500
TZNAME:EST
DTSTART:20251102T060000
END:STANDARD
BEGIN:DAYLIGHT
TZOFFSETFROM:-0500
TZOFFSETTO:-0400
TZNAME:EDT
DTSTART:20260308T070000
END:DAYLIGHT
BEGIN:STANDARD
TZOFFSETFROM:-0400
TZOFFSETTO:-0500
TZNAME:EST
DTSTART:20261101T060000
END:STANDARD
BEGIN:DAYLIGHT
TZOFFSETFROM:-0500
TZOFFSETTO:-0400
TZNAME:EDT
DTSTART:20270314T070000
END:DAYLIGHT
BEGIN:STANDARD
TZOFFSETFROM:-0400
TZOFFSETTO:-0500
TZNAME:EST
DTSTART:20271107T060000
END:STANDARD
END:VTIMEZONE
BEGIN:VEVENT
DTSTART;VALUE=DATE:20251223
DTEND;VALUE=DATE:20260105
DTSTAMP:20260423T062331
CREATED:20251026T011228Z
LAST-MODIFIED:20251208T161948Z
UID:10002154-1766448000-1767571199@excelfl.org
SUMMARY:Christmas/New Year Office Closure
DESCRIPTION:In observance of the Christmas and New Year’s holidays\, our office will be closed on Tuesday\, December 23rd and will reopen on Monday\, January 4th. \nWe can’t wait to celebrate all that God will do when we return in the new year!
URL:https://excelfl.org/event/christmas-new-year-office-closure/
LOCATION:Excel Church\, 3563 Philips Highway\, Jacksonville\, FL\, 32207\, United States
CATEGORIES:Events
ATTACH;FMTTYPE=image/jpeg:https://excelfl.org/wp-content/uploads/2025/10/Christmas_New-Year-Office-Closure-2-1.jpg
ORGANIZER;CN="EXCEL Church":MAILTO:events@excelfl.org
GEO:30.2907109;-81.634021
X-APPLE-STRUCTURED-LOCATION;VALUE=URI;X-ADDRESS=Excel Church 3563 Philips Highway Jacksonville FL 32207 United States;X-APPLE-RADIUS=500;X-TITLE=3563 Philips Highway:geo:-81.634021,30.2907109
END:VEVENT
BEGIN:VEVENT
DTSTART;TZID=America/New_York:20260104T090000
DTEND;TZID=America/New_York:20260104T100000
DTSTAMP:20260423T062331
CREATED:20251218T105441Z
LAST-MODIFIED:20251218T105441Z
UID:10002156-1767517200-1767520800@excelfl.org
SUMMARY:Prayer Workshop
DESCRIPTION:Get ready for a powerful Prayer Workshop in the Overflow Room on Sunday\, January 4th at 9 AM\, facilitated by our Prayer Coordinator\, Deacon Ossie Jackson. \nWhether you’re new to prayer or a seasoned intercessor\, this workshop will help you gain a deeper understanding of prayer and grow in confidence and consistency in your prayer life. \nClick Here to register!
URL:https://excelfl.org/event/prayer-workshop/
LOCATION:Excel Church Overflow Room\, 3563 Philips Highway\, Building C\, Jacksonville\, FL\, 32207\, United States
CATEGORIES:Events
ATTACH;FMTTYPE=image/jpeg:https://excelfl.org/wp-content/uploads/2025/12/PW_General.jpg
ORGANIZER;CN="EXCEL Church":MAILTO:events@excelfl.org
GEO:30.2907109;-81.634021
X-APPLE-STRUCTURED-LOCATION;VALUE=URI;X-ADDRESS=Excel Church Overflow Room 3563 Philips Highway Building C Jacksonville FL 32207 United States;X-APPLE-RADIUS=500;X-TITLE=3563 Philips Highway\, Building C:geo:-81.634021,30.2907109
END:VEVENT
BEGIN:VEVENT
DTSTART;TZID=America/New_York:20260104T100000
DTEND;TZID=America/New_York:20260104T113000
DTSTAMP:20260423T062331
CREATED:20231202T165133Z
LAST-MODIFIED:20231202T165432Z
UID:10001139-1767520800-1767526200@excelfl.org
SUMMARY:Sunday Service
DESCRIPTION:Join us for our Sunday Service @ 10:00 am each week.  At EXCEL Church we believe you should EXCEL in God and EXCEL in Life.  Come EXCEL with us. \n\nWe have our eKids Ministry for children from 3 months old through 5th grade. To find out more about what we have for your kids click here.\nWe have our eYouth Ministry for youth from 6th grade through 12th grade. To find out more about what we have available for your youth click here.\nIf you will be visiting for the first time let us know you are coming by clicking here.\nFinally\, our services are also streamed live.  Click here to watch during service times.
URL:https://excelfl.org/event/sunday-service/2026-01-04/
LOCATION:Excel Church\, 3563 Philips Highway\, Jacksonville\, FL\, 32207\, United States
CATEGORIES:Service
ATTACH;FMTTYPE=image/png:https://excelfl.org/wp-content/uploads/2023/03/MicrosoftTeams-image-3-2.png
ORGANIZER;CN="EXCEL Church":MAILTO:events@excelfl.org
GEO:30.2907109;-81.634021
X-APPLE-STRUCTURED-LOCATION;VALUE=URI;X-ADDRESS=Excel Church 3563 Philips Highway Jacksonville FL 32207 United States;X-APPLE-RADIUS=500;X-TITLE=3563 Philips Highway:geo:-81.634021,30.2907109
END:VEVENT
BEGIN:VEVENT
DTSTART;TZID=America/New_York:20260107T120000
DTEND;TZID=America/New_York:20260107T123000
DTSTAMP:20260423T062331
CREATED:20251222T233742Z
LAST-MODIFIED:20251222T233955Z
UID:10002178-1767787200-1767789000@excelfl.org
SUMMARY:Midweek Corporate Prayer
DESCRIPTION:Midweek Corporate Prayer will be on Wednesdays\, January 7th\, 14th\, and 21st @ 12 PM to pause in the middle of the week to seek God and refocus during the fast. \nMidweek Corporate Prayer will be available online via our YouTube channel.
URL:https://excelfl.org/event/midweek-corporate-prayer/2026-01-07/
LOCATION:Excel Church\, 3563 Philips Highway\, Jacksonville\, FL\, 32207\, United States
CATEGORIES:Events
ATTACH;FMTTYPE=image/jpeg:https://excelfl.org/wp-content/uploads/2025/12/21DOPAF_Midweek_v2.jpg
ORGANIZER;CN="EXCEL Church":MAILTO:events@excelfl.org
GEO:30.2907109;-81.634021
X-APPLE-STRUCTURED-LOCATION;VALUE=URI;X-ADDRESS=Excel Church 3563 Philips Highway Jacksonville FL 32207 United States;X-APPLE-RADIUS=500;X-TITLE=3563 Philips Highway:geo:-81.634021,30.2907109
END:VEVENT
BEGIN:VEVENT
DTSTART;TZID=America/New_York:20260111T100000
DTEND;TZID=America/New_York:20260111T113000
DTSTAMP:20260423T062331
CREATED:20231202T165133Z
LAST-MODIFIED:20231202T165432Z
UID:10001140-1768125600-1768131000@excelfl.org
SUMMARY:Sunday Service
DESCRIPTION:Join us for our Sunday Service @ 10:00 am each week.  At EXCEL Church we believe you should EXCEL in God and EXCEL in Life.  Come EXCEL with us. \n\nWe have our eKids Ministry for children from 3 months old through 5th grade. To find out more about what we have for your kids click here.\nWe have our eYouth Ministry for youth from 6th grade through 12th grade. To find out more about what we have available for your youth click here.\nIf you will be visiting for the first time let us know you are coming by clicking here.\nFinally\, our services are also streamed live.  Click here to watch during service times.
URL:https://excelfl.org/event/sunday-service/2026-01-11/
LOCATION:Excel Church\, 3563 Philips Highway\, Jacksonville\, FL\, 32207\, United States
CATEGORIES:Service
ATTACH;FMTTYPE=image/png:https://excelfl.org/wp-content/uploads/2023/03/MicrosoftTeams-image-3-2.png
ORGANIZER;CN="EXCEL Church":MAILTO:events@excelfl.org
GEO:30.2907109;-81.634021
X-APPLE-STRUCTURED-LOCATION;VALUE=URI;X-ADDRESS=Excel Church 3563 Philips Highway Jacksonville FL 32207 United States;X-APPLE-RADIUS=500;X-TITLE=3563 Philips Highway:geo:-81.634021,30.2907109
END:VEVENT
BEGIN:VEVENT
DTSTART;TZID=America/New_York:20260114T120000
DTEND;TZID=America/New_York:20260114T123000
DTSTAMP:20260423T062331
CREATED:20251222T233742Z
LAST-MODIFIED:20251222T233955Z
UID:10002179-1768392000-1768393800@excelfl.org
SUMMARY:Midweek Corporate Prayer
DESCRIPTION:Midweek Corporate Prayer will be on Wednesdays\, January 7th\, 14th\, and 21st @ 12 PM to pause in the middle of the week to seek God and refocus during the fast. \nMidweek Corporate Prayer will be available online via our YouTube channel.
URL:https://excelfl.org/event/midweek-corporate-prayer/2026-01-14/
LOCATION:Excel Church\, 3563 Philips Highway\, Jacksonville\, FL\, 32207\, United States
CATEGORIES:Events
ATTACH;FMTTYPE=image/jpeg:https://excelfl.org/wp-content/uploads/2025/12/21DOPAF_Midweek_v2.jpg
ORGANIZER;CN="EXCEL Church":MAILTO:events@excelfl.org
GEO:30.2907109;-81.634021
X-APPLE-STRUCTURED-LOCATION;VALUE=URI;X-ADDRESS=Excel Church 3563 Philips Highway Jacksonville FL 32207 United States;X-APPLE-RADIUS=500;X-TITLE=3563 Philips Highway:geo:-81.634021,30.2907109
END:VEVENT
BEGIN:VEVENT
DTSTART;TZID=America/New_York:20260118T100000
DTEND;TZID=America/New_York:20260118T113000
DTSTAMP:20260423T062331
CREATED:20231202T165133Z
LAST-MODIFIED:20231202T165432Z
UID:10001141-1768730400-1768735800@excelfl.org
SUMMARY:Sunday Service
DESCRIPTION:Join us for our Sunday Service @ 10:00 am each week.  At EXCEL Church we believe you should EXCEL in God and EXCEL in Life.  Come EXCEL with us. \n\nWe have our eKids Ministry for children from 3 months old through 5th grade. To find out more about what we have for your kids click here.\nWe have our eYouth Ministry for youth from 6th grade through 12th grade. To find out more about what we have available for your youth click here.\nIf you will be visiting for the first time let us know you are coming by clicking here.\nFinally\, our services are also streamed live.  Click here to watch during service times.
URL:https://excelfl.org/event/sunday-service/2026-01-18/
LOCATION:Excel Church\, 3563 Philips Highway\, Jacksonville\, FL\, 32207\, United States
CATEGORIES:Service
ATTACH;FMTTYPE=image/png:https://excelfl.org/wp-content/uploads/2023/03/MicrosoftTeams-image-3-2.png
ORGANIZER;CN="EXCEL Church":MAILTO:events@excelfl.org
GEO:30.2907109;-81.634021
X-APPLE-STRUCTURED-LOCATION;VALUE=URI;X-ADDRESS=Excel Church 3563 Philips Highway Jacksonville FL 32207 United States;X-APPLE-RADIUS=500;X-TITLE=3563 Philips Highway:geo:-81.634021,30.2907109
END:VEVENT
BEGIN:VEVENT
DTSTART;TZID=America/New_York:20260121T120000
DTEND;TZID=America/New_York:20260121T123000
DTSTAMP:20260423T062331
CREATED:20251222T233742Z
LAST-MODIFIED:20251222T233955Z
UID:10002180-1768996800-1768998600@excelfl.org
SUMMARY:Midweek Corporate Prayer
DESCRIPTION:Midweek Corporate Prayer will be on Wednesdays\, January 7th\, 14th\, and 21st @ 12 PM to pause in the middle of the week to seek God and refocus during the fast. \nMidweek Corporate Prayer will be available online via our YouTube channel.
URL:https://excelfl.org/event/midweek-corporate-prayer/2026-01-21/
LOCATION:Excel Church\, 3563 Philips Highway\, Jacksonville\, FL\, 32207\, United States
CATEGORIES:Events
ATTACH;FMTTYPE=image/jpeg:https://excelfl.org/wp-content/uploads/2025/12/21DOPAF_Midweek_v2.jpg
ORGANIZER;CN="EXCEL Church":MAILTO:events@excelfl.org
GEO:30.2907109;-81.634021
X-APPLE-STRUCTURED-LOCATION;VALUE=URI;X-ADDRESS=Excel Church 3563 Philips Highway Jacksonville FL 32207 United States;X-APPLE-RADIUS=500;X-TITLE=3563 Philips Highway:geo:-81.634021,30.2907109
END:VEVENT
BEGIN:VEVENT
DTSTART;TZID=America/New_York:20260125T100000
DTEND;TZID=America/New_York:20260125T113000
DTSTAMP:20260423T062331
CREATED:20231202T165133Z
LAST-MODIFIED:20231202T165432Z
UID:10001142-1769335200-1769340600@excelfl.org
SUMMARY:Sunday Service
DESCRIPTION:Join us for our Sunday Service @ 10:00 am each week.  At EXCEL Church we believe you should EXCEL in God and EXCEL in Life.  Come EXCEL with us. \n\nWe have our eKids Ministry for children from 3 months old through 5th grade. To find out more about what we have for your kids click here.\nWe have our eYouth Ministry for youth from 6th grade through 12th grade. To find out more about what we have available for your youth click here.\nIf you will be visiting for the first time let us know you are coming by clicking here.\nFinally\, our services are also streamed live.  Click here to watch during service times.
URL:https://excelfl.org/event/sunday-service/2026-01-25/
LOCATION:Excel Church\, 3563 Philips Highway\, Jacksonville\, FL\, 32207\, United States
CATEGORIES:Service
ATTACH;FMTTYPE=image/png:https://excelfl.org/wp-content/uploads/2023/03/MicrosoftTeams-image-3-2.png
ORGANIZER;CN="EXCEL Church":MAILTO:events@excelfl.org
GEO:30.2907109;-81.634021
X-APPLE-STRUCTURED-LOCATION;VALUE=URI;X-ADDRESS=Excel Church 3563 Philips Highway Jacksonville FL 32207 United States;X-APPLE-RADIUS=500;X-TITLE=3563 Philips Highway:geo:-81.634021,30.2907109
END:VEVENT
END:VCALENDAR