BEGIN:VCALENDAR
VERSION:2.0
PRODID:-//Excel Church - ECPv6.15.20//NONSGML v1.0//EN
CALSCALE:GREGORIAN
METHOD:PUBLISH
X-WR-CALNAME:Excel Church
X-ORIGINAL-URL:https://excelfl.org
X-WR-CALDESC:Events for Excel Church
REFRESH-INTERVAL;VALUE=DURATION:PT1H
X-Robots-Tag:noindex
X-PUBLISHED-TTL:PT1H
BEGIN:VTIMEZONE
TZID:America/New_York
BEGIN:DAYLIGHT
TZOFFSETFROM:-0500
TZOFFSETTO:-0400
TZNAME:EDT
DTSTART:20250309T070000
END:DAYLIGHT
BEGIN:STANDARD
TZOFFSETFROM:-0400
TZOFFSETTO:-0500
TZNAME:EST
DTSTART:20251102T060000
END:STANDARD
BEGIN:DAYLIGHT
TZOFFSETFROM:-0500
TZOFFSETTO:-0400
TZNAME:EDT
DTSTART:20260308T070000
END:DAYLIGHT
BEGIN:STANDARD
TZOFFSETFROM:-0400
TZOFFSETTO:-0500
TZNAME:EST
DTSTART:20261101T060000
END:STANDARD
BEGIN:DAYLIGHT
TZOFFSETFROM:-0500
TZOFFSETTO:-0400
TZNAME:EDT
DTSTART:20270314T070000
END:DAYLIGHT
BEGIN:STANDARD
TZOFFSETFROM:-0400
TZOFFSETTO:-0500
TZNAME:EST
DTSTART:20271107T060000
END:STANDARD
END:VTIMEZONE
BEGIN:VEVENT
DTSTART;TZID=America/New_York:20260201T070000
DTEND;TZID=America/New_York:20260201T090000
DTSTAMP:20260423T045856
CREATED:20260118T092407Z
LAST-MODIFIED:20260118T092407Z
UID:10002235-1769929200-1769936400@excelfl.org
SUMMARY:MANSparency
DESCRIPTION:Men\, it’s time to rise together. \nJoin a brotherhood committed to faith\, growth\, and purpose. This is where you belong. \nCome ready to be encouraged and challenged as we sharpen one another and become the men God called us to be. \n“As iron sharpens iron\, so one man sharpens another.” – Proverbs 27:17 \nDon’t stand alone. Join us. Grow with us.
URL:https://excelfl.org/event/mansparency/2026-02-01/
LOCATION:Excel Church\, 3563 Philips Highway\, Jacksonville\, FL\, 32207\, United States
CATEGORIES:Events
ATTACH;FMTTYPE=image/png:https://excelfl.org/wp-content/uploads/2026/01/Mansparency-Marketing_1920x1080.png
ORGANIZER;CN="EXCEL Church":MAILTO:events@excelfl.org
GEO:30.2907109;-81.634021
X-APPLE-STRUCTURED-LOCATION;VALUE=URI;X-ADDRESS=Excel Church 3563 Philips Highway Jacksonville FL 32207 United States;X-APPLE-RADIUS=500;X-TITLE=3563 Philips Highway:geo:-81.634021,30.2907109
END:VEVENT
BEGIN:VEVENT
DTSTART;TZID=America/New_York:20260201T100000
DTEND;TZID=America/New_York:20260201T113000
DTSTAMP:20260423T045856
CREATED:20231202T165133Z
LAST-MODIFIED:20231202T165432Z
UID:10001143-1769940000-1769945400@excelfl.org
SUMMARY:Sunday Service
DESCRIPTION:Join us for our Sunday Service @ 10:00 am each week.  At EXCEL Church we believe you should EXCEL in God and EXCEL in Life.  Come EXCEL with us. \n\nWe have our eKids Ministry for children from 3 months old through 5th grade. To find out more about what we have for your kids click here.\nWe have our eYouth Ministry for youth from 6th grade through 12th grade. To find out more about what we have available for your youth click here.\nIf you will be visiting for the first time let us know you are coming by clicking here.\nFinally\, our services are also streamed live.  Click here to watch during service times.
URL:https://excelfl.org/event/sunday-service/2026-02-01/
LOCATION:Excel Church\, 3563 Philips Highway\, Jacksonville\, FL\, 32207\, United States
CATEGORIES:Service
ATTACH;FMTTYPE=image/png:https://excelfl.org/wp-content/uploads/2023/03/MicrosoftTeams-image-3-2.png
ORGANIZER;CN="EXCEL Church":MAILTO:events@excelfl.org
GEO:30.2907109;-81.634021
X-APPLE-STRUCTURED-LOCATION;VALUE=URI;X-ADDRESS=Excel Church 3563 Philips Highway Jacksonville FL 32207 United States;X-APPLE-RADIUS=500;X-TITLE=3563 Philips Highway:geo:-81.634021,30.2907109
END:VEVENT
BEGIN:VEVENT
DTSTART;TZID=America/New_York:20260207T110000
DTEND;TZID=America/New_York:20260207T123000
DTSTAMP:20260423T045856
CREATED:20260118T092652Z
LAST-MODIFIED:20260118T092652Z
UID:10002238-1770462000-1770467400@excelfl.org
SUMMARY:eTeams Volunteers Meeting
DESCRIPTION:EXCEL Volunteers\, get ready to be encouraged and equipped to serve in excellence.
URL:https://excelfl.org/event/eteams-volunteers-meeting-3/
LOCATION:Excel Church\, 3563 Philips Highway\, Jacksonville\, FL\, 32207\, United States
CATEGORIES:Events
ATTACH;FMTTYPE=image/png:https://excelfl.org/wp-content/uploads/2025/01/eTeams-Volunteers-Meeting-General.png
ORGANIZER;CN="EXCEL Church":MAILTO:events@excelfl.org
GEO:30.2907109;-81.634021
X-APPLE-STRUCTURED-LOCATION;VALUE=URI;X-ADDRESS=Excel Church 3563 Philips Highway Jacksonville FL 32207 United States;X-APPLE-RADIUS=500;X-TITLE=3563 Philips Highway:geo:-81.634021,30.2907109
END:VEVENT
BEGIN:VEVENT
DTSTART;TZID=America/New_York:20260208T100000
DTEND;TZID=America/New_York:20260208T113000
DTSTAMP:20260423T045856
CREATED:20231202T165133Z
LAST-MODIFIED:20231202T165432Z
UID:10001144-1770544800-1770550200@excelfl.org
SUMMARY:Sunday Service
DESCRIPTION:Join us for our Sunday Service @ 10:00 am each week.  At EXCEL Church we believe you should EXCEL in God and EXCEL in Life.  Come EXCEL with us. \n\nWe have our eKids Ministry for children from 3 months old through 5th grade. To find out more about what we have for your kids click here.\nWe have our eYouth Ministry for youth from 6th grade through 12th grade. To find out more about what we have available for your youth click here.\nIf you will be visiting for the first time let us know you are coming by clicking here.\nFinally\, our services are also streamed live.  Click here to watch during service times.
URL:https://excelfl.org/event/sunday-service/2026-02-08/
LOCATION:Excel Church\, 3563 Philips Highway\, Jacksonville\, FL\, 32207\, United States
CATEGORIES:Service
ATTACH;FMTTYPE=image/png:https://excelfl.org/wp-content/uploads/2023/03/MicrosoftTeams-image-3-2.png
ORGANIZER;CN="EXCEL Church":MAILTO:events@excelfl.org
GEO:30.2907109;-81.634021
X-APPLE-STRUCTURED-LOCATION;VALUE=URI;X-ADDRESS=Excel Church 3563 Philips Highway Jacksonville FL 32207 United States;X-APPLE-RADIUS=500;X-TITLE=3563 Philips Highway:geo:-81.634021,30.2907109
END:VEVENT
BEGIN:VEVENT
DTSTART;TZID=America/New_York:20260208T100000
DTEND;TZID=America/New_York:20260208T123000
DTSTAMP:20260423T045856
CREATED:20260114T152725Z
LAST-MODIFIED:20260114T152725Z
UID:10002233-1770544800-1770553800@excelfl.org
SUMMARY:Super Bowl Sunday
DESCRIPTION:Game On: Super Bowl Sunday is on Sunday\, February 8th! \nSave the date and get ready to join the fun with your church family! \nCome dressed in your favorite football jersey and kick off the day empowered by the Word of \nGod. \nAfter service\, stick around for food trucks and games for the whole family! This is the perfect \ntime to connect with others\, so bring your friends and family to be part of the action. \nWe’ll see you there!
URL:https://excelfl.org/event/super-bowl-sunday-5/
LOCATION:Excel Church\, 3563 Philips Highway\, Jacksonville\, FL\, 32207\, United States
CATEGORIES:Events
ATTACH;FMTTYPE=image/png:https://excelfl.org/wp-content/uploads/2026/01/SBS_1920x1080_Web_CC.png
ORGANIZER;CN="EXCEL Church":MAILTO:events@excelfl.org
GEO:30.2907109;-81.634021
X-APPLE-STRUCTURED-LOCATION;VALUE=URI;X-ADDRESS=Excel Church 3563 Philips Highway Jacksonville FL 32207 United States;X-APPLE-RADIUS=500;X-TITLE=3563 Philips Highway:geo:-81.634021,30.2907109
END:VEVENT
BEGIN:VEVENT
DTSTART;TZID=America/New_York:20260215T090000
DTEND;TZID=America/New_York:20260215T100000
DTSTAMP:20260423T045856
CREATED:20251219T225632Z
LAST-MODIFIED:20251219T225839Z
UID:10002158-1771146000-1771149600@excelfl.org
SUMMARY:eTeams - Membership 101
DESCRIPTION:eTeams is designed to help you connect with your church\, discover your God given strengths\, EXCEL in God\, and EXCEL Life.  eTeams is made up of the following two steps\, offered once a month\, be sure to start at class 1: \nClass 1 Membership 101 (2nd Sunday\, 9:00 am – 10:00 am) \nClass 2 Teams 201 (3rd Sunday\, 9:00 am – 10:00 am) \nPlease note that you must begin at Class 1.  Sign up now to get started at the upcoming class. \nSign Up Now!
URL:https://excelfl.org/event/eteams-membership-101-5/2026-02-15/
LOCATION:Excel Church\, 3563 Philips Highway\, Jacksonville\, FL\, 32207\, United States
CATEGORIES:Growth Track
ATTACH;FMTTYPE=image/png:https://excelfl.org/wp-content/uploads/2019/01/Screen-Shot-2022-01-16-at-8.09.45-AM.png
ORGANIZER;CN="EXCEL Church":MAILTO:events@excelfl.org
GEO:30.2907109;-81.634021
X-APPLE-STRUCTURED-LOCATION;VALUE=URI;X-ADDRESS=Excel Church 3563 Philips Highway Jacksonville FL 32207 United States;X-APPLE-RADIUS=500;X-TITLE=3563 Philips Highway:geo:-81.634021,30.2907109
END:VEVENT
BEGIN:VEVENT
DTSTART;TZID=America/New_York:20260215T100000
DTEND;TZID=America/New_York:20260215T113000
DTSTAMP:20260423T045856
CREATED:20231202T165133Z
LAST-MODIFIED:20231202T165432Z
UID:10001145-1771149600-1771155000@excelfl.org
SUMMARY:Sunday Service
DESCRIPTION:Join us for our Sunday Service @ 10:00 am each week.  At EXCEL Church we believe you should EXCEL in God and EXCEL in Life.  Come EXCEL with us. \n\nWe have our eKids Ministry for children from 3 months old through 5th grade. To find out more about what we have for your kids click here.\nWe have our eYouth Ministry for youth from 6th grade through 12th grade. To find out more about what we have available for your youth click here.\nIf you will be visiting for the first time let us know you are coming by clicking here.\nFinally\, our services are also streamed live.  Click here to watch during service times.
URL:https://excelfl.org/event/sunday-service/2026-02-15/
LOCATION:Excel Church\, 3563 Philips Highway\, Jacksonville\, FL\, 32207\, United States
CATEGORIES:Service
ATTACH;FMTTYPE=image/png:https://excelfl.org/wp-content/uploads/2023/03/MicrosoftTeams-image-3-2.png
ORGANIZER;CN="EXCEL Church":MAILTO:events@excelfl.org
GEO:30.2907109;-81.634021
X-APPLE-STRUCTURED-LOCATION;VALUE=URI;X-ADDRESS=Excel Church 3563 Philips Highway Jacksonville FL 32207 United States;X-APPLE-RADIUS=500;X-TITLE=3563 Philips Highway:geo:-81.634021,30.2907109
END:VEVENT
BEGIN:VEVENT
DTSTART;TZID=America/New_York:20260222T090000
DTEND;TZID=America/New_York:20260222T100000
DTSTAMP:20260423T045856
CREATED:20251219T230218Z
LAST-MODIFIED:20251219T230218Z
UID:10002162-1771750800-1771754400@excelfl.org
SUMMARY:eTeams - Teams 201
DESCRIPTION:eTeams is designed to help you connect with your church\, discover your God given strengths\, EXCEL in God\, and EXCEL Life.  eTeams is made up of the following two steps\, offered once a month\, be sure to start at class 1: \nClass 1 Membership 101 (2nd Sunday\, 9:00 am – 10:00 am) \nClass 2 Teams 201 (3rd Sunday\, 9:00 am – 10:00 am) \nPlease note that you must begin at Class 1.  Sign up now to get started at the upcoming class. \nSign Up Now!
URL:https://excelfl.org/event/eteams-teams-201-4/2026-02-22/
LOCATION:Excel Church\, 3563 Philips Highway\, Jacksonville\, FL\, 32207\, United States
CATEGORIES:Growth Track
ATTACH;FMTTYPE=image/png:https://excelfl.org/wp-content/uploads/2019/01/Screen-Shot-2022-01-16-at-8.15.25-AM.png
ORGANIZER;CN="EXCEL Church":MAILTO:events@excelfl.org
GEO:30.2907109;-81.634021
X-APPLE-STRUCTURED-LOCATION;VALUE=URI;X-ADDRESS=Excel Church 3563 Philips Highway Jacksonville FL 32207 United States;X-APPLE-RADIUS=500;X-TITLE=3563 Philips Highway:geo:-81.634021,30.2907109
END:VEVENT
BEGIN:VEVENT
DTSTART;TZID=America/New_York:20260222T100000
DTEND;TZID=America/New_York:20260222T113000
DTSTAMP:20260423T045856
CREATED:20231202T165133Z
LAST-MODIFIED:20231202T165432Z
UID:10001146-1771754400-1771759800@excelfl.org
SUMMARY:Sunday Service
DESCRIPTION:Join us for our Sunday Service @ 10:00 am each week.  At EXCEL Church we believe you should EXCEL in God and EXCEL in Life.  Come EXCEL with us. \n\nWe have our eKids Ministry for children from 3 months old through 5th grade. To find out more about what we have for your kids click here.\nWe have our eYouth Ministry for youth from 6th grade through 12th grade. To find out more about what we have available for your youth click here.\nIf you will be visiting for the first time let us know you are coming by clicking here.\nFinally\, our services are also streamed live.  Click here to watch during service times.
URL:https://excelfl.org/event/sunday-service/2026-02-22/
LOCATION:Excel Church\, 3563 Philips Highway\, Jacksonville\, FL\, 32207\, United States
CATEGORIES:Service
ATTACH;FMTTYPE=image/png:https://excelfl.org/wp-content/uploads/2023/03/MicrosoftTeams-image-3-2.png
ORGANIZER;CN="EXCEL Church":MAILTO:events@excelfl.org
GEO:30.2907109;-81.634021
X-APPLE-STRUCTURED-LOCATION;VALUE=URI;X-ADDRESS=Excel Church 3563 Philips Highway Jacksonville FL 32207 United States;X-APPLE-RADIUS=500;X-TITLE=3563 Philips Highway:geo:-81.634021,30.2907109
END:VEVENT
END:VCALENDAR