BEGIN:VCALENDAR
VERSION:2.0
PRODID:-//Excel Church - ECPv6.15.20//NONSGML v1.0//EN
CALSCALE:GREGORIAN
METHOD:PUBLISH
X-WR-CALNAME:Excel Church
X-ORIGINAL-URL:https://excelfl.org
X-WR-CALDESC:Events for Excel Church
REFRESH-INTERVAL;VALUE=DURATION:PT1H
X-Robots-Tag:noindex
X-PUBLISHED-TTL:PT1H
BEGIN:VTIMEZONE
TZID:America/New_York
BEGIN:DAYLIGHT
TZOFFSETFROM:-0500
TZOFFSETTO:-0400
TZNAME:EDT
DTSTART:20250309T070000
END:DAYLIGHT
BEGIN:STANDARD
TZOFFSETFROM:-0400
TZOFFSETTO:-0500
TZNAME:EST
DTSTART:20251102T060000
END:STANDARD
BEGIN:DAYLIGHT
TZOFFSETFROM:-0500
TZOFFSETTO:-0400
TZNAME:EDT
DTSTART:20260308T070000
END:DAYLIGHT
BEGIN:STANDARD
TZOFFSETFROM:-0400
TZOFFSETTO:-0500
TZNAME:EST
DTSTART:20261101T060000
END:STANDARD
BEGIN:DAYLIGHT
TZOFFSETFROM:-0500
TZOFFSETTO:-0400
TZNAME:EDT
DTSTART:20270314T070000
END:DAYLIGHT
BEGIN:STANDARD
TZOFFSETFROM:-0400
TZOFFSETTO:-0500
TZNAME:EST
DTSTART:20271107T060000
END:STANDARD
END:VTIMEZONE
BEGIN:VEVENT
DTSTART;TZID=America/New_York:20260301T070000
DTEND;TZID=America/New_York:20260301T090000
DTSTAMP:20260423T031804
CREATED:20260118T092407Z
LAST-MODIFIED:20260118T092407Z
UID:10002236-1772348400-1772355600@excelfl.org
SUMMARY:MANSparency
DESCRIPTION:Men\, it’s time to rise together. \nJoin a brotherhood committed to faith\, growth\, and purpose. This is where you belong. \nCome ready to be encouraged and challenged as we sharpen one another and become the men God called us to be. \n“As iron sharpens iron\, so one man sharpens another.” – Proverbs 27:17 \nDon’t stand alone. Join us. Grow with us.
URL:https://excelfl.org/event/mansparency/2026-03-01/
LOCATION:Excel Church\, 3563 Philips Highway\, Jacksonville\, FL\, 32207\, United States
CATEGORIES:Events
ATTACH;FMTTYPE=image/png:https://excelfl.org/wp-content/uploads/2026/01/Mansparency-Marketing_1920x1080.png
ORGANIZER;CN="EXCEL Church":MAILTO:events@excelfl.org
GEO:30.2907109;-81.634021
X-APPLE-STRUCTURED-LOCATION;VALUE=URI;X-ADDRESS=Excel Church 3563 Philips Highway Jacksonville FL 32207 United States;X-APPLE-RADIUS=500;X-TITLE=3563 Philips Highway:geo:-81.634021,30.2907109
END:VEVENT
BEGIN:VEVENT
DTSTART;TZID=America/New_York:20260301T100000
DTEND;TZID=America/New_York:20260301T113000
DTSTAMP:20260423T031804
CREATED:20231202T165133Z
LAST-MODIFIED:20231202T165432Z
UID:10001147-1772359200-1772364600@excelfl.org
SUMMARY:Sunday Service
DESCRIPTION:Join us for our Sunday Service @ 10:00 am each week.  At EXCEL Church we believe you should EXCEL in God and EXCEL in Life.  Come EXCEL with us. \n\nWe have our eKids Ministry for children from 3 months old through 5th grade. To find out more about what we have for your kids click here.\nWe have our eYouth Ministry for youth from 6th grade through 12th grade. To find out more about what we have available for your youth click here.\nIf you will be visiting for the first time let us know you are coming by clicking here.\nFinally\, our services are also streamed live.  Click here to watch during service times.
URL:https://excelfl.org/event/sunday-service/2026-03-01/
LOCATION:Excel Church\, 3563 Philips Highway\, Jacksonville\, FL\, 32207\, United States
CATEGORIES:Service
ATTACH;FMTTYPE=image/png:https://excelfl.org/wp-content/uploads/2023/03/MicrosoftTeams-image-3-2.png
ORGANIZER;CN="EXCEL Church":MAILTO:events@excelfl.org
GEO:30.2907109;-81.634021
X-APPLE-STRUCTURED-LOCATION;VALUE=URI;X-ADDRESS=Excel Church 3563 Philips Highway Jacksonville FL 32207 United States;X-APPLE-RADIUS=500;X-TITLE=3563 Philips Highway:geo:-81.634021,30.2907109
END:VEVENT
BEGIN:VEVENT
DTSTART;VALUE=DATE:20260308
DTEND;VALUE=DATE:20260309
DTSTAMP:20260423T031804
CREATED:20260306T144306Z
LAST-MODIFIED:20260306T144306Z
UID:10002240-1772928000-1773014399@excelfl.org
SUMMARY:Daylight Saving Time
DESCRIPTION:Daylight Saving Time is Anniversary Sunday\, March 8th! \nSet your clocks forward one hour on Saturday\, March 8th and come ready to celebrate 9 Years of EXCEL!
URL:https://excelfl.org/event/daylight-saving-time-6/
LOCATION:Excel Church\, 3563 Philips Highway\, Jacksonville\, FL\, 32207\, United States
CATEGORIES:Events
ATTACH;FMTTYPE=image/jpeg:https://excelfl.org/wp-content/uploads/2026/03/DSTSpring-General_1920x1080.jpg
ORGANIZER;CN="EXCEL Church":MAILTO:events@excelfl.org
GEO:30.2907109;-81.634021
X-APPLE-STRUCTURED-LOCATION;VALUE=URI;X-ADDRESS=Excel Church 3563 Philips Highway Jacksonville FL 32207 United States;X-APPLE-RADIUS=500;X-TITLE=3563 Philips Highway:geo:-81.634021,30.2907109
END:VEVENT
BEGIN:VEVENT
DTSTART;TZID=America/New_York:20260308T100000
DTEND;TZID=America/New_York:20260308T113000
DTSTAMP:20260423T031804
CREATED:20231202T165133Z
LAST-MODIFIED:20231202T165432Z
UID:10001148-1772964000-1772969400@excelfl.org
SUMMARY:Sunday Service
DESCRIPTION:Join us for our Sunday Service @ 10:00 am each week.  At EXCEL Church we believe you should EXCEL in God and EXCEL in Life.  Come EXCEL with us. \n\nWe have our eKids Ministry for children from 3 months old through 5th grade. To find out more about what we have for your kids click here.\nWe have our eYouth Ministry for youth from 6th grade through 12th grade. To find out more about what we have available for your youth click here.\nIf you will be visiting for the first time let us know you are coming by clicking here.\nFinally\, our services are also streamed live.  Click here to watch during service times.
URL:https://excelfl.org/event/sunday-service/2026-03-08/
LOCATION:Excel Church\, 3563 Philips Highway\, Jacksonville\, FL\, 32207\, United States
CATEGORIES:Service
ATTACH;FMTTYPE=image/png:https://excelfl.org/wp-content/uploads/2023/03/MicrosoftTeams-image-3-2.png
ORGANIZER;CN="EXCEL Church":MAILTO:events@excelfl.org
GEO:30.2907109;-81.634021
X-APPLE-STRUCTURED-LOCATION;VALUE=URI;X-ADDRESS=Excel Church 3563 Philips Highway Jacksonville FL 32207 United States;X-APPLE-RADIUS=500;X-TITLE=3563 Philips Highway:geo:-81.634021,30.2907109
END:VEVENT
BEGIN:VEVENT
DTSTART;TZID=America/New_York:20260308T100000
DTEND;TZID=America/New_York:20260308T120000
DTSTAMP:20260423T031804
CREATED:20260114T153741Z
LAST-MODIFIED:20260114T153741Z
UID:10002234-1772964000-1772971200@excelfl.org
SUMMARY:EXCEL’s 9th Anniversary
DESCRIPTION:We’re celebrating 9 incredible years of EXCEL Church! \nJoin us for a special anniversary service as we reflect on God’s faithfulness and look ahead to the exciting future He has for our church.. \nLet’s reflect on God’s faithfulness and look ahead to the exciting future He has for EXCEL!
URL:https://excelfl.org/event/excels-9th-anniversary/
LOCATION:Excel Church\, 3563 Philips Highway\, Jacksonville\, FL\, 32207\, United States
CATEGORIES:Events
ATTACH;FMTTYPE=image/jpeg:https://excelfl.org/wp-content/uploads/2026/01/9th-Anniversary-General_1920x1080.jpg
ORGANIZER;CN="EXCEL Church":MAILTO:events@excelfl.org
GEO:30.2907109;-81.634021
X-APPLE-STRUCTURED-LOCATION;VALUE=URI;X-ADDRESS=Excel Church 3563 Philips Highway Jacksonville FL 32207 United States;X-APPLE-RADIUS=500;X-TITLE=3563 Philips Highway:geo:-81.634021,30.2907109
END:VEVENT
BEGIN:VEVENT
DTSTART;TZID=America/New_York:20260315T090000
DTEND;TZID=America/New_York:20260315T100000
DTSTAMP:20260423T031804
CREATED:20251219T225632Z
LAST-MODIFIED:20251219T225839Z
UID:10002159-1773565200-1773568800@excelfl.org
SUMMARY:eTeams - Membership 101
DESCRIPTION:eTeams is designed to help you connect with your church\, discover your God given strengths\, EXCEL in God\, and EXCEL Life.  eTeams is made up of the following two steps\, offered once a month\, be sure to start at class 1: \nClass 1 Membership 101 (2nd Sunday\, 9:00 am – 10:00 am) \nClass 2 Teams 201 (3rd Sunday\, 9:00 am – 10:00 am) \nPlease note that you must begin at Class 1.  Sign up now to get started at the upcoming class. \nSign Up Now!
URL:https://excelfl.org/event/eteams-membership-101-5/2026-03-15/
LOCATION:Excel Church\, 3563 Philips Highway\, Jacksonville\, FL\, 32207\, United States
CATEGORIES:Growth Track
ATTACH;FMTTYPE=image/png:https://excelfl.org/wp-content/uploads/2019/01/Screen-Shot-2022-01-16-at-8.09.45-AM.png
ORGANIZER;CN="EXCEL Church":MAILTO:events@excelfl.org
GEO:30.2907109;-81.634021
X-APPLE-STRUCTURED-LOCATION;VALUE=URI;X-ADDRESS=Excel Church 3563 Philips Highway Jacksonville FL 32207 United States;X-APPLE-RADIUS=500;X-TITLE=3563 Philips Highway:geo:-81.634021,30.2907109
END:VEVENT
BEGIN:VEVENT
DTSTART;TZID=America/New_York:20260315T100000
DTEND;TZID=America/New_York:20260315T113000
DTSTAMP:20260423T031804
CREATED:20231202T165133Z
LAST-MODIFIED:20231202T165432Z
UID:10001149-1773568800-1773574200@excelfl.org
SUMMARY:Sunday Service
DESCRIPTION:Join us for our Sunday Service @ 10:00 am each week.  At EXCEL Church we believe you should EXCEL in God and EXCEL in Life.  Come EXCEL with us. \n\nWe have our eKids Ministry for children from 3 months old through 5th grade. To find out more about what we have for your kids click here.\nWe have our eYouth Ministry for youth from 6th grade through 12th grade. To find out more about what we have available for your youth click here.\nIf you will be visiting for the first time let us know you are coming by clicking here.\nFinally\, our services are also streamed live.  Click here to watch during service times.
URL:https://excelfl.org/event/sunday-service/2026-03-15/
LOCATION:Excel Church\, 3563 Philips Highway\, Jacksonville\, FL\, 32207\, United States
CATEGORIES:Service
ATTACH;FMTTYPE=image/png:https://excelfl.org/wp-content/uploads/2023/03/MicrosoftTeams-image-3-2.png
ORGANIZER;CN="EXCEL Church":MAILTO:events@excelfl.org
GEO:30.2907109;-81.634021
X-APPLE-STRUCTURED-LOCATION;VALUE=URI;X-ADDRESS=Excel Church 3563 Philips Highway Jacksonville FL 32207 United States;X-APPLE-RADIUS=500;X-TITLE=3563 Philips Highway:geo:-81.634021,30.2907109
END:VEVENT
BEGIN:VEVENT
DTSTART;TZID=America/New_York:20260322T090000
DTEND;TZID=America/New_York:20260322T100000
DTSTAMP:20260423T031804
CREATED:20251219T230218Z
LAST-MODIFIED:20251219T230218Z
UID:10002163-1774170000-1774173600@excelfl.org
SUMMARY:eTeams - Teams 201
DESCRIPTION:eTeams is designed to help you connect with your church\, discover your God given strengths\, EXCEL in God\, and EXCEL Life.  eTeams is made up of the following two steps\, offered once a month\, be sure to start at class 1: \nClass 1 Membership 101 (2nd Sunday\, 9:00 am – 10:00 am) \nClass 2 Teams 201 (3rd Sunday\, 9:00 am – 10:00 am) \nPlease note that you must begin at Class 1.  Sign up now to get started at the upcoming class. \nSign Up Now!
URL:https://excelfl.org/event/eteams-teams-201-4/2026-03-22/
LOCATION:Excel Church\, 3563 Philips Highway\, Jacksonville\, FL\, 32207\, United States
CATEGORIES:Growth Track
ATTACH;FMTTYPE=image/png:https://excelfl.org/wp-content/uploads/2019/01/Screen-Shot-2022-01-16-at-8.15.25-AM.png
ORGANIZER;CN="EXCEL Church":MAILTO:events@excelfl.org
GEO:30.2907109;-81.634021
X-APPLE-STRUCTURED-LOCATION;VALUE=URI;X-ADDRESS=Excel Church 3563 Philips Highway Jacksonville FL 32207 United States;X-APPLE-RADIUS=500;X-TITLE=3563 Philips Highway:geo:-81.634021,30.2907109
END:VEVENT
BEGIN:VEVENT
DTSTART;TZID=America/New_York:20260322T100000
DTEND;TZID=America/New_York:20260322T113000
DTSTAMP:20260423T031804
CREATED:20231202T165133Z
LAST-MODIFIED:20231202T165432Z
UID:10001150-1774173600-1774179000@excelfl.org
SUMMARY:Sunday Service
DESCRIPTION:Join us for our Sunday Service @ 10:00 am each week.  At EXCEL Church we believe you should EXCEL in God and EXCEL in Life.  Come EXCEL with us. \n\nWe have our eKids Ministry for children from 3 months old through 5th grade. To find out more about what we have for your kids click here.\nWe have our eYouth Ministry for youth from 6th grade through 12th grade. To find out more about what we have available for your youth click here.\nIf you will be visiting for the first time let us know you are coming by clicking here.\nFinally\, our services are also streamed live.  Click here to watch during service times.
URL:https://excelfl.org/event/sunday-service/2026-03-22/
LOCATION:Excel Church\, 3563 Philips Highway\, Jacksonville\, FL\, 32207\, United States
CATEGORIES:Service
ATTACH;FMTTYPE=image/png:https://excelfl.org/wp-content/uploads/2023/03/MicrosoftTeams-image-3-2.png
ORGANIZER;CN="EXCEL Church":MAILTO:events@excelfl.org
GEO:30.2907109;-81.634021
X-APPLE-STRUCTURED-LOCATION;VALUE=URI;X-ADDRESS=Excel Church 3563 Philips Highway Jacksonville FL 32207 United States;X-APPLE-RADIUS=500;X-TITLE=3563 Philips Highway:geo:-81.634021,30.2907109
END:VEVENT
BEGIN:VEVENT
DTSTART;TZID=America/New_York:20260329T100000
DTEND;TZID=America/New_York:20260329T113000
DTSTAMP:20260423T031804
CREATED:20231202T165133Z
LAST-MODIFIED:20231202T165432Z
UID:10001151-1774778400-1774783800@excelfl.org
SUMMARY:Sunday Service
DESCRIPTION:Join us for our Sunday Service @ 10:00 am each week.  At EXCEL Church we believe you should EXCEL in God and EXCEL in Life.  Come EXCEL with us. \n\nWe have our eKids Ministry for children from 3 months old through 5th grade. To find out more about what we have for your kids click here.\nWe have our eYouth Ministry for youth from 6th grade through 12th grade. To find out more about what we have available for your youth click here.\nIf you will be visiting for the first time let us know you are coming by clicking here.\nFinally\, our services are also streamed live.  Click here to watch during service times.
URL:https://excelfl.org/event/sunday-service/2026-03-29/
LOCATION:Excel Church\, 3563 Philips Highway\, Jacksonville\, FL\, 32207\, United States
CATEGORIES:Service
ATTACH;FMTTYPE=image/png:https://excelfl.org/wp-content/uploads/2023/03/MicrosoftTeams-image-3-2.png
ORGANIZER;CN="EXCEL Church":MAILTO:events@excelfl.org
GEO:30.2907109;-81.634021
X-APPLE-STRUCTURED-LOCATION;VALUE=URI;X-ADDRESS=Excel Church 3563 Philips Highway Jacksonville FL 32207 United States;X-APPLE-RADIUS=500;X-TITLE=3563 Philips Highway:geo:-81.634021,30.2907109
END:VEVENT
END:VCALENDAR