BEGIN:VCALENDAR
VERSION:2.0
PRODID:-//Excel Church - ECPv6.15.20//NONSGML v1.0//EN
CALSCALE:GREGORIAN
METHOD:PUBLISH
X-WR-CALNAME:Excel Church
X-ORIGINAL-URL:https://excelfl.org
X-WR-CALDESC:Events for Excel Church
REFRESH-INTERVAL;VALUE=DURATION:PT1H
X-Robots-Tag:noindex
X-PUBLISHED-TTL:PT1H
BEGIN:VTIMEZONE
TZID:America/New_York
BEGIN:DAYLIGHT
TZOFFSETFROM:-0500
TZOFFSETTO:-0400
TZNAME:EDT
DTSTART:20190310T070000
END:DAYLIGHT
BEGIN:STANDARD
TZOFFSETFROM:-0400
TZOFFSETTO:-0500
TZNAME:EST
DTSTART:20191103T060000
END:STANDARD
BEGIN:DAYLIGHT
TZOFFSETFROM:-0500
TZOFFSETTO:-0400
TZNAME:EDT
DTSTART:20200308T070000
END:DAYLIGHT
BEGIN:STANDARD
TZOFFSETFROM:-0400
TZOFFSETTO:-0500
TZNAME:EST
DTSTART:20201101T060000
END:STANDARD
BEGIN:DAYLIGHT
TZOFFSETFROM:-0500
TZOFFSETTO:-0400
TZNAME:EDT
DTSTART:20210314T070000
END:DAYLIGHT
BEGIN:STANDARD
TZOFFSETFROM:-0400
TZOFFSETTO:-0500
TZNAME:EST
DTSTART:20211107T060000
END:STANDARD
END:VTIMEZONE
BEGIN:VEVENT
DTSTART;TZID=America/New_York:20201108T100000
DTEND;TZID=America/New_York:20201108T120000
DTSTAMP:20260423T170448
CREATED:20201029T223054Z
LAST-MODIFIED:20201105T172635Z
UID:10000727-1604829600-1604836800@excelfl.org
SUMMARY:Sunday Service
DESCRIPTION:Join us for our Sunday morning service @ 10:00am each week.\n\n\n\nWe’re excited to announce that we are officially resuming Services in our buildings for you to attend! \nSeating is limited! \nDue to limited seating\, you will need to make a reservation to attend. Seating is placed at the recommended distance except to accommodate members of the same household sitting together. Please note kids 5th grade and younger will not be admitted at this time. \nFor commonly asked questions about the safety precautions that we have implemented\, please click here. \nIf you choose to continue to watch online click here \nRSVP will be available from Monday\, November 2nd @ 8:00 am to Saturday\, November 7th @ 12:00 pm.
URL:https://excelfl.org/event/sunday-service-11/
LOCATION:Excel Church\, 3563 Philips Highway\, Jacksonville\, FL\, 32207\, United States
CATEGORIES:Service
ATTACH;FMTTYPE=image/jpeg:https://excelfl.org/wp-content/uploads/2020/10/d0dac2351cd11cc87a1691c79903fa81-2x2hQY.tmp_.jpg
GEO:30.2907109;-81.634021
X-APPLE-STRUCTURED-LOCATION;VALUE=URI;X-ADDRESS=Excel Church 3563 Philips Highway Jacksonville FL 32207 United States;X-APPLE-RADIUS=500;X-TITLE=3563 Philips Highway:geo:-81.634021,30.2907109
END:VEVENT
BEGIN:VEVENT
DTSTART;TZID=America/New_York:20201104T190000
DTEND;TZID=America/New_York:20201104T203000
DTSTAMP:20260423T170448
CREATED:20201029T223053Z
LAST-MODIFIED:20201105T084152Z
UID:10000726-1604516400-1604521800@excelfl.org
SUMMARY:eConnect Family Service
DESCRIPTION:Join us for our eConnect Family Service on the first Wednesday night of each month at 7:00 pm.\n\n\n\nWe’re excited to announce that we are officially resuming Services in our buildings for you to attend! \nSeating is limited! \nDue to limited seating\, you will need to make a reservation to attend. Seating is placed at the recommended distance except to accommodate members of the same household sitting together. Please note kids 5th grade and younger will not be admitted at this time. \nFor commonly asked questions about the safety precautions that we have implemented\, please click here. \nIf you choose to continue to watch online click here \nRSVP will be available from Monday\, November 2nd @ 8:00 am to Wednesday\, November 4th @ 12:00 pm.
URL:https://excelfl.org/event/econnect-family-service-3/
LOCATION:Excel Church\, 3563 Philips Highway\, Jacksonville\, FL\, 32207\, United States
CATEGORIES:Service
ATTACH;FMTTYPE=image/jpeg:https://excelfl.org/wp-content/uploads/2020/10/dd540385a303510825bfa683b943d51e-RPAH0Y.tmp_.jpg
GEO:30.2907109;-81.634021
X-APPLE-STRUCTURED-LOCATION;VALUE=URI;X-ADDRESS=Excel Church 3563 Philips Highway Jacksonville FL 32207 United States;X-APPLE-RADIUS=500;X-TITLE=3563 Philips Highway:geo:-81.634021,30.2907109
END:VEVENT
BEGIN:VEVENT
DTSTART;TZID=America/New_York:20201101T100000
DTEND;TZID=America/New_York:20201101T120000
DTSTAMP:20260423T170448
CREATED:20201026T123640Z
LAST-MODIFIED:20201026T123640Z
UID:10000725-1604224800-1604232000@excelfl.org
SUMMARY:Sunday Service
DESCRIPTION:Join us for our Sunday morning service @ 10:00am each week.\n\n\n\nWe’re excited to announce that we are officially resuming Services in our buildings for you to attend! \nSeating is limited! \nDue to limited seating\, you will need to make a reservation to attend. Seating is placed at the recommended distance except to accommodate members of the same household sitting together. Please note kids 5th grade and younger will not be admitted at this time. \nFor commonly asked questions about the safety precautions that we have implemented\, please click here. \nIf you choose to continue to watch online click here \nRSVP will be available from Monday\, October 26th @ 8:00 am to Saturday\, October 31st @ 12:00 pm.
URL:https://excelfl.org/event/sunday-service-10/
LOCATION:Excel Church\, 3563 Philips Highway\, Jacksonville\, FL\, 32207\, United States
CATEGORIES:Service
ATTACH;FMTTYPE=image/jpeg:https://excelfl.org/wp-content/uploads/2020/10/f852db8a4e00e5f0fb77fe30acff078b-spyCwg.tmp_.jpg
GEO:30.2907109;-81.634021
X-APPLE-STRUCTURED-LOCATION;VALUE=URI;X-ADDRESS=Excel Church 3563 Philips Highway Jacksonville FL 32207 United States;X-APPLE-RADIUS=500;X-TITLE=3563 Philips Highway:geo:-81.634021,30.2907109
END:VEVENT
BEGIN:VEVENT
DTSTART;TZID=America/New_York:20201025T100000
DTEND;TZID=America/New_York:20201025T120000
DTSTAMP:20260423T170448
CREATED:20201015T145144Z
LAST-MODIFIED:20201015T160547Z
UID:10000723-1603620000-1603627200@excelfl.org
SUMMARY:Sunday Service
DESCRIPTION:Join us for our Sunday morning service @ 10:00am each week.\n\n\n\nWe’re excited to announce that we are officially resuming Services in our buildings for you to attend! \nSeating is limited! \nDue to limited seating\, you will need to make a reservation to attend. Seating is placed at the recommended distance except to accommodate members of the same household sitting together. Please note kids 5th grade and younger will not be admitted at this time. \nFor commonly asked questions about the safety precautions that we have implemented\, please click here. \nIf you choose to continue to watch online click here \nRSVP will be available from Monday\, October 19th @ 8:00 am to Saturday\, October 24th @ 12:00 pm.
URL:https://excelfl.org/event/sunday-service-9/
LOCATION:Excel Church\, 3563 Philips Highway\, Jacksonville\, FL\, 32207\, United States
CATEGORIES:Service
ATTACH;FMTTYPE=image/jpeg:https://excelfl.org/wp-content/uploads/2020/10/4dbbee31e3a0649d95e96ab025af71ff-9pLru8.tmp_.jpg
GEO:30.2907109;-81.634021
X-APPLE-STRUCTURED-LOCATION;VALUE=URI;X-ADDRESS=Excel Church 3563 Philips Highway Jacksonville FL 32207 United States;X-APPLE-RADIUS=500;X-TITLE=3563 Philips Highway:geo:-81.634021,30.2907109
END:VEVENT
BEGIN:VEVENT
DTSTART;TZID=America/New_York:20201018T100000
DTEND;TZID=America/New_York:20201018T120000
DTSTAMP:20260423T170448
CREATED:20201008T131620Z
LAST-MODIFIED:20201008T132407Z
UID:10000720-1603015200-1603022400@excelfl.org
SUMMARY:Sunday Service
DESCRIPTION:Join us for our Sunday morning service @ 10:00am each week.\n\n\n\nWe’re excited to announce that we are officially resuming Services in our buildings for you to attend! \nSeating is limited! \nDue to limited seating\, you will need to make a reservation to attend. Seating is placed at the recommended distance except to accommodate members of the same household sitting together. Please note kids 5th grade and younger will not be admitted at this time. \nFor commonly asked questions about the safety precautions that we have implemented\, please click here. \nIf you choose to continue to watch online click here \nRSVP will be available from Monday\, October 12th @ 8:00 am to Saturday\, October 17th @ 12:00 pm.
URL:https://excelfl.org/event/sunday-service-8/
LOCATION:Excel Church\, 3563 Philips Highway\, Jacksonville\, FL\, 32207\, United States
CATEGORIES:Service
ATTACH;FMTTYPE=image/jpeg:https://excelfl.org/wp-content/uploads/2020/10/8cee59bcb4da43599328ee5322f5ee86-za6E08.tmp_.jpg
GEO:30.2907109;-81.634021
X-APPLE-STRUCTURED-LOCATION;VALUE=URI;X-ADDRESS=Excel Church 3563 Philips Highway Jacksonville FL 32207 United States;X-APPLE-RADIUS=500;X-TITLE=3563 Philips Highway:geo:-81.634021,30.2907109
END:VEVENT
BEGIN:VEVENT
DTSTART;TZID=America/New_York:20201014T190000
DTEND;TZID=America/New_York:20201014T203000
DTSTAMP:20260423T170448
CREATED:20201009T210547Z
LAST-MODIFIED:20201015T073632Z
UID:10000721-1602702000-1602707400@excelfl.org
SUMMARY:eConnect Family Service
DESCRIPTION:Join us for our eConnect Family Service at 7:00 pm.\n\n\n\nWe’re excited to announce that we are officially resuming Services in our buildings for you to attend! \nSeating is limited! \nDue to limited seating\, you will need to make a reservation to attend. Seating is placed at the recommended distance except to accommodate members of the same household sitting together. Please note kids 5th grade and younger will not be admitted at this time. \nFor commonly asked questions about the safety precautions that we have implemented\, please click here. \nIf you choose to continue to watch online click here \nRSVP will be available from Friday\, October 12th @ 8:00 am to Wednesday\, October 14th @ 12:00 pm.
URL:https://excelfl.org/event/econnect-family-service-2/
LOCATION:Excel Church\, 3563 Philips Highway\, Jacksonville\, FL\, 32207\, United States
CATEGORIES:Service
ATTACH;FMTTYPE=image/jpeg:https://excelfl.org/wp-content/uploads/2020/10/eed76f856f04626abc4385dca1664b12-SfeMLB.tmp_.jpg
GEO:30.2907109;-81.634021
X-APPLE-STRUCTURED-LOCATION;VALUE=URI;X-ADDRESS=Excel Church 3563 Philips Highway Jacksonville FL 32207 United States;X-APPLE-RADIUS=500;X-TITLE=3563 Philips Highway:geo:-81.634021,30.2907109
END:VEVENT
BEGIN:VEVENT
DTSTART;TZID=America/New_York:20201011T100000
DTEND;TZID=America/New_York:20201011T120000
DTSTAMP:20260423T170448
CREATED:20201003T102300Z
LAST-MODIFIED:20201005T220739Z
UID:10000717-1602410400-1602417600@excelfl.org
SUMMARY:Sunday Service
DESCRIPTION:Join us for our Sunday morning service @ 10:00am each week.\n\n\n\nWe’re excited to announce that we are officially resuming Services in our buildings for you to attend! \nSeating is limited! \nDue to limited seating\, you will need to make a reservation to attend. Seating is placed at the recommended distance except to accommodate members of the same household sitting together. Please note kids 5th grade and younger will not be admitted at this time. \nFor commonly asked questions about the safety precautions that we have implemented\, please click here. \nIf you choose to continue to watch online click here \nRSVP will be available from Monday\, October 5th @ 8:00 am to Saturday\, October 10th @ 12:00 pm.
URL:https://excelfl.org/event/sunday-service-7/
LOCATION:Excel Church\, 3563 Philips Highway\, Jacksonville\, FL\, 32207\, United States
CATEGORIES:Service
ATTACH;FMTTYPE=image/jpeg:https://excelfl.org/wp-content/uploads/2020/10/b24910e4f6acdd85c4eb06e1b7713902-vnJk3p.tmp_.jpg
GEO:30.2907109;-81.634021
X-APPLE-STRUCTURED-LOCATION;VALUE=URI;X-ADDRESS=Excel Church 3563 Philips Highway Jacksonville FL 32207 United States;X-APPLE-RADIUS=500;X-TITLE=3563 Philips Highway:geo:-81.634021,30.2907109
END:VEVENT
BEGIN:VEVENT
DTSTART;TZID=America/New_York:20201007T190000
DTEND;TZID=America/New_York:20201007T203000
DTSTAMP:20260423T170448
CREATED:20201003T105652Z
LAST-MODIFIED:20201003T105808Z
UID:10000718-1602097200-1602102600@excelfl.org
SUMMARY:eConnect Family Service
DESCRIPTION:Join us for our eConnect Family Service on the first Wednesday night of each month at 7:00 pm.\n\n\n\nWe’re excited to announce that we are officially resuming Services in our buildings for you to attend! \nSeating is limited! \nDue to limited seating\, you will need to make a reservation to attend. Seating is placed at the recommended distance except to accommodate members of the same household sitting together. Please note kids 5th grade and younger will not be admitted at this time. \nFor commonly asked questions about the safety precautions that we have implemented\, please click here. \nIf you choose to continue to watch online click here \nRSVP will be available from Monday\, October 5th @ 8:00 am to Wednesday\, October 7th @ 12:00 pm.
URL:https://excelfl.org/event/econnect-family-service/
LOCATION:Excel Church\, 3563 Philips Highway\, Jacksonville\, FL\, 32207\, United States
CATEGORIES:Service
ATTACH;FMTTYPE=image/jpeg:https://excelfl.org/wp-content/uploads/2020/10/529bad90ab04cb4406f69cc290e80e81-ypgrhV.tmp_.jpg
GEO:30.2907109;-81.634021
X-APPLE-STRUCTURED-LOCATION;VALUE=URI;X-ADDRESS=Excel Church 3563 Philips Highway Jacksonville FL 32207 United States;X-APPLE-RADIUS=500;X-TITLE=3563 Philips Highway:geo:-81.634021,30.2907109
END:VEVENT
BEGIN:VEVENT
DTSTART;TZID=America/New_York:20200920T100000
DTEND;TZID=America/New_York:20200920T120000
DTSTAMP:20260423T170448
CREATED:20200911T122240Z
LAST-MODIFIED:20200911T122427Z
UID:10000495-1600596000-1600603200@excelfl.org
SUMMARY:Sunday Service
DESCRIPTION:Join us for our Sunday morning service @ 10:00am each week.\n\n\n\nWe’re excited to announce that we are officially resuming Services in our buildings for you to attend! \nSeating is limited! \nDue to limited seating\, you will need to make a reservation to attend. Seating is placed at the recommended distance except to accommodate members of the same household sitting together. Please note kids 5th grade and younger will not be admitted at this time. \nFor commonly asked questions about the safety precautions that we have implemented\, please click here. \nIf you choose to continue to watch online click here \nRSVP will be available from Monday\, September 14th @ 8:00 am to Saturday\, September 19th @ 12:00 pm.
URL:https://excelfl.org/event/sunday-service-3/
LOCATION:Excel Church\, 3563 Philips Highway\, Jacksonville\, FL\, 32207\, United States
CATEGORIES:Service
ATTACH;FMTTYPE=image/jpeg:https://excelfl.org/wp-content/uploads/2020/09/f6f0da8ec57b71a9d729ee72e00fde7c-xu40YU.tmp_.jpg
GEO:30.2907109;-81.634021
X-APPLE-STRUCTURED-LOCATION;VALUE=URI;X-ADDRESS=Excel Church 3563 Philips Highway Jacksonville FL 32207 United States;X-APPLE-RADIUS=500;X-TITLE=3563 Philips Highway:geo:-81.634021,30.2907109
END:VEVENT
BEGIN:VEVENT
DTSTART;TZID=America/New_York:20200913T100000
DTEND;TZID=America/New_York:20200913T120000
DTSTAMP:20260423T170448
CREATED:20200907T174557Z
LAST-MODIFIED:20200912T202906Z
UID:10000494-1599991200-1599998400@excelfl.org
SUMMARY:Sunday Service
DESCRIPTION:Join us for our Sunday morning service @ 10:00am each week.\n\n\n\nWe’re excited to announce that we are officially resuming Services in our buildings for you to attend! \nSeating is limited! \nDue to limited seating\, you will need to make a reservation to attend. Seating is placed at the recommended distance except to accommodate members of the same household sitting together. Please note kids 5th grade and younger will not be admitted at this time. \nFor commonly asked questions about the safety precautions that we have implemented\, please click here. \nIf you choose to continue to watch online click here \nRSVP will be available from Monday\, September 7th @ 8:00 am to Saturday\, September 12th @ 12:00 pm.
URL:https://excelfl.org/event/sunday-service-2/
LOCATION:Excel Church\, 3563 Philips Highway\, Jacksonville\, FL\, 32207\, United States
CATEGORIES:Service
ATTACH;FMTTYPE=image/jpeg:https://excelfl.org/wp-content/uploads/2020/09/a9c9ca27ec1e2aedd661ff733b424775-90Eqql.tmp_.jpg
GEO:30.2907109;-81.634021
X-APPLE-STRUCTURED-LOCATION;VALUE=URI;X-ADDRESS=Excel Church 3563 Philips Highway Jacksonville FL 32207 United States;X-APPLE-RADIUS=500;X-TITLE=3563 Philips Highway:geo:-81.634021,30.2907109
END:VEVENT
END:VCALENDAR