BEGIN:VCALENDAR
VERSION:2.0
PRODID:-//Excel Church - ECPv6.15.20//NONSGML v1.0//EN
CALSCALE:GREGORIAN
METHOD:PUBLISH
X-ORIGINAL-URL:https://excelfl.org
X-WR-CALDESC:Events for Excel Church
REFRESH-INTERVAL;VALUE=DURATION:PT1H
X-Robots-Tag:noindex
X-PUBLISHED-TTL:PT1H
BEGIN:VTIMEZONE
TZID:America/New_York
BEGIN:DAYLIGHT
TZOFFSETFROM:-0500
TZOFFSETTO:-0400
TZNAME:EDT
DTSTART:20170312T070000
END:DAYLIGHT
BEGIN:STANDARD
TZOFFSETFROM:-0400
TZOFFSETTO:-0500
TZNAME:EST
DTSTART:20171105T060000
END:STANDARD
BEGIN:DAYLIGHT
TZOFFSETFROM:-0500
TZOFFSETTO:-0400
TZNAME:EDT
DTSTART:20180311T070000
END:DAYLIGHT
BEGIN:STANDARD
TZOFFSETFROM:-0400
TZOFFSETTO:-0500
TZNAME:EST
DTSTART:20181104T060000
END:STANDARD
BEGIN:DAYLIGHT
TZOFFSETFROM:-0500
TZOFFSETTO:-0400
TZNAME:EDT
DTSTART:20190310T070000
END:DAYLIGHT
BEGIN:STANDARD
TZOFFSETFROM:-0400
TZOFFSETTO:-0500
TZNAME:EST
DTSTART:20191103T060000
END:STANDARD
BEGIN:DAYLIGHT
TZOFFSETFROM:-0500
TZOFFSETTO:-0400
TZNAME:EDT
DTSTART:20200308T070000
END:DAYLIGHT
BEGIN:STANDARD
TZOFFSETFROM:-0400
TZOFFSETTO:-0500
TZNAME:EST
DTSTART:20201101T060000
END:STANDARD
BEGIN:DAYLIGHT
TZOFFSETFROM:-0500
TZOFFSETTO:-0400
TZNAME:EDT
DTSTART:20210314T070000
END:DAYLIGHT
BEGIN:STANDARD
TZOFFSETFROM:-0400
TZOFFSETTO:-0500
TZNAME:EST
DTSTART:20211107T060000
END:STANDARD
BEGIN:DAYLIGHT
TZOFFSETFROM:-0500
TZOFFSETTO:-0400
TZNAME:EDT
DTSTART:20220313T070000
END:DAYLIGHT
BEGIN:STANDARD
TZOFFSETFROM:-0400
TZOFFSETTO:-0500
TZNAME:EST
DTSTART:20221106T060000
END:STANDARD
BEGIN:DAYLIGHT
TZOFFSETFROM:-0500
TZOFFSETTO:-0400
TZNAME:EDT
DTSTART:20230312T070000
END:DAYLIGHT
BEGIN:STANDARD
TZOFFSETFROM:-0400
TZOFFSETTO:-0500
TZNAME:EST
DTSTART:20231105T060000
END:STANDARD
BEGIN:DAYLIGHT
TZOFFSETFROM:-0500
TZOFFSETTO:-0400
TZNAME:EDT
DTSTART:20240310T070000
END:DAYLIGHT
BEGIN:STANDARD
TZOFFSETFROM:-0400
TZOFFSETTO:-0500
TZNAME:EST
DTSTART:20241103T060000
END:STANDARD
BEGIN:DAYLIGHT
TZOFFSETFROM:-0500
TZOFFSETTO:-0400
TZNAME:EDT
DTSTART:20250309T070000
END:DAYLIGHT
BEGIN:STANDARD
TZOFFSETFROM:-0400
TZOFFSETTO:-0500
TZNAME:EST
DTSTART:20251102T060000
END:STANDARD
END:VTIMEZONE
BEGIN:VEVENT
DTSTART;VALUE=DATE:20240728
DTEND;VALUE=DATE:20240729
DTSTAMP:20260423T105543
CREATED:20240621T131511Z
LAST-MODIFIED:20240621T194035Z
UID:10001220-1722124800-1722211199@excelfl.org
SUMMARY:Back to School Drive
DESCRIPTION:We’re on a mission to bring ease to parents and students by providing assistance in purchasing school supplies. Let’s equip our children to begin their school year ready to EXCEL! \nGive to our Back-to-School Fund by one of the following ways: \n\nChurch Center – Click here.\nText2Give – Text the amount followed by B2S to 84321.\n\nIf you would like assistance with school supplies for our child(ren)\, please register below:\n \nRegister Here!
URL:https://excelfl.org/event/back-to-school-drive-4/2024-07-28/
LOCATION:3563 Philips Highway\, Building C\, Jacksonville\, FL\, 32207\, United States
ATTACH;FMTTYPE=image/jpeg:https://excelfl.org/wp-content/uploads/2024/06/B2S-Web_CC-v2.jpg
GEO:30.2907109;-81.634021
X-APPLE-STRUCTURED-LOCATION;VALUE=URI;X-ADDRESS=3563 Philips Highway Building C Jacksonville FL 32207 United States;X-APPLE-RADIUS=500;X-TITLE=3563 Philips Highway\, Building C:geo:-81.634021,30.2907109
END:VEVENT
BEGIN:VEVENT
DTSTART;VALUE=DATE:20240721
DTEND;VALUE=DATE:20240722
DTSTAMP:20260423T105543
CREATED:20240621T131511Z
LAST-MODIFIED:20240621T194035Z
UID:10001219-1721520000-1721606399@excelfl.org
SUMMARY:Back to School Drive
DESCRIPTION:We’re on a mission to bring ease to parents and students by providing assistance in purchasing school supplies. Let’s equip our children to begin their school year ready to EXCEL! \nGive to our Back-to-School Fund by one of the following ways: \n\nChurch Center – Click here.\nText2Give – Text the amount followed by B2S to 84321.\n\nIf you would like assistance with school supplies for our child(ren)\, please register below:\n \nRegister Here!
URL:https://excelfl.org/event/back-to-school-drive-4/2024-07-21/
LOCATION:3563 Philips Highway\, Building C\, Jacksonville\, FL\, 32207\, United States
ATTACH;FMTTYPE=image/jpeg:https://excelfl.org/wp-content/uploads/2024/06/B2S-Web_CC-v2.jpg
GEO:30.2907109;-81.634021
X-APPLE-STRUCTURED-LOCATION;VALUE=URI;X-ADDRESS=3563 Philips Highway Building C Jacksonville FL 32207 United States;X-APPLE-RADIUS=500;X-TITLE=3563 Philips Highway\, Building C:geo:-81.634021,30.2907109
END:VEVENT
BEGIN:VEVENT
DTSTART;VALUE=DATE:20240714
DTEND;VALUE=DATE:20240715
DTSTAMP:20260423T105543
CREATED:20240621T131511Z
LAST-MODIFIED:20240621T194035Z
UID:10001218-1720915200-1721001599@excelfl.org
SUMMARY:Back to School Drive
DESCRIPTION:We’re on a mission to bring ease to parents and students by providing assistance in purchasing school supplies. Let’s equip our children to begin their school year ready to EXCEL! \nGive to our Back-to-School Fund by one of the following ways: \n\nChurch Center – Click here.\nText2Give – Text the amount followed by B2S to 84321.\n\nIf you would like assistance with school supplies for our child(ren)\, please register below:\n \nRegister Here!
URL:https://excelfl.org/event/back-to-school-drive-4/2024-07-14/
LOCATION:3563 Philips Highway\, Building C\, Jacksonville\, FL\, 32207\, United States
ATTACH;FMTTYPE=image/jpeg:https://excelfl.org/wp-content/uploads/2024/06/B2S-Web_CC-v2.jpg
GEO:30.2907109;-81.634021
X-APPLE-STRUCTURED-LOCATION;VALUE=URI;X-ADDRESS=3563 Philips Highway Building C Jacksonville FL 32207 United States;X-APPLE-RADIUS=500;X-TITLE=3563 Philips Highway\, Building C:geo:-81.634021,30.2907109
END:VEVENT
BEGIN:VEVENT
DTSTART;VALUE=DATE:20240707
DTEND;VALUE=DATE:20240708
DTSTAMP:20260423T105543
CREATED:20240621T131511Z
LAST-MODIFIED:20240621T194035Z
UID:10001217-1720310400-1720396799@excelfl.org
SUMMARY:Back to School Drive
DESCRIPTION:We’re on a mission to bring ease to parents and students by providing assistance in purchasing school supplies. Let’s equip our children to begin their school year ready to EXCEL! \nGive to our Back-to-School Fund by one of the following ways: \n\nChurch Center – Click here.\nText2Give – Text the amount followed by B2S to 84321.\n\nIf you would like assistance with school supplies for our child(ren)\, please register below:\n \nRegister Here!
URL:https://excelfl.org/event/back-to-school-drive-4/2024-07-07/
LOCATION:3563 Philips Highway\, Building C\, Jacksonville\, FL\, 32207\, United States
ATTACH;FMTTYPE=image/jpeg:https://excelfl.org/wp-content/uploads/2024/06/B2S-Web_CC-v2.jpg
GEO:30.2907109;-81.634021
X-APPLE-STRUCTURED-LOCATION;VALUE=URI;X-ADDRESS=3563 Philips Highway Building C Jacksonville FL 32207 United States;X-APPLE-RADIUS=500;X-TITLE=3563 Philips Highway\, Building C:geo:-81.634021,30.2907109
END:VEVENT
BEGIN:VEVENT
DTSTART;VALUE=DATE:20240630
DTEND;VALUE=DATE:20240701
DTSTAMP:20260423T105543
CREATED:20240621T131511Z
LAST-MODIFIED:20240621T194035Z
UID:10001216-1719705600-1719791999@excelfl.org
SUMMARY:Back to School Drive
DESCRIPTION:We’re on a mission to bring ease to parents and students by providing assistance in purchasing school supplies. Let’s equip our children to begin their school year ready to EXCEL! \nGive to our Back-to-School Fund by one of the following ways: \n\nChurch Center – Click here.\nText2Give – Text the amount followed by B2S to 84321.\n\nIf you would like assistance with school supplies for our child(ren)\, please register below:\n \nRegister Here!
URL:https://excelfl.org/event/back-to-school-drive-4/2024-06-30/
LOCATION:3563 Philips Highway\, Building C\, Jacksonville\, FL\, 32207\, United States
ATTACH;FMTTYPE=image/jpeg:https://excelfl.org/wp-content/uploads/2024/06/B2S-Web_CC-v2.jpg
GEO:30.2907109;-81.634021
X-APPLE-STRUCTURED-LOCATION;VALUE=URI;X-ADDRESS=3563 Philips Highway Building C Jacksonville FL 32207 United States;X-APPLE-RADIUS=500;X-TITLE=3563 Philips Highway\, Building C:geo:-81.634021,30.2907109
END:VEVENT
BEGIN:VEVENT
DTSTART;VALUE=DATE:20240623
DTEND;VALUE=DATE:20240624
DTSTAMP:20260423T105543
CREATED:20240621T131511Z
LAST-MODIFIED:20240621T194035Z
UID:10001215-1719100800-1719187199@excelfl.org
SUMMARY:Back to School Drive
DESCRIPTION:We’re on a mission to bring ease to parents and students by providing assistance in purchasing school supplies. Let’s equip our children to begin their school year ready to EXCEL! \nGive to our Back-to-School Fund by one of the following ways: \n\nChurch Center – Click here.\nText2Give – Text the amount followed by B2S to 84321.\n\nIf you would like assistance with school supplies for our child(ren)\, please register below:\n \nRegister Here!
URL:https://excelfl.org/event/back-to-school-drive-4/2024-06-23/
LOCATION:3563 Philips Highway\, Building C\, Jacksonville\, FL\, 32207\, United States
ATTACH;FMTTYPE=image/jpeg:https://excelfl.org/wp-content/uploads/2024/06/B2S-Web_CC-v2.jpg
GEO:30.2907109;-81.634021
X-APPLE-STRUCTURED-LOCATION;VALUE=URI;X-ADDRESS=3563 Philips Highway Building C Jacksonville FL 32207 United States;X-APPLE-RADIUS=500;X-TITLE=3563 Philips Highway\, Building C:geo:-81.634021,30.2907109
END:VEVENT
BEGIN:VEVENT
DTSTART;VALUE=DATE:20240310
DTEND;VALUE=DATE:20240311
DTSTAMP:20260423T105543
CREATED:20240216T172236Z
LAST-MODIFIED:20240216T172308Z
UID:10001209-1710028800-1710115199@excelfl.org
SUMMARY:Daylight Saving Time
DESCRIPTION:SPRING FORWARD! \nDaylight Saving time begins Sunday\, March 10th! \nDon’t forget to set your clocks AHEAD one hour before you go to bed on Saturday\, March 9th!
URL:https://excelfl.org/event/daylight-saving-time-2/
LOCATION:3563 Philips Highway\, Building C\, Jacksonville\, FL\, 32207\, United States
CATEGORIES:Events
ATTACH;FMTTYPE=image/jpeg:https://excelfl.org/wp-content/uploads/2024/02/Daylight-Saving-Time_1920x1080.jpg
ORGANIZER;CN="EXCEL Church":MAILTO:events@excelfl.org
GEO:30.2907109;-81.634021
X-APPLE-STRUCTURED-LOCATION;VALUE=URI;X-ADDRESS=3563 Philips Highway Building C Jacksonville FL 32207 United States;X-APPLE-RADIUS=500;X-TITLE=3563 Philips Highway\, Building C:geo:-81.634021,30.2907109
END:VEVENT
BEGIN:VEVENT
DTSTART;TZID=America/New_York:20230408T100000
DTEND;TZID=America/New_York:20230408T110000
DTSTAMP:20260423T105543
CREATED:20230105T153326Z
LAST-MODIFIED:20230105T153756Z
UID:10001018-1680948000-1680951600@excelfl.org
SUMMARY:Unlocked Water Baptism
DESCRIPTION:Unlock 2023 by publicly declaring your faith as a believer in Jesus Christ! \nAs a body\, we are standing on Matthew 3:16-17 for our Water Baptism. \nAs Jesus rose from the water\, the “Heavens was opened”– UNLOCKED –for the Spirit of God to descend from Heaven as a dove (Matt 3:16). Jesus was declared the Son of God and affirmed by God in the moment of his ascension out of the water. After this moment\, Jesus was UNLOCKED and began His ministry. \nWe as a church\, decree and declare that all who are baptized are UNLOCKED to their purpose and to a new dimension of their relationship with Jesus Christ! \nClick here register
URL:https://excelfl.org/event/unlocked-water-baptism-2/
LOCATION:3563 Philips Highway\, Building C\, Jacksonville\, FL\, 32207\, United States
CATEGORIES:Events
ATTACH;FMTTYPE=image/jpeg:https://excelfl.org/wp-content/uploads/2023/01/Web-Graphic-Unlocked-Baptism.jpg
ORGANIZER;CN="EXCEL Church":MAILTO:events@excelfl.org
GEO:30.2907109;-81.634021
X-APPLE-STRUCTURED-LOCATION;VALUE=URI;X-ADDRESS=3563 Philips Highway Building C Jacksonville FL 32207 United States;X-APPLE-RADIUS=500;X-TITLE=3563 Philips Highway\, Building C:geo:-81.634021,30.2907109
END:VEVENT
BEGIN:VEVENT
DTSTART;TZID=America/New_York:20221029T184500
DTEND;TZID=America/New_York:20221029T203000
DTSTAMP:20260423T105543
CREATED:20220923T193850Z
LAST-MODIFIED:20220923T194051Z
UID:10001014-1667069100-1667075400@excelfl.org
SUMMARY:Youth Escape Room
DESCRIPTION:eYouth! Let’s have some FUN ! \nMiddle and High Schoolers are invited. \nSunday\, October 29th EXCEL teens (6th -12th grade) will meet at Breakout Games. The cost is $10 for your teen to attend. \nSpace is limited and registration is required to participate. \nParent/Guardian must be an EXCEL Member for youth to attend this event. \nRegister Here!
URL:https://excelfl.org/event/youth-escape-room/
LOCATION:3563 Philips Highway\, Building C\, Jacksonville\, FL\, 32207\, United States
ATTACH;FMTTYPE=image/png:https://excelfl.org/wp-content/uploads/2022/09/Youth-Escape-Room.png
ORGANIZER;CN="EXCEL Church":MAILTO:events@excelfl.org
GEO:30.2907109;-81.634021
X-APPLE-STRUCTURED-LOCATION;VALUE=URI;X-ADDRESS=3563 Philips Highway Building C Jacksonville FL 32207 United States;X-APPLE-RADIUS=500;X-TITLE=3563 Philips Highway\, Building C:geo:-81.634021,30.2907109
END:VEVENT
BEGIN:VEVENT
DTSTART;TZID=America/New_York:20180804T100000
DTEND;TZID=America/New_York:20180804T110000
DTSTAMP:20260423T105543
CREATED:20180726T162746Z
LAST-MODIFIED:20180726T163528Z
UID:10000012-1533376800-1533380400@excelfl.org
SUMMARY:Departmental Leaders Meeting
DESCRIPTION:Attention Excel Department Leaders! On Saturday\, August 4th at 10 am\, Pastors will be meeting with us for a powerful time of direction and impartation as we continue to excel in this new year. You are anointed to engage\, encourage\, enrich\, empower and excel. So\, if you are a department leader\, mark your calendars and get ready to grow and excel in God\, in life\, and in this ministry! \nThis is a closed meeting for Department Leaders Only
URL:https://excelfl.org/event/departmental-leaders-meeting/
LOCATION:3563 Philips Highway\, Building C\, Jacksonville\, FL\, 32207\, United States
CATEGORIES:Meeting
ATTACH;FMTTYPE=image/jpeg:https://excelfl.org/wp-content/uploads/2018/07/DepartmentMeetingAugust2018Webad.jpg
GEO:30.2907109;-81.634021
X-APPLE-STRUCTURED-LOCATION;VALUE=URI;X-ADDRESS=3563 Philips Highway Building C Jacksonville FL 32207 United States;X-APPLE-RADIUS=500;X-TITLE=3563 Philips Highway\, Building C:geo:-81.634021,30.2907109
END:VEVENT
END:VCALENDAR