BEGIN:VCALENDAR
VERSION:2.0
PRODID:-//Excel Church - ECPv6.15.20//NONSGML v1.0//EN
CALSCALE:GREGORIAN
METHOD:PUBLISH
X-ORIGINAL-URL:https://excelfl.org
X-WR-CALDESC:Events for Excel Church
REFRESH-INTERVAL;VALUE=DURATION:PT1H
X-Robots-Tag:noindex
X-PUBLISHED-TTL:PT1H
BEGIN:VTIMEZONE
TZID:America/New_York
BEGIN:DAYLIGHT
TZOFFSETFROM:-0500
TZOFFSETTO:-0400
TZNAME:EDT
DTSTART:20160313T070000
END:DAYLIGHT
BEGIN:STANDARD
TZOFFSETFROM:-0400
TZOFFSETTO:-0500
TZNAME:EST
DTSTART:20161106T060000
END:STANDARD
BEGIN:DAYLIGHT
TZOFFSETFROM:-0500
TZOFFSETTO:-0400
TZNAME:EDT
DTSTART:20170312T070000
END:DAYLIGHT
BEGIN:STANDARD
TZOFFSETFROM:-0400
TZOFFSETTO:-0500
TZNAME:EST
DTSTART:20171105T060000
END:STANDARD
BEGIN:DAYLIGHT
TZOFFSETFROM:-0500
TZOFFSETTO:-0400
TZNAME:EDT
DTSTART:20180311T070000
END:DAYLIGHT
BEGIN:STANDARD
TZOFFSETFROM:-0400
TZOFFSETTO:-0500
TZNAME:EST
DTSTART:20181104T060000
END:STANDARD
BEGIN:DAYLIGHT
TZOFFSETFROM:-0500
TZOFFSETTO:-0400
TZNAME:EDT
DTSTART:20190310T070000
END:DAYLIGHT
BEGIN:STANDARD
TZOFFSETFROM:-0400
TZOFFSETTO:-0500
TZNAME:EST
DTSTART:20191103T060000
END:STANDARD
END:VTIMEZONE
BEGIN:VEVENT
DTSTART;TZID=America/New_York:20180722T140000
DTEND;TZID=America/New_York:20180722T170000
DTSTAMP:20260423T175733
CREATED:20180624T040356Z
LAST-MODIFIED:20180718T120148Z
UID:10000479-1532268000-1532278800@excelfl.org
SUMMARY:EXCEL Family Beach Day
DESCRIPTION:Get ready to attend our EXCEL Family Beach Day.  Food trucks available immediately following service in EXCEL west parking lot\, near Philips Hwy. Then meet at Hanna Park – Dolphin Plaza for fun and fellowship. Bring your beach gear.  Hanna Park charges a $5.00 entry fee per car. \nIf you are interested in getting baptized please click the link below. \nWater Baptism\n\n\nFood Trucks Menus\n\nAmbitious Eats – Wings & Sloppy Philly Jawn …………………..………….. Menu\nBig Island Bowls – Smoothies and Poke Bowls …………………………….. Menu\nMama’s Food – Latin American Style Cuisine……………………………….… Menu\nMurray Hillbilly – Vegan Cuisine………………………………………….…………….. Menu\nRosco’s Pizza – Pizza …………………………………………………………………………. Menu\nTasty Dog – Specialty Sausage & Hotdogs ……………………………………..Menu\nThe Icee Spot – Italian Icees……………………………………………………………… Menu
URL:https://excelfl.org/event/excel-family-beach-day/
LOCATION:Hanna Park\, 500 Wonderwood Dr\, Jacksonville\, FL 32233\, Jacksonville\, FL\, 32233\, United States
CATEGORIES:Events
ATTACH;FMTTYPE=image/jpeg:https://excelfl.org/wp-content/uploads/2018/06/FamilyBeachDayJuly2018Webad-1.jpg
GEO:30.3709252;-81.4067719
X-APPLE-STRUCTURED-LOCATION;VALUE=URI;X-ADDRESS=Hanna Park 500 Wonderwood Dr Jacksonville FL 32233 Jacksonville FL 32233 United States;X-APPLE-RADIUS=500;X-TITLE=500 Wonderwood Dr\, Jacksonville\, FL 32233:geo:-81.4067719,30.3709252
END:VEVENT
BEGIN:VEVENT
DTSTART;TZID=America/New_York:20170827T150000
DTEND;TZID=America/New_York:20170827T180000
DTSTAMP:20260423T175733
CREATED:20170804T191945Z
LAST-MODIFIED:20170815T154605Z
UID:10000453-1503846000-1503856800@excelfl.org
SUMMARY:Family Day at the Beach
DESCRIPTION:Bring your family to enjoy a fun day at the beach with your Excel Church family. \nFirst\, come hear the Word\, then join us at Dolphin Plaza at Hanna Park for a time of fun\, food and fellowship on Sunday\, August 27th from 3-6pm. \nBring a picnic lunch. Don’t forget your sunscreen\, chairs\, and beach gear! \nWe will have Football\, Volleyball and Sand Sculpting contest. \nIf you or you child 8 years or older are interested in being baptized during this event\, please register now: \nRegister Now\n 
URL:https://excelfl.org/event/family-day-beach/
LOCATION:Hanna Park\, 500 Wonderwood Dr\, Jacksonville\, FL 32233\, Jacksonville\, FL\, 32233\, United States
CATEGORIES:Events
ATTACH;FMTTYPE=image/jpeg:https://excelfl.org/wp-content/uploads/2017/08/FamilyDay720x406Webad.jpg
GEO:30.3709252;-81.4067719
X-APPLE-STRUCTURED-LOCATION;VALUE=URI;X-ADDRESS=Hanna Park 500 Wonderwood Dr Jacksonville FL 32233 Jacksonville FL 32233 United States;X-APPLE-RADIUS=500;X-TITLE=500 Wonderwood Dr\, Jacksonville\, FL 32233:geo:-81.4067719,30.3709252
END:VEVENT
END:VCALENDAR