BEGIN:VCALENDAR
VERSION:2.0
PRODID:-//Excel Church - ECPv6.15.20//NONSGML v1.0//EN
CALSCALE:GREGORIAN
METHOD:PUBLISH
X-WR-CALNAME:Excel Church
X-ORIGINAL-URL:https://excelfl.org
X-WR-CALDESC:Events for Excel Church
REFRESH-INTERVAL;VALUE=DURATION:PT1H
X-Robots-Tag:noindex
X-PUBLISHED-TTL:PT1H
BEGIN:VTIMEZONE
TZID:America/New_York
BEGIN:DAYLIGHT
TZOFFSETFROM:-0500
TZOFFSETTO:-0400
TZNAME:EDT
DTSTART:20180311T070000
END:DAYLIGHT
BEGIN:STANDARD
TZOFFSETFROM:-0400
TZOFFSETTO:-0500
TZNAME:EST
DTSTART:20181104T060000
END:STANDARD
BEGIN:DAYLIGHT
TZOFFSETFROM:-0500
TZOFFSETTO:-0400
TZNAME:EDT
DTSTART:20190310T070000
END:DAYLIGHT
BEGIN:STANDARD
TZOFFSETFROM:-0400
TZOFFSETTO:-0500
TZNAME:EST
DTSTART:20191103T060000
END:STANDARD
BEGIN:DAYLIGHT
TZOFFSETFROM:-0500
TZOFFSETTO:-0400
TZNAME:EDT
DTSTART:20200308T070000
END:DAYLIGHT
BEGIN:STANDARD
TZOFFSETFROM:-0400
TZOFFSETTO:-0500
TZNAME:EST
DTSTART:20201101T060000
END:STANDARD
END:VTIMEZONE
BEGIN:VEVENT
DTSTART;TZID=America/New_York:20190425T190000
DTEND;TZID=America/New_York:20190425T203000
DTSTAMP:20260424T022054
CREATED:20190323T044540Z
LAST-MODIFIED:20190328T233644Z
UID:10000647-1556218800-1556224200@excelfl.org
SUMMARY:Health & Fitness Month
DESCRIPTION:Excel Church\, come participate as we host our annual Health and Fitness Month each Thursday night in April. We will have activities for adults of all ages and all fitness levels. Below are some of the activities we will have to offer:\n\nYoga – Week 1 (April 4th)\nHigh-Intensity Interval Training (HIIT) workout! – Week 2 (April 11th)\nZumba – Week 3 (April 18th)\nKickboxing – Week 4 (April 25th)\nWalking – Each Thursday\nBasketball – Each Thursday\n\nBeginning on Thursday\, April 4that 7:00pm\, join us at the Sportsplex next door to the church and let’s have fun while we stay healthy! \nParents\, please be advised; children are not allowed to be at Jax Ice & Sportsplex without parental supervision. We received a few complaints last week about children being unattended. Even more importantly for the safety of our Excel kids\, we stress that if you do choose to bring your child with you\, they must remain with you at all times. \nAlso\, join our private social media group on Facebook to share your goals for the month and to receive health & fitness tips\, encouragement\, and support.   This is a no judgement zone!
URL:https://excelfl.org/event/health-fitness-month/2019-04-25/
LOCATION:Jacksonville Ice & Sportsplex\, 3605 Philips Hwy\, Jacksonville\, FL\, 32207\, United States
CATEGORIES:Events
ATTACH;FMTTYPE=image/jpeg:https://excelfl.org/wp-content/uploads/2017/02/Health-and-Fitness-Web-Ad-ver2.jpg
END:VEVENT
BEGIN:VEVENT
DTSTART;TZID=America/New_York:20190418T190000
DTEND;TZID=America/New_York:20190418T203000
DTSTAMP:20260424T022054
CREATED:20190323T044540Z
LAST-MODIFIED:20190328T233644Z
UID:10000646-1555614000-1555619400@excelfl.org
SUMMARY:Health & Fitness Month
DESCRIPTION:Excel Church\, come participate as we host our annual Health and Fitness Month each Thursday night in April. We will have activities for adults of all ages and all fitness levels. Below are some of the activities we will have to offer:\n\nYoga – Week 1 (April 4th)\nHigh-Intensity Interval Training (HIIT) workout! – Week 2 (April 11th)\nZumba – Week 3 (April 18th)\nKickboxing – Week 4 (April 25th)\nWalking – Each Thursday\nBasketball – Each Thursday\n\nBeginning on Thursday\, April 4that 7:00pm\, join us at the Sportsplex next door to the church and let’s have fun while we stay healthy! \nParents\, please be advised; children are not allowed to be at Jax Ice & Sportsplex without parental supervision. We received a few complaints last week about children being unattended. Even more importantly for the safety of our Excel kids\, we stress that if you do choose to bring your child with you\, they must remain with you at all times. \nAlso\, join our private social media group on Facebook to share your goals for the month and to receive health & fitness tips\, encouragement\, and support.   This is a no judgement zone!
URL:https://excelfl.org/event/health-fitness-month/2019-04-18/
LOCATION:Jacksonville Ice & Sportsplex\, 3605 Philips Hwy\, Jacksonville\, FL\, 32207\, United States
CATEGORIES:Events
ATTACH;FMTTYPE=image/jpeg:https://excelfl.org/wp-content/uploads/2017/02/Health-and-Fitness-Web-Ad-ver2.jpg
END:VEVENT
BEGIN:VEVENT
DTSTART;TZID=America/New_York:20190411T190000
DTEND;TZID=America/New_York:20190411T203000
DTSTAMP:20260424T022054
CREATED:20190323T044540Z
LAST-MODIFIED:20190328T233644Z
UID:10000645-1555009200-1555014600@excelfl.org
SUMMARY:Health & Fitness Month
DESCRIPTION:Excel Church\, come participate as we host our annual Health and Fitness Month each Thursday night in April. We will have activities for adults of all ages and all fitness levels. Below are some of the activities we will have to offer:\n\nYoga – Week 1 (April 4th)\nHigh-Intensity Interval Training (HIIT) workout! – Week 2 (April 11th)\nZumba – Week 3 (April 18th)\nKickboxing – Week 4 (April 25th)\nWalking – Each Thursday\nBasketball – Each Thursday\n\nBeginning on Thursday\, April 4that 7:00pm\, join us at the Sportsplex next door to the church and let’s have fun while we stay healthy! \nParents\, please be advised; children are not allowed to be at Jax Ice & Sportsplex without parental supervision. We received a few complaints last week about children being unattended. Even more importantly for the safety of our Excel kids\, we stress that if you do choose to bring your child with you\, they must remain with you at all times. \nAlso\, join our private social media group on Facebook to share your goals for the month and to receive health & fitness tips\, encouragement\, and support.   This is a no judgement zone!
URL:https://excelfl.org/event/health-fitness-month/2019-04-11/
LOCATION:Jacksonville Ice & Sportsplex\, 3605 Philips Hwy\, Jacksonville\, FL\, 32207\, United States
CATEGORIES:Events
ATTACH;FMTTYPE=image/jpeg:https://excelfl.org/wp-content/uploads/2017/02/Health-and-Fitness-Web-Ad-ver2.jpg
END:VEVENT
BEGIN:VEVENT
DTSTART;TZID=America/New_York:20190404T190000
DTEND;TZID=America/New_York:20190404T203000
DTSTAMP:20260424T022054
CREATED:20190323T044540Z
LAST-MODIFIED:20190328T233644Z
UID:10000644-1554404400-1554409800@excelfl.org
SUMMARY:Health & Fitness Month
DESCRIPTION:Excel Church\, come participate as we host our annual Health and Fitness Month each Thursday night in April. We will have activities for adults of all ages and all fitness levels. Below are some of the activities we will have to offer:\n\nYoga – Week 1 (April 4th)\nHigh-Intensity Interval Training (HIIT) workout! – Week 2 (April 11th)\nZumba – Week 3 (April 18th)\nKickboxing – Week 4 (April 25th)\nWalking – Each Thursday\nBasketball – Each Thursday\n\nBeginning on Thursday\, April 4that 7:00pm\, join us at the Sportsplex next door to the church and let’s have fun while we stay healthy! \nParents\, please be advised; children are not allowed to be at Jax Ice & Sportsplex without parental supervision. We received a few complaints last week about children being unattended. Even more importantly for the safety of our Excel kids\, we stress that if you do choose to bring your child with you\, they must remain with you at all times. \nAlso\, join our private social media group on Facebook to share your goals for the month and to receive health & fitness tips\, encouragement\, and support.   This is a no judgement zone!
URL:https://excelfl.org/event/health-fitness-month/2019-04-04/
LOCATION:Jacksonville Ice & Sportsplex\, 3605 Philips Hwy\, Jacksonville\, FL\, 32207\, United States
CATEGORIES:Events
ATTACH;FMTTYPE=image/jpeg:https://excelfl.org/wp-content/uploads/2017/02/Health-and-Fitness-Web-Ad-ver2.jpg
END:VEVENT
END:VCALENDAR