BEGIN:VCALENDAR
VERSION:2.0
PRODID:-//Excel Church - ECPv6.15.20//NONSGML v1.0//EN
CALSCALE:GREGORIAN
METHOD:PUBLISH
X-ORIGINAL-URL:https://excelfl.org
X-WR-CALDESC:Events for Excel Church
REFRESH-INTERVAL;VALUE=DURATION:PT1H
X-Robots-Tag:noindex
X-PUBLISHED-TTL:PT1H
BEGIN:VTIMEZONE
TZID:America/New_York
BEGIN:DAYLIGHT
TZOFFSETFROM:-0500
TZOFFSETTO:-0400
TZNAME:EDT
DTSTART:20160313T070000
END:DAYLIGHT
BEGIN:STANDARD
TZOFFSETFROM:-0400
TZOFFSETTO:-0500
TZNAME:EST
DTSTART:20161106T060000
END:STANDARD
BEGIN:DAYLIGHT
TZOFFSETFROM:-0500
TZOFFSETTO:-0400
TZNAME:EDT
DTSTART:20170312T070000
END:DAYLIGHT
BEGIN:STANDARD
TZOFFSETFROM:-0400
TZOFFSETTO:-0500
TZNAME:EST
DTSTART:20171105T060000
END:STANDARD
BEGIN:DAYLIGHT
TZOFFSETFROM:-0500
TZOFFSETTO:-0400
TZNAME:EDT
DTSTART:20180311T070000
END:DAYLIGHT
BEGIN:STANDARD
TZOFFSETFROM:-0400
TZOFFSETTO:-0500
TZNAME:EST
DTSTART:20181104T060000
END:STANDARD
END:VTIMEZONE
BEGIN:VEVENT
DTSTART;TZID=America/New_York:20171109T190000
DTEND;TZID=America/New_York:20171109T210000
DTSTAMP:20260423T155501
CREATED:20171014T033107Z
LAST-MODIFIED:20171102T133127Z
UID:10000463-1510254000-1510261200@excelfl.org
SUMMARY:Military Family Veterans Appreciation Dinner
DESCRIPTION:We are excited to announce that we will celebrate all military personnel and their families at our annual Veterans Appreciation Dinner on Thursday\, November 9th at 7:00pm. The dinner will be held at The River Cove Officers Club Building 10 Naval Air Station Jacksonville\, FL 32212. This is a special night to give honor where honor is due! \nAll active\, inactive\, and retired members of the Armed Services are invited to attend this time of tribute and fellowship. As always\, this event is free\, but registration is required. \nPlease be advised that registration is now closed!
URL:https://excelfl.org/event/military-family-veterans-appreciation-dinner/
LOCATION:NAS Jax\, The River Cove Officers Club - Building 10\, Jacksonville\, FL\, 32212\, United States
CATEGORIES:Events
ATTACH;FMTTYPE=image/jpeg:https://excelfl.org/wp-content/uploads/2017/10/720x406VeteransAppreciationWebad.jpg
GEO:30.2140278;-81.680078
X-APPLE-STRUCTURED-LOCATION;VALUE=URI;X-ADDRESS=NAS Jax The River Cove Officers Club - Building 10 Jacksonville FL 32212 United States;X-APPLE-RADIUS=500;X-TITLE=The River Cove Officers Club - Building 10:geo:-81.680078,30.2140278
END:VEVENT
END:VCALENDAR