BEGIN:VCALENDAR
VERSION:2.0
PRODID:-//Excel Church - ECPv6.15.20//NONSGML v1.0//EN
CALSCALE:GREGORIAN
METHOD:PUBLISH
X-WR-CALNAME:Excel Church
X-ORIGINAL-URL:https://excelfl.org
X-WR-CALDESC:Events for Excel Church
REFRESH-INTERVAL;VALUE=DURATION:PT1H
X-Robots-Tag:noindex
X-PUBLISHED-TTL:PT1H
BEGIN:VTIMEZONE
TZID:America/New_York
BEGIN:DAYLIGHT
TZOFFSETFROM:-0500
TZOFFSETTO:-0400
TZNAME:EDT
DTSTART:20190310T070000
END:DAYLIGHT
BEGIN:STANDARD
TZOFFSETFROM:-0400
TZOFFSETTO:-0500
TZNAME:EST
DTSTART:20191103T060000
END:STANDARD
BEGIN:DAYLIGHT
TZOFFSETFROM:-0500
TZOFFSETTO:-0400
TZNAME:EDT
DTSTART:20200308T070000
END:DAYLIGHT
BEGIN:STANDARD
TZOFFSETFROM:-0400
TZOFFSETTO:-0500
TZNAME:EST
DTSTART:20201101T060000
END:STANDARD
BEGIN:DAYLIGHT
TZOFFSETFROM:-0500
TZOFFSETTO:-0400
TZNAME:EDT
DTSTART:20210314T070000
END:DAYLIGHT
BEGIN:STANDARD
TZOFFSETFROM:-0400
TZOFFSETTO:-0500
TZNAME:EST
DTSTART:20211107T060000
END:STANDARD
BEGIN:DAYLIGHT
TZOFFSETFROM:-0500
TZOFFSETTO:-0400
TZNAME:EDT
DTSTART:20220313T070000
END:DAYLIGHT
BEGIN:STANDARD
TZOFFSETFROM:-0400
TZOFFSETTO:-0500
TZNAME:EST
DTSTART:20221106T060000
END:STANDARD
END:VTIMEZONE
BEGIN:VEVENT
DTSTART;TZID=America/New_York:20211226T090000
DTEND;TZID=America/New_York:20211226T100000
DTSTAMP:20260423T124124
CREATED:20200102T235335Z
LAST-MODIFIED:20211207T004001Z
UID:10000684-1640509200-1640512800@excelfl.org
SUMMARY:New Member Growth Track - Teams 401
DESCRIPTION:Our New Member Growth Track is designed to help you connect with your church\, discover your God given strengths\, EXCEL in God\, and EXCEL Life. The Growth Track is made up of the following four steps: \nStep 1 – Membership 101 (1st Sundays\, 9:00 am – 10:00 am) \nStep 2 – Essentials 201 (2nd Sundays\, 9:00 am – 10:00 am) \nStep 3 – Discover 301 (3rd Sundays\, 9:00 am – 10:00 am) \nPlease be advised you must complete the Spiritual Gifts Assessment prior to coming to Discover 301.  Click Here to complete the Assessment. \nStep 4 – Teams 401 (4th Sundays\, 9:00 am – 10:00 am) \nPlease note that you do not have to begin at Step 1. 
URL:https://excelfl.org/event/new-members-growth-track-teams-401-2-2021-12-26/
LOCATION:via Zoom\, via Zoom\, Registration Required\, FL
CATEGORIES:Events,Growth Track
ATTACH;FMTTYPE=image/jpeg:https://excelfl.org/wp-content/uploads/2020/01/Team_720x406-copy.jpg
END:VEVENT
BEGIN:VEVENT
DTSTART;TZID=America/New_York:20211219T090000
DTEND;TZID=America/New_York:20211219T100000
DTSTAMP:20260423T124124
CREATED:20190127T025431Z
LAST-MODIFIED:20211207T003921Z
UID:10000601-1639904400-1639908000@excelfl.org
SUMMARY:New Member Growth Track - Discover 301
DESCRIPTION:Our New Member Growth Track is designed to help you connect with your church\, discover your God given strengths\, EXCEL in God\, and EXCEL Life. The Growth Track is made up of the following four steps: \nStep 1 – Membership 101 (1st Sundays\, 9:00 am – 10:00 am) \nStep 2 – Essentials 201 (2nd Sundays\, 9:00 am – 10:00 am) \nStep 3 – Discover 301 (3rd Sundays\, 9:00 am – 10:00 am) \nPlease be advised you must complete the Spiritual Gifts Assessment prior to coming to Discover 301.  Click Here to complete the Assessment. \nStep 4 – Teams 401 (4th Sundays\, 9:00 am – 10:00 am) \nPlease note that you do not have to begin at Step 1.  \n 
URL:https://excelfl.org/event/new-member-growth-track-4-essentials-to-excel-in-god-part-1-2020-03-15-2020-07-19-2021-12-19/
LOCATION:via Zoom\, via Zoom\, Registration Required\, FL
CATEGORIES:Events,Growth Track
ATTACH;FMTTYPE=image/jpeg:https://excelfl.org/wp-content/uploads/2020/01/Discover_720x406.jpg
END:VEVENT
BEGIN:VEVENT
DTSTART;TZID=America/New_York:20211212T090000
DTEND;TZID=America/New_York:20211212T100000
DTSTAMP:20260423T124124
CREATED:20190127T025106Z
LAST-MODIFIED:20211207T003810Z
UID:10000070-1639299600-1639303200@excelfl.org
SUMMARY:New Member Growth Track - Essentials 201
DESCRIPTION:Our New Member Growth Track is designed to help you connect with your church\, discover your God given strengths\, EXCEL in God\, and EXCEL Life. The Growth Track is made up of the following four steps: \nStep 1 – Membership 101 (1st Sundays\, 9:00 am – 10:00 am) \nStep 2 – Essentials 201 (2nd Sundays\, 9:00 am – 10:00 am) \nStep 3 – Discover 301 (3rd Sundays\, 9:00 am – 10:00 am) \nPlease be advised you must complete the Spiritual Gifts Assessment prior to coming to Discover 301.  Click Here to complete the Assessment. \nStep 4 – Teams 401 (4th Sundays\, 9:00 am – 10:00 am) \nPlease note that you do not have to begin at Step 1.  Sign up now to get started at the upcoming class. \nSign Up Now!
URL:https://excelfl.org/event/new-member-growth-track-discover-your-strengths-2020-03-08-2021-12-12/
LOCATION:via Zoom\, via Zoom\, Registration Required\, FL
CATEGORIES:Events,Growth Track
ATTACH;FMTTYPE=image/jpeg:https://excelfl.org/wp-content/uploads/2020/01/Essentials_720x406.jpg
END:VEVENT
BEGIN:VEVENT
DTSTART;TZID=America/New_York:20210221T173000
DTEND;TZID=America/New_York:20210221T190000
DTSTAMP:20260423T124124
CREATED:20210203T180611Z
LAST-MODIFIED:20210218T114031Z
UID:10000741-1613928600-1613934000@excelfl.org
SUMMARY:Cookies & Karaoke Night
DESCRIPTION:EXCEL Kids is excited to announce our first Cookies & Karaoke Night!! \nJoin us on Sunday\, February 21\, 2021\, 5:30 pm – 7:00 pm via Zoom. Let’s sing while we bake and decorate cookies! \nThe deadline for registration was Wednesday\, February 17\, 2021. After registering you will receive a Zoom invite on Saturday\, February 20th. \nEach registered participant can pick up the ingredients and instructions at EXCEL Church on Friday\, February 19th from 9:00 am to 4:00 pm or on Sunday\, February 21st from 9:00 am – 10:00 am. \nWe are going to have some fun fellowshipping with our EXCEL Kids families! Our hearts will be lifted just to see all of you. \nEXCEL Church continues to honor your role as your child’s primary influence. Our heart’s desire is to partner with you to take your child’s/children’s Spiritual growth to another level. In the spirit of the Word of the Lord for this season: Pray. Praise. & Give Thanks. We praise God for you! \nMark Calendars:  \nCookies & Karaoke Night \nDate: Sunday\, February 21\, 2021 \nTime: 5:30 pm to 7:00 pm \nWhere: Zoom (You will receive an invite on Saturday\, February 20th) \n  \nSupply Pick up Dates \nDate/Time 1: Friday\, February 19 (9:00 am – 4:00 pm) \nDate/Time 2: Sunday\, February 21 (9:00 am – 10:00 am) \nWhere: EXCEL Church \n  \nRegistration Deadline: Wednesday\, February 17\, 2021. \nIf you have any questions\, please email us at excelkids@excelfl.org. \nPlease note this is an EXCEL Kids only event.
URL:https://excelfl.org/event/cookies-karaoke-night/
LOCATION:via Zoom\, via Zoom\, Registration Required\, FL
CATEGORIES:Events
ATTACH;FMTTYPE=image/jpeg:https://excelfl.org/wp-content/uploads/2021/02/Cookies-and-Karaoke_Web-scaled.jpg
ORGANIZER;CN="EXCEL Church":MAILTO:events@excelfl.org
END:VEVENT
BEGIN:VEVENT
DTSTART;TZID=America/New_York:20201204T190000
DTEND;TZID=America/New_York:20201204T203000
DTSTAMP:20260423T124124
CREATED:20201108T155353Z
LAST-MODIFIED:20201113T173431Z
UID:10000730-1607108400-1607113800@excelfl.org
SUMMARY:Processing the Death of Loved Ones
DESCRIPTION:At EXCEL Church\, we understand the complicated emotions and grief we experience when a loved one passes. \nPaul wrote in 1 Thessalonians 4:13 TPT\, “Beloved brothers and sisters\, we want you to be quite certain about the truth concerning those who have passed away so that you won’t be overwhelmed with grief like many others who have no hope.” \nAs believers\, we have hope\, and in our next abundant life group “Processing the Death of Loved Ones\,” we will dive into the depths of the stages of grief and how to live after loss. Wherever you are in your process\, we believe you will benefit greatly from the word and from the testimonies of people who have come through tremendous loss. \nElder Anthony Moore will facilitate this special two-day class via Zoom on December 3rd and 4th at 7 PM. \nRegister Here
URL:https://excelfl.org/event/bereavement-class-2/2020-12-04/
LOCATION:via Zoom\, via Zoom\, Registration Required\, FL
CATEGORIES:Events
ATTACH;FMTTYPE=image/jpeg:https://excelfl.org/wp-content/uploads/2020/11/Processing-the-Death-of-Loved-Ones-WebAd-scaled.jpg
ORGANIZER;CN="EXCEL Church":MAILTO:events@excelfl.org
END:VEVENT
BEGIN:VEVENT
DTSTART;TZID=America/New_York:20201203T190000
DTEND;TZID=America/New_York:20201203T203000
DTSTAMP:20260423T124124
CREATED:20201108T155353Z
LAST-MODIFIED:20201113T173431Z
UID:10000729-1607022000-1607027400@excelfl.org
SUMMARY:Processing the Death of Loved Ones
DESCRIPTION:At EXCEL Church\, we understand the complicated emotions and grief we experience when a loved one passes. \nPaul wrote in 1 Thessalonians 4:13 TPT\, “Beloved brothers and sisters\, we want you to be quite certain about the truth concerning those who have passed away so that you won’t be overwhelmed with grief like many others who have no hope.” \nAs believers\, we have hope\, and in our next abundant life group “Processing the Death of Loved Ones\,” we will dive into the depths of the stages of grief and how to live after loss. Wherever you are in your process\, we believe you will benefit greatly from the word and from the testimonies of people who have come through tremendous loss. \nElder Anthony Moore will facilitate this special two-day class via Zoom on December 3rd and 4th at 7 PM. \nRegister Here
URL:https://excelfl.org/event/bereavement-class-2/2020-12-03/
LOCATION:via Zoom\, via Zoom\, Registration Required\, FL
CATEGORIES:Events
ATTACH;FMTTYPE=image/jpeg:https://excelfl.org/wp-content/uploads/2020/11/Processing-the-Death-of-Loved-Ones-WebAd-scaled.jpg
ORGANIZER;CN="EXCEL Church":MAILTO:events@excelfl.org
END:VEVENT
BEGIN:VEVENT
DTSTART;TZID=America/New_York:20201030T190000
DTEND;TZID=America/New_York:20201030T200000
DTSTAMP:20260423T124124
CREATED:20201017T174337Z
LAST-MODIFIED:20201022T002250Z
UID:10000724-1604084400-1604088000@excelfl.org
SUMMARY:Youth Paint Night
DESCRIPTION:D612 is excited to host a Virtual Youth Paint Night. Your teen can join us virtually as they are guided through painting a fall themed canvas. \nEvent: D612 Virtual Paint Night \nDate & Time: Friday\, October 30th at 7:00 pm \nRegistration required. \nAll paint supplies will be provided. \nAfter registration\, D612 Youth Paint Night supplies can be picked up on Sunday\, October 25th\, at the church from 9:00 am – 10:00 am or immediately after church service. \nAll Spots Are Filled!
URL:https://excelfl.org/event/youth-paint-night/
LOCATION:via Zoom\, via Zoom\, Registration Required\, FL
CATEGORIES:Events
ATTACH;FMTTYPE=image/jpeg:https://excelfl.org/wp-content/uploads/2020/10/Paint-Night-WEBAD-scaled.jpg
ORGANIZER;CN="EXCEL Church":MAILTO:events@excelfl.org
END:VEVENT
BEGIN:VEVENT
DTSTART;TZID=America/New_York:20201029T190000
DTEND;TZID=America/New_York:20201029T200000
DTSTAMP:20260423T124124
CREATED:20201009T213143Z
LAST-MODIFIED:20201009T213143Z
UID:10000722-1603998000-1604001600@excelfl.org
SUMMARY:Abundant Life Group - Breast Cancer Awareness
DESCRIPTION:You are invited to attend our upcoming Abundant Life Group on October 29th at 7pm via Zoom! This session will feature Breast Cancer Awareness for Men and Women.\n\nEXCEL’s very own Dr. Lynn Harper-Nimock and Christie Johnson ARNP will provide information to empower you to take preventative measures against Breast Cancer and take the apprehension out of testing and exams. You will also be encouraged by the testimony of a breast cancer overcomer!\n\nInvest in yourself!  Please register by October 28th and look for the Zoom information in your email. \nRegister Here!
URL:https://excelfl.org/event/abundant-life-group-breast-cancer-awareness/
LOCATION:via Zoom\, via Zoom\, Registration Required\, FL
CATEGORIES:Events
ATTACH;FMTTYPE=image/jpeg:https://excelfl.org/wp-content/uploads/2020/10/BCA-ALG-WebAd-scaled.jpg
ORGANIZER;CN="EXCEL Church":MAILTO:events@excelfl.org
END:VEVENT
END:VCALENDAR